BEGIN:VCALENDAR
VERSION:2.0
PRODID:-//First Presbyterian Church - ECPv6.15.20//NONSGML v1.0//EN
CALSCALE:GREGORIAN
METHOD:PUBLISH
X-WR-CALNAME:First Presbyterian Church
X-ORIGINAL-URL:https://fishchurch.org
X-WR-CALDESC:Events for First Presbyterian Church
REFRESH-INTERVAL;VALUE=DURATION:PT1H
X-Robots-Tag:noindex
X-PUBLISHED-TTL:PT1H
BEGIN:VTIMEZONE
TZID:America/New_York
BEGIN:DAYLIGHT
TZOFFSETFROM:-0500
TZOFFSETTO:-0400
TZNAME:EDT
DTSTART:20280312T070000
END:DAYLIGHT
BEGIN:STANDARD
TZOFFSETFROM:-0400
TZOFFSETTO:-0500
TZNAME:EST
DTSTART:20281105T060000
END:STANDARD
BEGIN:DAYLIGHT
TZOFFSETFROM:-0500
TZOFFSETTO:-0400
TZNAME:EDT
DTSTART:20290311T070000
END:DAYLIGHT
BEGIN:STANDARD
TZOFFSETFROM:-0400
TZOFFSETTO:-0500
TZNAME:EST
DTSTART:20291104T060000
END:STANDARD
BEGIN:DAYLIGHT
TZOFFSETFROM:-0500
TZOFFSETTO:-0400
TZNAME:EDT
DTSTART:20300310T070000
END:DAYLIGHT
BEGIN:STANDARD
TZOFFSETFROM:-0400
TZOFFSETTO:-0500
TZNAME:EST
DTSTART:20301103T060000
END:STANDARD
BEGIN:DAYLIGHT
TZOFFSETFROM:-0500
TZOFFSETTO:-0400
TZNAME:EDT
DTSTART:20310309T070000
END:DAYLIGHT
BEGIN:STANDARD
TZOFFSETFROM:-0400
TZOFFSETTO:-0500
TZNAME:EST
DTSTART:20311102T060000
END:STANDARD
END:VTIMEZONE
BEGIN:VEVENT
DTSTART;TZID=America/New_York:20291220T190000
DTEND;TZID=America/New_York:20291220T200000
DTSTAMP:20260425T224134
CREATED:20250430T183632Z
LAST-MODIFIED:20250430T190246Z
UID:10000791-1892487600-1892491200@fishchurch.org
SUMMARY:Steps to Recovery
DESCRIPTION:« All Events \n\n\nAdd to calendar \n  \n\nGoogle Calendar\niCalendar\nOutlook 365\nOutlook Live\n\nSteps to Recovery\nMay 1\n@\n7:00 pm\n–\n8:00 pm \nMeet in the lounge. \n  \n\n\n\nEaster Sunday Worship \n\nRed Cross Blood Drive
URL:https://fishchurch.org/event/steps-to-recovery/2029-12-20/
LOCATION:Lounge\, 1101 Bedford Street\, Stamford\, CT\, USA\, Stamford\, CT\, 06905\, United States
ATTACH;FMTTYPE=image/jpeg:https://fishchurch.org/wp-content/uploads/2025/04/Calendar-Event-Placeholder-Image.jpg
END:VEVENT
BEGIN:VEVENT
DTSTART;TZID=America/New_York:20291227T190000
DTEND;TZID=America/New_York:20291227T200000
DTSTAMP:20260425T224134
CREATED:20250430T183632Z
LAST-MODIFIED:20250430T190246Z
UID:10000792-1893092400-1893096000@fishchurch.org
SUMMARY:Steps to Recovery
DESCRIPTION:« All Events \n\n\nAdd to calendar \n  \n\nGoogle Calendar\niCalendar\nOutlook 365\nOutlook Live\n\nSteps to Recovery\nMay 1\n@\n7:00 pm\n–\n8:00 pm \nMeet in the lounge. \n  \n\n\n\nEaster Sunday Worship \n\nRed Cross Blood Drive
URL:https://fishchurch.org/event/steps-to-recovery/2029-12-27/
LOCATION:Lounge\, 1101 Bedford Street\, Stamford\, CT\, USA\, Stamford\, CT\, 06905\, United States
ATTACH;FMTTYPE=image/jpeg:https://fishchurch.org/wp-content/uploads/2025/04/Calendar-Event-Placeholder-Image.jpg
END:VEVENT
BEGIN:VEVENT
DTSTART;TZID=America/New_York:20300103T190000
DTEND;TZID=America/New_York:20300103T200000
DTSTAMP:20260425T224134
CREATED:20250430T183632Z
LAST-MODIFIED:20250430T190246Z
UID:10000793-1893697200-1893700800@fishchurch.org
SUMMARY:Steps to Recovery
DESCRIPTION:« All Events \n\n\nAdd to calendar \n  \n\nGoogle Calendar\niCalendar\nOutlook 365\nOutlook Live\n\nSteps to Recovery\nMay 1\n@\n7:00 pm\n–\n8:00 pm \nMeet in the lounge. \n  \n\n\n\nEaster Sunday Worship \n\nRed Cross Blood Drive
URL:https://fishchurch.org/event/steps-to-recovery/2030-01-03/
LOCATION:Lounge\, 1101 Bedford Street\, Stamford\, CT\, USA\, Stamford\, CT\, 06905\, United States
ATTACH;FMTTYPE=image/jpeg:https://fishchurch.org/wp-content/uploads/2025/04/Calendar-Event-Placeholder-Image.jpg
END:VEVENT
BEGIN:VEVENT
DTSTART;TZID=America/New_York:20300110T190000
DTEND;TZID=America/New_York:20300110T200000
DTSTAMP:20260425T224134
CREATED:20250430T183632Z
LAST-MODIFIED:20250430T190246Z
UID:10000794-1894302000-1894305600@fishchurch.org
SUMMARY:Steps to Recovery
DESCRIPTION:« All Events \n\n\nAdd to calendar \n  \n\nGoogle Calendar\niCalendar\nOutlook 365\nOutlook Live\n\nSteps to Recovery\nMay 1\n@\n7:00 pm\n–\n8:00 pm \nMeet in the lounge. \n  \n\n\n\nEaster Sunday Worship \n\nRed Cross Blood Drive
URL:https://fishchurch.org/event/steps-to-recovery/2030-01-10/
LOCATION:Lounge\, 1101 Bedford Street\, Stamford\, CT\, USA\, Stamford\, CT\, 06905\, United States
ATTACH;FMTTYPE=image/jpeg:https://fishchurch.org/wp-content/uploads/2025/04/Calendar-Event-Placeholder-Image.jpg
END:VEVENT
BEGIN:VEVENT
DTSTART;TZID=America/New_York:20300117T190000
DTEND;TZID=America/New_York:20300117T200000
DTSTAMP:20260425T224134
CREATED:20250430T183632Z
LAST-MODIFIED:20250430T190246Z
UID:10000795-1894906800-1894910400@fishchurch.org
SUMMARY:Steps to Recovery
DESCRIPTION:« All Events \n\n\nAdd to calendar \n  \n\nGoogle Calendar\niCalendar\nOutlook 365\nOutlook Live\n\nSteps to Recovery\nMay 1\n@\n7:00 pm\n–\n8:00 pm \nMeet in the lounge. \n  \n\n\n\nEaster Sunday Worship \n\nRed Cross Blood Drive
URL:https://fishchurch.org/event/steps-to-recovery/2030-01-17/
LOCATION:Lounge\, 1101 Bedford Street\, Stamford\, CT\, USA\, Stamford\, CT\, 06905\, United States
ATTACH;FMTTYPE=image/jpeg:https://fishchurch.org/wp-content/uploads/2025/04/Calendar-Event-Placeholder-Image.jpg
END:VEVENT
BEGIN:VEVENT
DTSTART;TZID=America/New_York:20300124T190000
DTEND;TZID=America/New_York:20300124T200000
DTSTAMP:20260425T224134
CREATED:20250430T183632Z
LAST-MODIFIED:20250430T190246Z
UID:10000796-1895511600-1895515200@fishchurch.org
SUMMARY:Steps to Recovery
DESCRIPTION:« All Events \n\n\nAdd to calendar \n  \n\nGoogle Calendar\niCalendar\nOutlook 365\nOutlook Live\n\nSteps to Recovery\nMay 1\n@\n7:00 pm\n–\n8:00 pm \nMeet in the lounge. \n  \n\n\n\nEaster Sunday Worship \n\nRed Cross Blood Drive
URL:https://fishchurch.org/event/steps-to-recovery/2030-01-24/
LOCATION:Lounge\, 1101 Bedford Street\, Stamford\, CT\, USA\, Stamford\, CT\, 06905\, United States
ATTACH;FMTTYPE=image/jpeg:https://fishchurch.org/wp-content/uploads/2025/04/Calendar-Event-Placeholder-Image.jpg
END:VEVENT
BEGIN:VEVENT
DTSTART;TZID=America/New_York:20300131T190000
DTEND;TZID=America/New_York:20300131T200000
DTSTAMP:20260425T224134
CREATED:20250430T183632Z
LAST-MODIFIED:20250430T190246Z
UID:10000797-1896116400-1896120000@fishchurch.org
SUMMARY:Steps to Recovery
DESCRIPTION:« All Events \n\n\nAdd to calendar \n  \n\nGoogle Calendar\niCalendar\nOutlook 365\nOutlook Live\n\nSteps to Recovery\nMay 1\n@\n7:00 pm\n–\n8:00 pm \nMeet in the lounge. \n  \n\n\n\nEaster Sunday Worship \n\nRed Cross Blood Drive
URL:https://fishchurch.org/event/steps-to-recovery/2030-01-31/
LOCATION:Lounge\, 1101 Bedford Street\, Stamford\, CT\, USA\, Stamford\, CT\, 06905\, United States
ATTACH;FMTTYPE=image/jpeg:https://fishchurch.org/wp-content/uploads/2025/04/Calendar-Event-Placeholder-Image.jpg
END:VEVENT
BEGIN:VEVENT
DTSTART;TZID=America/New_York:20300207T190000
DTEND;TZID=America/New_York:20300207T200000
DTSTAMP:20260425T224134
CREATED:20250430T183632Z
LAST-MODIFIED:20250430T190246Z
UID:10000798-1896721200-1896724800@fishchurch.org
SUMMARY:Steps to Recovery
DESCRIPTION:« All Events \n\n\nAdd to calendar \n  \n\nGoogle Calendar\niCalendar\nOutlook 365\nOutlook Live\n\nSteps to Recovery\nMay 1\n@\n7:00 pm\n–\n8:00 pm \nMeet in the lounge. \n  \n\n\n\nEaster Sunday Worship \n\nRed Cross Blood Drive
URL:https://fishchurch.org/event/steps-to-recovery/2030-02-07/
LOCATION:Lounge\, 1101 Bedford Street\, Stamford\, CT\, USA\, Stamford\, CT\, 06905\, United States
ATTACH;FMTTYPE=image/jpeg:https://fishchurch.org/wp-content/uploads/2025/04/Calendar-Event-Placeholder-Image.jpg
END:VEVENT
BEGIN:VEVENT
DTSTART;TZID=America/New_York:20300214T190000
DTEND;TZID=America/New_York:20300214T200000
DTSTAMP:20260425T224134
CREATED:20250430T183632Z
LAST-MODIFIED:20250430T190246Z
UID:10000799-1897326000-1897329600@fishchurch.org
SUMMARY:Steps to Recovery
DESCRIPTION:« All Events \n\n\nAdd to calendar \n  \n\nGoogle Calendar\niCalendar\nOutlook 365\nOutlook Live\n\nSteps to Recovery\nMay 1\n@\n7:00 pm\n–\n8:00 pm \nMeet in the lounge. \n  \n\n\n\nEaster Sunday Worship \n\nRed Cross Blood Drive
URL:https://fishchurch.org/event/steps-to-recovery/2030-02-14/
LOCATION:Lounge\, 1101 Bedford Street\, Stamford\, CT\, USA\, Stamford\, CT\, 06905\, United States
ATTACH;FMTTYPE=image/jpeg:https://fishchurch.org/wp-content/uploads/2025/04/Calendar-Event-Placeholder-Image.jpg
END:VEVENT
BEGIN:VEVENT
DTSTART;TZID=America/New_York:20300221T190000
DTEND;TZID=America/New_York:20300221T200000
DTSTAMP:20260425T224134
CREATED:20250430T183632Z
LAST-MODIFIED:20250430T190246Z
UID:10000800-1897930800-1897934400@fishchurch.org
SUMMARY:Steps to Recovery
DESCRIPTION:« All Events \n\n\nAdd to calendar \n  \n\nGoogle Calendar\niCalendar\nOutlook 365\nOutlook Live\n\nSteps to Recovery\nMay 1\n@\n7:00 pm\n–\n8:00 pm \nMeet in the lounge. \n  \n\n\n\nEaster Sunday Worship \n\nRed Cross Blood Drive
URL:https://fishchurch.org/event/steps-to-recovery/2030-02-21/
LOCATION:Lounge\, 1101 Bedford Street\, Stamford\, CT\, USA\, Stamford\, CT\, 06905\, United States
ATTACH;FMTTYPE=image/jpeg:https://fishchurch.org/wp-content/uploads/2025/04/Calendar-Event-Placeholder-Image.jpg
END:VEVENT
BEGIN:VEVENT
DTSTART;TZID=America/New_York:20300228T190000
DTEND;TZID=America/New_York:20300228T200000
DTSTAMP:20260425T224134
CREATED:20250430T183632Z
LAST-MODIFIED:20250430T190246Z
UID:10000801-1898535600-1898539200@fishchurch.org
SUMMARY:Steps to Recovery
DESCRIPTION:« All Events \n\n\nAdd to calendar \n  \n\nGoogle Calendar\niCalendar\nOutlook 365\nOutlook Live\n\nSteps to Recovery\nMay 1\n@\n7:00 pm\n–\n8:00 pm \nMeet in the lounge. \n  \n\n\n\nEaster Sunday Worship \n\nRed Cross Blood Drive
URL:https://fishchurch.org/event/steps-to-recovery/2030-02-28/
LOCATION:Lounge\, 1101 Bedford Street\, Stamford\, CT\, USA\, Stamford\, CT\, 06905\, United States
ATTACH;FMTTYPE=image/jpeg:https://fishchurch.org/wp-content/uploads/2025/04/Calendar-Event-Placeholder-Image.jpg
END:VEVENT
BEGIN:VEVENT
DTSTART;TZID=America/New_York:20300307T190000
DTEND;TZID=America/New_York:20300307T200000
DTSTAMP:20260425T224134
CREATED:20250430T183632Z
LAST-MODIFIED:20250430T190246Z
UID:10000802-1899140400-1899144000@fishchurch.org
SUMMARY:Steps to Recovery
DESCRIPTION:« All Events \n\n\nAdd to calendar \n  \n\nGoogle Calendar\niCalendar\nOutlook 365\nOutlook Live\n\nSteps to Recovery\nMay 1\n@\n7:00 pm\n–\n8:00 pm \nMeet in the lounge. \n  \n\n\n\nEaster Sunday Worship \n\nRed Cross Blood Drive
URL:https://fishchurch.org/event/steps-to-recovery/2030-03-07/
LOCATION:Lounge\, 1101 Bedford Street\, Stamford\, CT\, USA\, Stamford\, CT\, 06905\, United States
ATTACH;FMTTYPE=image/jpeg:https://fishchurch.org/wp-content/uploads/2025/04/Calendar-Event-Placeholder-Image.jpg
END:VEVENT
BEGIN:VEVENT
DTSTART;TZID=America/New_York:20300314T190000
DTEND;TZID=America/New_York:20300314T200000
DTSTAMP:20260425T224134
CREATED:20250430T183632Z
LAST-MODIFIED:20250430T190246Z
UID:10000803-1899745200-1899748800@fishchurch.org
SUMMARY:Steps to Recovery
DESCRIPTION:« All Events \n\n\nAdd to calendar \n  \n\nGoogle Calendar\niCalendar\nOutlook 365\nOutlook Live\n\nSteps to Recovery\nMay 1\n@\n7:00 pm\n–\n8:00 pm \nMeet in the lounge. \n  \n\n\n\nEaster Sunday Worship \n\nRed Cross Blood Drive
URL:https://fishchurch.org/event/steps-to-recovery/2030-03-14/
LOCATION:Lounge\, 1101 Bedford Street\, Stamford\, CT\, USA\, Stamford\, CT\, 06905\, United States
ATTACH;FMTTYPE=image/jpeg:https://fishchurch.org/wp-content/uploads/2025/04/Calendar-Event-Placeholder-Image.jpg
END:VEVENT
BEGIN:VEVENT
DTSTART;TZID=America/New_York:20300321T190000
DTEND;TZID=America/New_York:20300321T200000
DTSTAMP:20260425T224134
CREATED:20250430T183632Z
LAST-MODIFIED:20250430T190246Z
UID:10000804-1900350000-1900353600@fishchurch.org
SUMMARY:Steps to Recovery
DESCRIPTION:« All Events \n\n\nAdd to calendar \n  \n\nGoogle Calendar\niCalendar\nOutlook 365\nOutlook Live\n\nSteps to Recovery\nMay 1\n@\n7:00 pm\n–\n8:00 pm \nMeet in the lounge. \n  \n\n\n\nEaster Sunday Worship \n\nRed Cross Blood Drive
URL:https://fishchurch.org/event/steps-to-recovery/2030-03-21/
LOCATION:Lounge\, 1101 Bedford Street\, Stamford\, CT\, USA\, Stamford\, CT\, 06905\, United States
ATTACH;FMTTYPE=image/jpeg:https://fishchurch.org/wp-content/uploads/2025/04/Calendar-Event-Placeholder-Image.jpg
END:VEVENT
BEGIN:VEVENT
DTSTART;TZID=America/New_York:20300328T190000
DTEND;TZID=America/New_York:20300328T200000
DTSTAMP:20260425T224134
CREATED:20250430T183632Z
LAST-MODIFIED:20250430T190246Z
UID:10000805-1900954800-1900958400@fishchurch.org
SUMMARY:Steps to Recovery
DESCRIPTION:« All Events \n\n\nAdd to calendar \n  \n\nGoogle Calendar\niCalendar\nOutlook 365\nOutlook Live\n\nSteps to Recovery\nMay 1\n@\n7:00 pm\n–\n8:00 pm \nMeet in the lounge. \n  \n\n\n\nEaster Sunday Worship \n\nRed Cross Blood Drive
URL:https://fishchurch.org/event/steps-to-recovery/2030-03-28/
LOCATION:Lounge\, 1101 Bedford Street\, Stamford\, CT\, USA\, Stamford\, CT\, 06905\, United States
ATTACH;FMTTYPE=image/jpeg:https://fishchurch.org/wp-content/uploads/2025/04/Calendar-Event-Placeholder-Image.jpg
END:VEVENT
BEGIN:VEVENT
DTSTART;TZID=America/New_York:20300404T190000
DTEND;TZID=America/New_York:20300404T200000
DTSTAMP:20260425T224134
CREATED:20250430T183632Z
LAST-MODIFIED:20250430T190246Z
UID:10000806-1901559600-1901563200@fishchurch.org
SUMMARY:Steps to Recovery
DESCRIPTION:« All Events \n\n\nAdd to calendar \n  \n\nGoogle Calendar\niCalendar\nOutlook 365\nOutlook Live\n\nSteps to Recovery\nMay 1\n@\n7:00 pm\n–\n8:00 pm \nMeet in the lounge. \n  \n\n\n\nEaster Sunday Worship \n\nRed Cross Blood Drive
URL:https://fishchurch.org/event/steps-to-recovery/2030-04-04/
LOCATION:Lounge\, 1101 Bedford Street\, Stamford\, CT\, USA\, Stamford\, CT\, 06905\, United States
ATTACH;FMTTYPE=image/jpeg:https://fishchurch.org/wp-content/uploads/2025/04/Calendar-Event-Placeholder-Image.jpg
END:VEVENT
BEGIN:VEVENT
DTSTART;TZID=America/New_York:20300411T190000
DTEND;TZID=America/New_York:20300411T200000
DTSTAMP:20260425T224134
CREATED:20250430T183632Z
LAST-MODIFIED:20250430T190246Z
UID:10000807-1902164400-1902168000@fishchurch.org
SUMMARY:Steps to Recovery
DESCRIPTION:« All Events \n\n\nAdd to calendar \n  \n\nGoogle Calendar\niCalendar\nOutlook 365\nOutlook Live\n\nSteps to Recovery\nMay 1\n@\n7:00 pm\n–\n8:00 pm \nMeet in the lounge. \n  \n\n\n\nEaster Sunday Worship \n\nRed Cross Blood Drive
URL:https://fishchurch.org/event/steps-to-recovery/2030-04-11/
LOCATION:Lounge\, 1101 Bedford Street\, Stamford\, CT\, USA\, Stamford\, CT\, 06905\, United States
ATTACH;FMTTYPE=image/jpeg:https://fishchurch.org/wp-content/uploads/2025/04/Calendar-Event-Placeholder-Image.jpg
END:VEVENT
BEGIN:VEVENT
DTSTART;TZID=America/New_York:20300418T190000
DTEND;TZID=America/New_York:20300418T200000
DTSTAMP:20260425T224134
CREATED:20250430T183632Z
LAST-MODIFIED:20250430T190246Z
UID:10000808-1902769200-1902772800@fishchurch.org
SUMMARY:Steps to Recovery
DESCRIPTION:« All Events \n\n\nAdd to calendar \n  \n\nGoogle Calendar\niCalendar\nOutlook 365\nOutlook Live\n\nSteps to Recovery\nMay 1\n@\n7:00 pm\n–\n8:00 pm \nMeet in the lounge. \n  \n\n\n\nEaster Sunday Worship \n\nRed Cross Blood Drive
URL:https://fishchurch.org/event/steps-to-recovery/2030-04-18/
LOCATION:Lounge\, 1101 Bedford Street\, Stamford\, CT\, USA\, Stamford\, CT\, 06905\, United States
ATTACH;FMTTYPE=image/jpeg:https://fishchurch.org/wp-content/uploads/2025/04/Calendar-Event-Placeholder-Image.jpg
END:VEVENT
BEGIN:VEVENT
DTSTART;TZID=America/New_York:20300425T190000
DTEND;TZID=America/New_York:20300425T200000
DTSTAMP:20260425T224134
CREATED:20250430T183632Z
LAST-MODIFIED:20250430T190246Z
UID:10000809-1903374000-1903377600@fishchurch.org
SUMMARY:Steps to Recovery
DESCRIPTION:« All Events \n\n\nAdd to calendar \n  \n\nGoogle Calendar\niCalendar\nOutlook 365\nOutlook Live\n\nSteps to Recovery\nMay 1\n@\n7:00 pm\n–\n8:00 pm \nMeet in the lounge. \n  \n\n\n\nEaster Sunday Worship \n\nRed Cross Blood Drive
URL:https://fishchurch.org/event/steps-to-recovery/2030-04-25/
LOCATION:Lounge\, 1101 Bedford Street\, Stamford\, CT\, USA\, Stamford\, CT\, 06905\, United States
ATTACH;FMTTYPE=image/jpeg:https://fishchurch.org/wp-content/uploads/2025/04/Calendar-Event-Placeholder-Image.jpg
END:VEVENT
END:VCALENDAR