BEGIN:VCALENDAR
VERSION:2.0
PRODID:-//First Presbyterian Church - ECPv6.15.20//NONSGML v1.0//EN
CALSCALE:GREGORIAN
METHOD:PUBLISH
X-WR-CALNAME:First Presbyterian Church
X-ORIGINAL-URL:https://fishchurch.org
X-WR-CALDESC:Events for First Presbyterian Church
REFRESH-INTERVAL;VALUE=DURATION:PT1H
X-Robots-Tag:noindex
X-PUBLISHED-TTL:PT1H
BEGIN:VTIMEZONE
TZID:America/New_York
BEGIN:DAYLIGHT
TZOFFSETFROM:-0500
TZOFFSETTO:-0400
TZNAME:EDT
DTSTART:20280312T070000
END:DAYLIGHT
BEGIN:STANDARD
TZOFFSETFROM:-0400
TZOFFSETTO:-0500
TZNAME:EST
DTSTART:20281105T060000
END:STANDARD
BEGIN:DAYLIGHT
TZOFFSETFROM:-0500
TZOFFSETTO:-0400
TZNAME:EDT
DTSTART:20290311T070000
END:DAYLIGHT
BEGIN:STANDARD
TZOFFSETFROM:-0400
TZOFFSETTO:-0500
TZNAME:EST
DTSTART:20291104T060000
END:STANDARD
BEGIN:DAYLIGHT
TZOFFSETFROM:-0500
TZOFFSETTO:-0400
TZNAME:EDT
DTSTART:20300310T070000
END:DAYLIGHT
BEGIN:STANDARD
TZOFFSETFROM:-0400
TZOFFSETTO:-0500
TZNAME:EST
DTSTART:20301103T060000
END:STANDARD
END:VTIMEZONE
BEGIN:VEVENT
DTSTART;TZID=America/New_York:20290118T190000
DTEND;TZID=America/New_York:20290118T200000
DTSTAMP:20260425T171031
CREATED:20250430T183632Z
LAST-MODIFIED:20250430T190246Z
UID:10000743-1863457200-1863460800@fishchurch.org
SUMMARY:Steps to Recovery
DESCRIPTION:« All Events \n\n\nAdd to calendar \n  \n\nGoogle Calendar\niCalendar\nOutlook 365\nOutlook Live\n\nSteps to Recovery\nMay 1\n@\n7:00 pm\n–\n8:00 pm \nMeet in the lounge. \n  \n\n\n\nEaster Sunday Worship \n\nRed Cross Blood Drive
URL:https://fishchurch.org/event/steps-to-recovery/2029-01-18/
LOCATION:Lounge\, 1101 Bedford Street\, Stamford\, CT\, USA\, Stamford\, CT\, 06905\, United States
ATTACH;FMTTYPE=image/jpeg:https://fishchurch.org/wp-content/uploads/2025/04/Calendar-Event-Placeholder-Image.jpg
END:VEVENT
BEGIN:VEVENT
DTSTART;TZID=America/New_York:20290125T190000
DTEND;TZID=America/New_York:20290125T200000
DTSTAMP:20260425T171031
CREATED:20250430T183632Z
LAST-MODIFIED:20250430T190246Z
UID:10000744-1864062000-1864065600@fishchurch.org
SUMMARY:Steps to Recovery
DESCRIPTION:« All Events \n\n\nAdd to calendar \n  \n\nGoogle Calendar\niCalendar\nOutlook 365\nOutlook Live\n\nSteps to Recovery\nMay 1\n@\n7:00 pm\n–\n8:00 pm \nMeet in the lounge. \n  \n\n\n\nEaster Sunday Worship \n\nRed Cross Blood Drive
URL:https://fishchurch.org/event/steps-to-recovery/2029-01-25/
LOCATION:Lounge\, 1101 Bedford Street\, Stamford\, CT\, USA\, Stamford\, CT\, 06905\, United States
ATTACH;FMTTYPE=image/jpeg:https://fishchurch.org/wp-content/uploads/2025/04/Calendar-Event-Placeholder-Image.jpg
END:VEVENT
BEGIN:VEVENT
DTSTART;TZID=America/New_York:20290201T190000
DTEND;TZID=America/New_York:20290201T200000
DTSTAMP:20260425T171031
CREATED:20250430T183632Z
LAST-MODIFIED:20250430T190246Z
UID:10000745-1864666800-1864670400@fishchurch.org
SUMMARY:Steps to Recovery
DESCRIPTION:« All Events \n\n\nAdd to calendar \n  \n\nGoogle Calendar\niCalendar\nOutlook 365\nOutlook Live\n\nSteps to Recovery\nMay 1\n@\n7:00 pm\n–\n8:00 pm \nMeet in the lounge. \n  \n\n\n\nEaster Sunday Worship \n\nRed Cross Blood Drive
URL:https://fishchurch.org/event/steps-to-recovery/2029-02-01/
LOCATION:Lounge\, 1101 Bedford Street\, Stamford\, CT\, USA\, Stamford\, CT\, 06905\, United States
ATTACH;FMTTYPE=image/jpeg:https://fishchurch.org/wp-content/uploads/2025/04/Calendar-Event-Placeholder-Image.jpg
END:VEVENT
BEGIN:VEVENT
DTSTART;TZID=America/New_York:20290208T190000
DTEND;TZID=America/New_York:20290208T200000
DTSTAMP:20260425T171031
CREATED:20250430T183632Z
LAST-MODIFIED:20250430T190246Z
UID:10000746-1865271600-1865275200@fishchurch.org
SUMMARY:Steps to Recovery
DESCRIPTION:« All Events \n\n\nAdd to calendar \n  \n\nGoogle Calendar\niCalendar\nOutlook 365\nOutlook Live\n\nSteps to Recovery\nMay 1\n@\n7:00 pm\n–\n8:00 pm \nMeet in the lounge. \n  \n\n\n\nEaster Sunday Worship \n\nRed Cross Blood Drive
URL:https://fishchurch.org/event/steps-to-recovery/2029-02-08/
LOCATION:Lounge\, 1101 Bedford Street\, Stamford\, CT\, USA\, Stamford\, CT\, 06905\, United States
ATTACH;FMTTYPE=image/jpeg:https://fishchurch.org/wp-content/uploads/2025/04/Calendar-Event-Placeholder-Image.jpg
END:VEVENT
BEGIN:VEVENT
DTSTART;TZID=America/New_York:20290215T190000
DTEND;TZID=America/New_York:20290215T200000
DTSTAMP:20260425T171031
CREATED:20250430T183632Z
LAST-MODIFIED:20250430T190246Z
UID:10000747-1865876400-1865880000@fishchurch.org
SUMMARY:Steps to Recovery
DESCRIPTION:« All Events \n\n\nAdd to calendar \n  \n\nGoogle Calendar\niCalendar\nOutlook 365\nOutlook Live\n\nSteps to Recovery\nMay 1\n@\n7:00 pm\n–\n8:00 pm \nMeet in the lounge. \n  \n\n\n\nEaster Sunday Worship \n\nRed Cross Blood Drive
URL:https://fishchurch.org/event/steps-to-recovery/2029-02-15/
LOCATION:Lounge\, 1101 Bedford Street\, Stamford\, CT\, USA\, Stamford\, CT\, 06905\, United States
ATTACH;FMTTYPE=image/jpeg:https://fishchurch.org/wp-content/uploads/2025/04/Calendar-Event-Placeholder-Image.jpg
END:VEVENT
BEGIN:VEVENT
DTSTART;TZID=America/New_York:20290222T190000
DTEND;TZID=America/New_York:20290222T200000
DTSTAMP:20260425T171031
CREATED:20250430T183632Z
LAST-MODIFIED:20250430T190246Z
UID:10000748-1866481200-1866484800@fishchurch.org
SUMMARY:Steps to Recovery
DESCRIPTION:« All Events \n\n\nAdd to calendar \n  \n\nGoogle Calendar\niCalendar\nOutlook 365\nOutlook Live\n\nSteps to Recovery\nMay 1\n@\n7:00 pm\n–\n8:00 pm \nMeet in the lounge. \n  \n\n\n\nEaster Sunday Worship \n\nRed Cross Blood Drive
URL:https://fishchurch.org/event/steps-to-recovery/2029-02-22/
LOCATION:Lounge\, 1101 Bedford Street\, Stamford\, CT\, USA\, Stamford\, CT\, 06905\, United States
ATTACH;FMTTYPE=image/jpeg:https://fishchurch.org/wp-content/uploads/2025/04/Calendar-Event-Placeholder-Image.jpg
END:VEVENT
BEGIN:VEVENT
DTSTART;TZID=America/New_York:20290301T190000
DTEND;TZID=America/New_York:20290301T200000
DTSTAMP:20260425T171031
CREATED:20250430T183632Z
LAST-MODIFIED:20250430T190246Z
UID:10000749-1867086000-1867089600@fishchurch.org
SUMMARY:Steps to Recovery
DESCRIPTION:« All Events \n\n\nAdd to calendar \n  \n\nGoogle Calendar\niCalendar\nOutlook 365\nOutlook Live\n\nSteps to Recovery\nMay 1\n@\n7:00 pm\n–\n8:00 pm \nMeet in the lounge. \n  \n\n\n\nEaster Sunday Worship \n\nRed Cross Blood Drive
URL:https://fishchurch.org/event/steps-to-recovery/2029-03-01/
LOCATION:Lounge\, 1101 Bedford Street\, Stamford\, CT\, USA\, Stamford\, CT\, 06905\, United States
ATTACH;FMTTYPE=image/jpeg:https://fishchurch.org/wp-content/uploads/2025/04/Calendar-Event-Placeholder-Image.jpg
END:VEVENT
BEGIN:VEVENT
DTSTART;TZID=America/New_York:20290308T190000
DTEND;TZID=America/New_York:20290308T200000
DTSTAMP:20260425T171031
CREATED:20250430T183632Z
LAST-MODIFIED:20250430T190246Z
UID:10000750-1867690800-1867694400@fishchurch.org
SUMMARY:Steps to Recovery
DESCRIPTION:« All Events \n\n\nAdd to calendar \n  \n\nGoogle Calendar\niCalendar\nOutlook 365\nOutlook Live\n\nSteps to Recovery\nMay 1\n@\n7:00 pm\n–\n8:00 pm \nMeet in the lounge. \n  \n\n\n\nEaster Sunday Worship \n\nRed Cross Blood Drive
URL:https://fishchurch.org/event/steps-to-recovery/2029-03-08/
LOCATION:Lounge\, 1101 Bedford Street\, Stamford\, CT\, USA\, Stamford\, CT\, 06905\, United States
ATTACH;FMTTYPE=image/jpeg:https://fishchurch.org/wp-content/uploads/2025/04/Calendar-Event-Placeholder-Image.jpg
END:VEVENT
BEGIN:VEVENT
DTSTART;TZID=America/New_York:20290315T190000
DTEND;TZID=America/New_York:20290315T200000
DTSTAMP:20260425T171031
CREATED:20250430T183632Z
LAST-MODIFIED:20250430T190246Z
UID:10000751-1868295600-1868299200@fishchurch.org
SUMMARY:Steps to Recovery
DESCRIPTION:« All Events \n\n\nAdd to calendar \n  \n\nGoogle Calendar\niCalendar\nOutlook 365\nOutlook Live\n\nSteps to Recovery\nMay 1\n@\n7:00 pm\n–\n8:00 pm \nMeet in the lounge. \n  \n\n\n\nEaster Sunday Worship \n\nRed Cross Blood Drive
URL:https://fishchurch.org/event/steps-to-recovery/2029-03-15/
LOCATION:Lounge\, 1101 Bedford Street\, Stamford\, CT\, USA\, Stamford\, CT\, 06905\, United States
ATTACH;FMTTYPE=image/jpeg:https://fishchurch.org/wp-content/uploads/2025/04/Calendar-Event-Placeholder-Image.jpg
END:VEVENT
BEGIN:VEVENT
DTSTART;TZID=America/New_York:20290322T190000
DTEND;TZID=America/New_York:20290322T200000
DTSTAMP:20260425T171031
CREATED:20250430T183632Z
LAST-MODIFIED:20250430T190246Z
UID:10000752-1868900400-1868904000@fishchurch.org
SUMMARY:Steps to Recovery
DESCRIPTION:« All Events \n\n\nAdd to calendar \n  \n\nGoogle Calendar\niCalendar\nOutlook 365\nOutlook Live\n\nSteps to Recovery\nMay 1\n@\n7:00 pm\n–\n8:00 pm \nMeet in the lounge. \n  \n\n\n\nEaster Sunday Worship \n\nRed Cross Blood Drive
URL:https://fishchurch.org/event/steps-to-recovery/2029-03-22/
LOCATION:Lounge\, 1101 Bedford Street\, Stamford\, CT\, USA\, Stamford\, CT\, 06905\, United States
ATTACH;FMTTYPE=image/jpeg:https://fishchurch.org/wp-content/uploads/2025/04/Calendar-Event-Placeholder-Image.jpg
END:VEVENT
BEGIN:VEVENT
DTSTART;TZID=America/New_York:20290329T190000
DTEND;TZID=America/New_York:20290329T200000
DTSTAMP:20260425T171031
CREATED:20250430T183632Z
LAST-MODIFIED:20250430T190246Z
UID:10000753-1869505200-1869508800@fishchurch.org
SUMMARY:Steps to Recovery
DESCRIPTION:« All Events \n\n\nAdd to calendar \n  \n\nGoogle Calendar\niCalendar\nOutlook 365\nOutlook Live\n\nSteps to Recovery\nMay 1\n@\n7:00 pm\n–\n8:00 pm \nMeet in the lounge. \n  \n\n\n\nEaster Sunday Worship \n\nRed Cross Blood Drive
URL:https://fishchurch.org/event/steps-to-recovery/2029-03-29/
LOCATION:Lounge\, 1101 Bedford Street\, Stamford\, CT\, USA\, Stamford\, CT\, 06905\, United States
ATTACH;FMTTYPE=image/jpeg:https://fishchurch.org/wp-content/uploads/2025/04/Calendar-Event-Placeholder-Image.jpg
END:VEVENT
BEGIN:VEVENT
DTSTART;TZID=America/New_York:20290405T190000
DTEND;TZID=America/New_York:20290405T200000
DTSTAMP:20260425T171031
CREATED:20250430T183632Z
LAST-MODIFIED:20250430T190246Z
UID:10000754-1870110000-1870113600@fishchurch.org
SUMMARY:Steps to Recovery
DESCRIPTION:« All Events \n\n\nAdd to calendar \n  \n\nGoogle Calendar\niCalendar\nOutlook 365\nOutlook Live\n\nSteps to Recovery\nMay 1\n@\n7:00 pm\n–\n8:00 pm \nMeet in the lounge. \n  \n\n\n\nEaster Sunday Worship \n\nRed Cross Blood Drive
URL:https://fishchurch.org/event/steps-to-recovery/2029-04-05/
LOCATION:Lounge\, 1101 Bedford Street\, Stamford\, CT\, USA\, Stamford\, CT\, 06905\, United States
ATTACH;FMTTYPE=image/jpeg:https://fishchurch.org/wp-content/uploads/2025/04/Calendar-Event-Placeholder-Image.jpg
END:VEVENT
BEGIN:VEVENT
DTSTART;TZID=America/New_York:20290412T190000
DTEND;TZID=America/New_York:20290412T200000
DTSTAMP:20260425T171031
CREATED:20250430T183632Z
LAST-MODIFIED:20250430T190246Z
UID:10000755-1870714800-1870718400@fishchurch.org
SUMMARY:Steps to Recovery
DESCRIPTION:« All Events \n\n\nAdd to calendar \n  \n\nGoogle Calendar\niCalendar\nOutlook 365\nOutlook Live\n\nSteps to Recovery\nMay 1\n@\n7:00 pm\n–\n8:00 pm \nMeet in the lounge. \n  \n\n\n\nEaster Sunday Worship \n\nRed Cross Blood Drive
URL:https://fishchurch.org/event/steps-to-recovery/2029-04-12/
LOCATION:Lounge\, 1101 Bedford Street\, Stamford\, CT\, USA\, Stamford\, CT\, 06905\, United States
ATTACH;FMTTYPE=image/jpeg:https://fishchurch.org/wp-content/uploads/2025/04/Calendar-Event-Placeholder-Image.jpg
END:VEVENT
BEGIN:VEVENT
DTSTART;TZID=America/New_York:20290419T190000
DTEND;TZID=America/New_York:20290419T200000
DTSTAMP:20260425T171031
CREATED:20250430T183632Z
LAST-MODIFIED:20250430T190246Z
UID:10000756-1871319600-1871323200@fishchurch.org
SUMMARY:Steps to Recovery
DESCRIPTION:« All Events \n\n\nAdd to calendar \n  \n\nGoogle Calendar\niCalendar\nOutlook 365\nOutlook Live\n\nSteps to Recovery\nMay 1\n@\n7:00 pm\n–\n8:00 pm \nMeet in the lounge. \n  \n\n\n\nEaster Sunday Worship \n\nRed Cross Blood Drive
URL:https://fishchurch.org/event/steps-to-recovery/2029-04-19/
LOCATION:Lounge\, 1101 Bedford Street\, Stamford\, CT\, USA\, Stamford\, CT\, 06905\, United States
ATTACH;FMTTYPE=image/jpeg:https://fishchurch.org/wp-content/uploads/2025/04/Calendar-Event-Placeholder-Image.jpg
END:VEVENT
BEGIN:VEVENT
DTSTART;TZID=America/New_York:20290426T190000
DTEND;TZID=America/New_York:20290426T200000
DTSTAMP:20260425T171031
CREATED:20250430T183632Z
LAST-MODIFIED:20250430T190246Z
UID:10000757-1871924400-1871928000@fishchurch.org
SUMMARY:Steps to Recovery
DESCRIPTION:« All Events \n\n\nAdd to calendar \n  \n\nGoogle Calendar\niCalendar\nOutlook 365\nOutlook Live\n\nSteps to Recovery\nMay 1\n@\n7:00 pm\n–\n8:00 pm \nMeet in the lounge. \n  \n\n\n\nEaster Sunday Worship \n\nRed Cross Blood Drive
URL:https://fishchurch.org/event/steps-to-recovery/2029-04-26/
LOCATION:Lounge\, 1101 Bedford Street\, Stamford\, CT\, USA\, Stamford\, CT\, 06905\, United States
ATTACH;FMTTYPE=image/jpeg:https://fishchurch.org/wp-content/uploads/2025/04/Calendar-Event-Placeholder-Image.jpg
END:VEVENT
BEGIN:VEVENT
DTSTART;TZID=America/New_York:20290503T190000
DTEND;TZID=America/New_York:20290503T200000
DTSTAMP:20260425T171031
CREATED:20250430T183632Z
LAST-MODIFIED:20250430T190246Z
UID:10000758-1872529200-1872532800@fishchurch.org
SUMMARY:Steps to Recovery
DESCRIPTION:« All Events \n\n\nAdd to calendar \n  \n\nGoogle Calendar\niCalendar\nOutlook 365\nOutlook Live\n\nSteps to Recovery\nMay 1\n@\n7:00 pm\n–\n8:00 pm \nMeet in the lounge. \n  \n\n\n\nEaster Sunday Worship \n\nRed Cross Blood Drive
URL:https://fishchurch.org/event/steps-to-recovery/2029-05-03/
LOCATION:Lounge\, 1101 Bedford Street\, Stamford\, CT\, USA\, Stamford\, CT\, 06905\, United States
ATTACH;FMTTYPE=image/jpeg:https://fishchurch.org/wp-content/uploads/2025/04/Calendar-Event-Placeholder-Image.jpg
END:VEVENT
BEGIN:VEVENT
DTSTART;TZID=America/New_York:20290510T190000
DTEND;TZID=America/New_York:20290510T200000
DTSTAMP:20260425T171031
CREATED:20250430T183632Z
LAST-MODIFIED:20250430T190246Z
UID:10000759-1873134000-1873137600@fishchurch.org
SUMMARY:Steps to Recovery
DESCRIPTION:« All Events \n\n\nAdd to calendar \n  \n\nGoogle Calendar\niCalendar\nOutlook 365\nOutlook Live\n\nSteps to Recovery\nMay 1\n@\n7:00 pm\n–\n8:00 pm \nMeet in the lounge. \n  \n\n\n\nEaster Sunday Worship \n\nRed Cross Blood Drive
URL:https://fishchurch.org/event/steps-to-recovery/2029-05-10/
LOCATION:Lounge\, 1101 Bedford Street\, Stamford\, CT\, USA\, Stamford\, CT\, 06905\, United States
ATTACH;FMTTYPE=image/jpeg:https://fishchurch.org/wp-content/uploads/2025/04/Calendar-Event-Placeholder-Image.jpg
END:VEVENT
BEGIN:VEVENT
DTSTART;TZID=America/New_York:20290517T190000
DTEND;TZID=America/New_York:20290517T200000
DTSTAMP:20260425T171031
CREATED:20250430T183632Z
LAST-MODIFIED:20250430T190246Z
UID:10000760-1873738800-1873742400@fishchurch.org
SUMMARY:Steps to Recovery
DESCRIPTION:« All Events \n\n\nAdd to calendar \n  \n\nGoogle Calendar\niCalendar\nOutlook 365\nOutlook Live\n\nSteps to Recovery\nMay 1\n@\n7:00 pm\n–\n8:00 pm \nMeet in the lounge. \n  \n\n\n\nEaster Sunday Worship \n\nRed Cross Blood Drive
URL:https://fishchurch.org/event/steps-to-recovery/2029-05-17/
LOCATION:Lounge\, 1101 Bedford Street\, Stamford\, CT\, USA\, Stamford\, CT\, 06905\, United States
ATTACH;FMTTYPE=image/jpeg:https://fishchurch.org/wp-content/uploads/2025/04/Calendar-Event-Placeholder-Image.jpg
END:VEVENT
BEGIN:VEVENT
DTSTART;TZID=America/New_York:20290524T190000
DTEND;TZID=America/New_York:20290524T200000
DTSTAMP:20260425T171031
CREATED:20250430T183632Z
LAST-MODIFIED:20250430T190246Z
UID:10000761-1874343600-1874347200@fishchurch.org
SUMMARY:Steps to Recovery
DESCRIPTION:« All Events \n\n\nAdd to calendar \n  \n\nGoogle Calendar\niCalendar\nOutlook 365\nOutlook Live\n\nSteps to Recovery\nMay 1\n@\n7:00 pm\n–\n8:00 pm \nMeet in the lounge. \n  \n\n\n\nEaster Sunday Worship \n\nRed Cross Blood Drive
URL:https://fishchurch.org/event/steps-to-recovery/2029-05-24/
LOCATION:Lounge\, 1101 Bedford Street\, Stamford\, CT\, USA\, Stamford\, CT\, 06905\, United States
ATTACH;FMTTYPE=image/jpeg:https://fishchurch.org/wp-content/uploads/2025/04/Calendar-Event-Placeholder-Image.jpg
END:VEVENT
BEGIN:VEVENT
DTSTART;TZID=America/New_York:20290531T190000
DTEND;TZID=America/New_York:20290531T200000
DTSTAMP:20260425T171031
CREATED:20250430T183632Z
LAST-MODIFIED:20250430T190246Z
UID:10000762-1874948400-1874952000@fishchurch.org
SUMMARY:Steps to Recovery
DESCRIPTION:« All Events \n\n\nAdd to calendar \n  \n\nGoogle Calendar\niCalendar\nOutlook 365\nOutlook Live\n\nSteps to Recovery\nMay 1\n@\n7:00 pm\n–\n8:00 pm \nMeet in the lounge. \n  \n\n\n\nEaster Sunday Worship \n\nRed Cross Blood Drive
URL:https://fishchurch.org/event/steps-to-recovery/2029-05-31/
LOCATION:Lounge\, 1101 Bedford Street\, Stamford\, CT\, USA\, Stamford\, CT\, 06905\, United States
ATTACH;FMTTYPE=image/jpeg:https://fishchurch.org/wp-content/uploads/2025/04/Calendar-Event-Placeholder-Image.jpg
END:VEVENT
BEGIN:VEVENT
DTSTART;TZID=America/New_York:20290607T190000
DTEND;TZID=America/New_York:20290607T200000
DTSTAMP:20260425T171031
CREATED:20250430T183632Z
LAST-MODIFIED:20250430T190246Z
UID:10000763-1875553200-1875556800@fishchurch.org
SUMMARY:Steps to Recovery
DESCRIPTION:« All Events \n\n\nAdd to calendar \n  \n\nGoogle Calendar\niCalendar\nOutlook 365\nOutlook Live\n\nSteps to Recovery\nMay 1\n@\n7:00 pm\n–\n8:00 pm \nMeet in the lounge. \n  \n\n\n\nEaster Sunday Worship \n\nRed Cross Blood Drive
URL:https://fishchurch.org/event/steps-to-recovery/2029-06-07/
LOCATION:Lounge\, 1101 Bedford Street\, Stamford\, CT\, USA\, Stamford\, CT\, 06905\, United States
ATTACH;FMTTYPE=image/jpeg:https://fishchurch.org/wp-content/uploads/2025/04/Calendar-Event-Placeholder-Image.jpg
END:VEVENT
BEGIN:VEVENT
DTSTART;TZID=America/New_York:20290614T190000
DTEND;TZID=America/New_York:20290614T200000
DTSTAMP:20260425T171031
CREATED:20250430T183632Z
LAST-MODIFIED:20250430T190246Z
UID:10000764-1876158000-1876161600@fishchurch.org
SUMMARY:Steps to Recovery
DESCRIPTION:« All Events \n\n\nAdd to calendar \n  \n\nGoogle Calendar\niCalendar\nOutlook 365\nOutlook Live\n\nSteps to Recovery\nMay 1\n@\n7:00 pm\n–\n8:00 pm \nMeet in the lounge. \n  \n\n\n\nEaster Sunday Worship \n\nRed Cross Blood Drive
URL:https://fishchurch.org/event/steps-to-recovery/2029-06-14/
LOCATION:Lounge\, 1101 Bedford Street\, Stamford\, CT\, USA\, Stamford\, CT\, 06905\, United States
ATTACH;FMTTYPE=image/jpeg:https://fishchurch.org/wp-content/uploads/2025/04/Calendar-Event-Placeholder-Image.jpg
END:VEVENT
BEGIN:VEVENT
DTSTART;TZID=America/New_York:20290621T190000
DTEND;TZID=America/New_York:20290621T200000
DTSTAMP:20260425T171031
CREATED:20250430T183632Z
LAST-MODIFIED:20250430T190246Z
UID:10000765-1876762800-1876766400@fishchurch.org
SUMMARY:Steps to Recovery
DESCRIPTION:« All Events \n\n\nAdd to calendar \n  \n\nGoogle Calendar\niCalendar\nOutlook 365\nOutlook Live\n\nSteps to Recovery\nMay 1\n@\n7:00 pm\n–\n8:00 pm \nMeet in the lounge. \n  \n\n\n\nEaster Sunday Worship \n\nRed Cross Blood Drive
URL:https://fishchurch.org/event/steps-to-recovery/2029-06-21/
LOCATION:Lounge\, 1101 Bedford Street\, Stamford\, CT\, USA\, Stamford\, CT\, 06905\, United States
ATTACH;FMTTYPE=image/jpeg:https://fishchurch.org/wp-content/uploads/2025/04/Calendar-Event-Placeholder-Image.jpg
END:VEVENT
BEGIN:VEVENT
DTSTART;TZID=America/New_York:20290628T190000
DTEND;TZID=America/New_York:20290628T200000
DTSTAMP:20260425T171031
CREATED:20250430T183632Z
LAST-MODIFIED:20250430T190246Z
UID:10000766-1877367600-1877371200@fishchurch.org
SUMMARY:Steps to Recovery
DESCRIPTION:« All Events \n\n\nAdd to calendar \n  \n\nGoogle Calendar\niCalendar\nOutlook 365\nOutlook Live\n\nSteps to Recovery\nMay 1\n@\n7:00 pm\n–\n8:00 pm \nMeet in the lounge. \n  \n\n\n\nEaster Sunday Worship \n\nRed Cross Blood Drive
URL:https://fishchurch.org/event/steps-to-recovery/2029-06-28/
LOCATION:Lounge\, 1101 Bedford Street\, Stamford\, CT\, USA\, Stamford\, CT\, 06905\, United States
ATTACH;FMTTYPE=image/jpeg:https://fishchurch.org/wp-content/uploads/2025/04/Calendar-Event-Placeholder-Image.jpg
END:VEVENT
BEGIN:VEVENT
DTSTART;TZID=America/New_York:20290705T190000
DTEND;TZID=America/New_York:20290705T200000
DTSTAMP:20260425T171031
CREATED:20250430T183632Z
LAST-MODIFIED:20250430T190246Z
UID:10000767-1877972400-1877976000@fishchurch.org
SUMMARY:Steps to Recovery
DESCRIPTION:« All Events \n\n\nAdd to calendar \n  \n\nGoogle Calendar\niCalendar\nOutlook 365\nOutlook Live\n\nSteps to Recovery\nMay 1\n@\n7:00 pm\n–\n8:00 pm \nMeet in the lounge. \n  \n\n\n\nEaster Sunday Worship \n\nRed Cross Blood Drive
URL:https://fishchurch.org/event/steps-to-recovery/2029-07-05/
LOCATION:Lounge\, 1101 Bedford Street\, Stamford\, CT\, USA\, Stamford\, CT\, 06905\, United States
ATTACH;FMTTYPE=image/jpeg:https://fishchurch.org/wp-content/uploads/2025/04/Calendar-Event-Placeholder-Image.jpg
END:VEVENT
BEGIN:VEVENT
DTSTART;TZID=America/New_York:20290712T190000
DTEND;TZID=America/New_York:20290712T200000
DTSTAMP:20260425T171031
CREATED:20250430T183632Z
LAST-MODIFIED:20250430T190246Z
UID:10000768-1878577200-1878580800@fishchurch.org
SUMMARY:Steps to Recovery
DESCRIPTION:« All Events \n\n\nAdd to calendar \n  \n\nGoogle Calendar\niCalendar\nOutlook 365\nOutlook Live\n\nSteps to Recovery\nMay 1\n@\n7:00 pm\n–\n8:00 pm \nMeet in the lounge. \n  \n\n\n\nEaster Sunday Worship \n\nRed Cross Blood Drive
URL:https://fishchurch.org/event/steps-to-recovery/2029-07-12/
LOCATION:Lounge\, 1101 Bedford Street\, Stamford\, CT\, USA\, Stamford\, CT\, 06905\, United States
ATTACH;FMTTYPE=image/jpeg:https://fishchurch.org/wp-content/uploads/2025/04/Calendar-Event-Placeholder-Image.jpg
END:VEVENT
BEGIN:VEVENT
DTSTART;TZID=America/New_York:20290719T190000
DTEND;TZID=America/New_York:20290719T200000
DTSTAMP:20260425T171031
CREATED:20250430T183632Z
LAST-MODIFIED:20250430T190246Z
UID:10000769-1879182000-1879185600@fishchurch.org
SUMMARY:Steps to Recovery
DESCRIPTION:« All Events \n\n\nAdd to calendar \n  \n\nGoogle Calendar\niCalendar\nOutlook 365\nOutlook Live\n\nSteps to Recovery\nMay 1\n@\n7:00 pm\n–\n8:00 pm \nMeet in the lounge. \n  \n\n\n\nEaster Sunday Worship \n\nRed Cross Blood Drive
URL:https://fishchurch.org/event/steps-to-recovery/2029-07-19/
LOCATION:Lounge\, 1101 Bedford Street\, Stamford\, CT\, USA\, Stamford\, CT\, 06905\, United States
ATTACH;FMTTYPE=image/jpeg:https://fishchurch.org/wp-content/uploads/2025/04/Calendar-Event-Placeholder-Image.jpg
END:VEVENT
BEGIN:VEVENT
DTSTART;TZID=America/New_York:20290726T190000
DTEND;TZID=America/New_York:20290726T200000
DTSTAMP:20260425T171031
CREATED:20250430T183632Z
LAST-MODIFIED:20250430T190246Z
UID:10000770-1879786800-1879790400@fishchurch.org
SUMMARY:Steps to Recovery
DESCRIPTION:« All Events \n\n\nAdd to calendar \n  \n\nGoogle Calendar\niCalendar\nOutlook 365\nOutlook Live\n\nSteps to Recovery\nMay 1\n@\n7:00 pm\n–\n8:00 pm \nMeet in the lounge. \n  \n\n\n\nEaster Sunday Worship \n\nRed Cross Blood Drive
URL:https://fishchurch.org/event/steps-to-recovery/2029-07-26/
LOCATION:Lounge\, 1101 Bedford Street\, Stamford\, CT\, USA\, Stamford\, CT\, 06905\, United States
ATTACH;FMTTYPE=image/jpeg:https://fishchurch.org/wp-content/uploads/2025/04/Calendar-Event-Placeholder-Image.jpg
END:VEVENT
BEGIN:VEVENT
DTSTART;TZID=America/New_York:20290802T190000
DTEND;TZID=America/New_York:20290802T200000
DTSTAMP:20260425T171031
CREATED:20250430T183632Z
LAST-MODIFIED:20250430T190246Z
UID:10000771-1880391600-1880395200@fishchurch.org
SUMMARY:Steps to Recovery
DESCRIPTION:« All Events \n\n\nAdd to calendar \n  \n\nGoogle Calendar\niCalendar\nOutlook 365\nOutlook Live\n\nSteps to Recovery\nMay 1\n@\n7:00 pm\n–\n8:00 pm \nMeet in the lounge. \n  \n\n\n\nEaster Sunday Worship \n\nRed Cross Blood Drive
URL:https://fishchurch.org/event/steps-to-recovery/2029-08-02/
LOCATION:Lounge\, 1101 Bedford Street\, Stamford\, CT\, USA\, Stamford\, CT\, 06905\, United States
ATTACH;FMTTYPE=image/jpeg:https://fishchurch.org/wp-content/uploads/2025/04/Calendar-Event-Placeholder-Image.jpg
END:VEVENT
BEGIN:VEVENT
DTSTART;TZID=America/New_York:20290809T190000
DTEND;TZID=America/New_York:20290809T200000
DTSTAMP:20260425T171031
CREATED:20250430T183632Z
LAST-MODIFIED:20250430T190246Z
UID:10000772-1880996400-1881000000@fishchurch.org
SUMMARY:Steps to Recovery
DESCRIPTION:« All Events \n\n\nAdd to calendar \n  \n\nGoogle Calendar\niCalendar\nOutlook 365\nOutlook Live\n\nSteps to Recovery\nMay 1\n@\n7:00 pm\n–\n8:00 pm \nMeet in the lounge. \n  \n\n\n\nEaster Sunday Worship \n\nRed Cross Blood Drive
URL:https://fishchurch.org/event/steps-to-recovery/2029-08-09/
LOCATION:Lounge\, 1101 Bedford Street\, Stamford\, CT\, USA\, Stamford\, CT\, 06905\, United States
ATTACH;FMTTYPE=image/jpeg:https://fishchurch.org/wp-content/uploads/2025/04/Calendar-Event-Placeholder-Image.jpg
END:VEVENT
END:VCALENDAR