BEGIN:VCALENDAR
VERSION:2.0
PRODID:-//First Presbyterian Church - ECPv6.15.20//NONSGML v1.0//EN
CALSCALE:GREGORIAN
METHOD:PUBLISH
X-WR-CALNAME:First Presbyterian Church
X-ORIGINAL-URL:https://fishchurch.org
X-WR-CALDESC:Events for First Presbyterian Church
REFRESH-INTERVAL;VALUE=DURATION:PT1H
X-Robots-Tag:noindex
X-PUBLISHED-TTL:PT1H
BEGIN:VTIMEZONE
TZID:America/New_York
BEGIN:DAYLIGHT
TZOFFSETFROM:-0500
TZOFFSETTO:-0400
TZNAME:EDT
DTSTART:20250309T070000
END:DAYLIGHT
BEGIN:STANDARD
TZOFFSETFROM:-0400
TZOFFSETTO:-0500
TZNAME:EST
DTSTART:20251102T060000
END:STANDARD
BEGIN:DAYLIGHT
TZOFFSETFROM:-0500
TZOFFSETTO:-0400
TZNAME:EDT
DTSTART:20260308T070000
END:DAYLIGHT
BEGIN:STANDARD
TZOFFSETFROM:-0400
TZOFFSETTO:-0500
TZNAME:EST
DTSTART:20261101T060000
END:STANDARD
BEGIN:DAYLIGHT
TZOFFSETFROM:-0500
TZOFFSETTO:-0400
TZNAME:EDT
DTSTART:20270314T070000
END:DAYLIGHT
BEGIN:STANDARD
TZOFFSETFROM:-0400
TZOFFSETTO:-0500
TZNAME:EST
DTSTART:20271107T060000
END:STANDARD
END:VTIMEZONE
BEGIN:VEVENT
DTSTART;TZID=America/New_York:20261113T120000
DTEND;TZID=America/New_York:20261113T133000
DTSTAMP:20260425T124027
CREATED:20250429T202036Z
LAST-MODIFIED:20250429T202036Z
UID:10000106-1794571200-1794576600@fishchurch.org
SUMMARY:AlAnon Meeting
DESCRIPTION:
URL:https://fishchurch.org/event/alanon-meeting/2026-11-13/
LOCATION:Room 32\, 1101 Bedford Street\, Stamford\, CT\, USA\, Stamford\, CT\, 06905\, United States
ATTACH;FMTTYPE=image/jpeg:https://fishchurch.org/wp-content/uploads/2025/04/Calendar-Event-Placeholder-Image.jpg
END:VEVENT
BEGIN:VEVENT
DTSTART;TZID=America/New_York:20261112T190000
DTEND;TZID=America/New_York:20261112T200000
DTSTAMP:20260425T124027
CREATED:20250430T183632Z
LAST-MODIFIED:20250430T190246Z
UID:10000629-1794510000-1794513600@fishchurch.org
SUMMARY:Steps to Recovery
DESCRIPTION:« All Events \n\n\nAdd to calendar \n  \n\nGoogle Calendar\niCalendar\nOutlook 365\nOutlook Live\n\nSteps to Recovery\nMay 1\n@\n7:00 pm\n–\n8:00 pm \nMeet in the lounge. \n  \n\n\n\nEaster Sunday Worship \n\nRed Cross Blood Drive
URL:https://fishchurch.org/event/steps-to-recovery/2026-11-12/
LOCATION:Lounge\, 1101 Bedford Street\, Stamford\, CT\, USA\, Stamford\, CT\, 06905\, United States
ATTACH;FMTTYPE=image/jpeg:https://fishchurch.org/wp-content/uploads/2025/04/Calendar-Event-Placeholder-Image.jpg
END:VEVENT
BEGIN:VEVENT
DTSTART;TZID=America/New_York:20261106T120000
DTEND;TZID=America/New_York:20261106T133000
DTSTAMP:20260425T124027
CREATED:20250429T202036Z
LAST-MODIFIED:20250429T202036Z
UID:10000105-1793966400-1793971800@fishchurch.org
SUMMARY:AlAnon Meeting
DESCRIPTION:
URL:https://fishchurch.org/event/alanon-meeting/2026-11-06/
LOCATION:Room 32\, 1101 Bedford Street\, Stamford\, CT\, USA\, Stamford\, CT\, 06905\, United States
ATTACH;FMTTYPE=image/jpeg:https://fishchurch.org/wp-content/uploads/2025/04/Calendar-Event-Placeholder-Image.jpg
END:VEVENT
BEGIN:VEVENT
DTSTART;TZID=America/New_York:20261105T190000
DTEND;TZID=America/New_York:20261105T200000
DTSTAMP:20260425T124027
CREATED:20250430T183632Z
LAST-MODIFIED:20250430T190246Z
UID:10000628-1793905200-1793908800@fishchurch.org
SUMMARY:Steps to Recovery
DESCRIPTION:« All Events \n\n\nAdd to calendar \n  \n\nGoogle Calendar\niCalendar\nOutlook 365\nOutlook Live\n\nSteps to Recovery\nMay 1\n@\n7:00 pm\n–\n8:00 pm \nMeet in the lounge. \n  \n\n\n\nEaster Sunday Worship \n\nRed Cross Blood Drive
URL:https://fishchurch.org/event/steps-to-recovery/2026-11-05/
LOCATION:Lounge\, 1101 Bedford Street\, Stamford\, CT\, USA\, Stamford\, CT\, 06905\, United States
ATTACH;FMTTYPE=image/jpeg:https://fishchurch.org/wp-content/uploads/2025/04/Calendar-Event-Placeholder-Image.jpg
END:VEVENT
BEGIN:VEVENT
DTSTART;TZID=America/New_York:20261030T120000
DTEND;TZID=America/New_York:20261030T133000
DTSTAMP:20260425T124027
CREATED:20250429T202036Z
LAST-MODIFIED:20250429T202036Z
UID:10000104-1793361600-1793367000@fishchurch.org
SUMMARY:AlAnon Meeting
DESCRIPTION:
URL:https://fishchurch.org/event/alanon-meeting/2026-10-30/
LOCATION:Room 32\, 1101 Bedford Street\, Stamford\, CT\, USA\, Stamford\, CT\, 06905\, United States
ATTACH;FMTTYPE=image/jpeg:https://fishchurch.org/wp-content/uploads/2025/04/Calendar-Event-Placeholder-Image.jpg
END:VEVENT
BEGIN:VEVENT
DTSTART;TZID=America/New_York:20261029T190000
DTEND;TZID=America/New_York:20261029T200000
DTSTAMP:20260425T124027
CREATED:20250430T183632Z
LAST-MODIFIED:20250430T190246Z
UID:10000627-1793300400-1793304000@fishchurch.org
SUMMARY:Steps to Recovery
DESCRIPTION:« All Events \n\n\nAdd to calendar \n  \n\nGoogle Calendar\niCalendar\nOutlook 365\nOutlook Live\n\nSteps to Recovery\nMay 1\n@\n7:00 pm\n–\n8:00 pm \nMeet in the lounge. \n  \n\n\n\nEaster Sunday Worship \n\nRed Cross Blood Drive
URL:https://fishchurch.org/event/steps-to-recovery/2026-10-29/
LOCATION:Lounge\, 1101 Bedford Street\, Stamford\, CT\, USA\, Stamford\, CT\, 06905\, United States
ATTACH;FMTTYPE=image/jpeg:https://fishchurch.org/wp-content/uploads/2025/04/Calendar-Event-Placeholder-Image.jpg
END:VEVENT
BEGIN:VEVENT
DTSTART;TZID=America/New_York:20261023T120000
DTEND;TZID=America/New_York:20261023T133000
DTSTAMP:20260425T124027
CREATED:20250429T202036Z
LAST-MODIFIED:20250429T202036Z
UID:10000103-1792756800-1792762200@fishchurch.org
SUMMARY:AlAnon Meeting
DESCRIPTION:
URL:https://fishchurch.org/event/alanon-meeting/2026-10-23/
LOCATION:Room 32\, 1101 Bedford Street\, Stamford\, CT\, USA\, Stamford\, CT\, 06905\, United States
ATTACH;FMTTYPE=image/jpeg:https://fishchurch.org/wp-content/uploads/2025/04/Calendar-Event-Placeholder-Image.jpg
END:VEVENT
BEGIN:VEVENT
DTSTART;TZID=America/New_York:20261022T190000
DTEND;TZID=America/New_York:20261022T200000
DTSTAMP:20260425T124027
CREATED:20250430T183632Z
LAST-MODIFIED:20250430T190246Z
UID:10000626-1792695600-1792699200@fishchurch.org
SUMMARY:Steps to Recovery
DESCRIPTION:« All Events \n\n\nAdd to calendar \n  \n\nGoogle Calendar\niCalendar\nOutlook 365\nOutlook Live\n\nSteps to Recovery\nMay 1\n@\n7:00 pm\n–\n8:00 pm \nMeet in the lounge. \n  \n\n\n\nEaster Sunday Worship \n\nRed Cross Blood Drive
URL:https://fishchurch.org/event/steps-to-recovery/2026-10-22/
LOCATION:Lounge\, 1101 Bedford Street\, Stamford\, CT\, USA\, Stamford\, CT\, 06905\, United States
ATTACH;FMTTYPE=image/jpeg:https://fishchurch.org/wp-content/uploads/2025/04/Calendar-Event-Placeholder-Image.jpg
END:VEVENT
BEGIN:VEVENT
DTSTART;TZID=America/New_York:20261016T120000
DTEND;TZID=America/New_York:20261016T133000
DTSTAMP:20260425T124027
CREATED:20250429T202036Z
LAST-MODIFIED:20250429T202036Z
UID:10000102-1792152000-1792157400@fishchurch.org
SUMMARY:AlAnon Meeting
DESCRIPTION:
URL:https://fishchurch.org/event/alanon-meeting/2026-10-16/
LOCATION:Room 32\, 1101 Bedford Street\, Stamford\, CT\, USA\, Stamford\, CT\, 06905\, United States
ATTACH;FMTTYPE=image/jpeg:https://fishchurch.org/wp-content/uploads/2025/04/Calendar-Event-Placeholder-Image.jpg
END:VEVENT
BEGIN:VEVENT
DTSTART;TZID=America/New_York:20261015T190000
DTEND;TZID=America/New_York:20261015T200000
DTSTAMP:20260425T124027
CREATED:20250430T183632Z
LAST-MODIFIED:20250430T190246Z
UID:10000625-1792090800-1792094400@fishchurch.org
SUMMARY:Steps to Recovery
DESCRIPTION:« All Events \n\n\nAdd to calendar \n  \n\nGoogle Calendar\niCalendar\nOutlook 365\nOutlook Live\n\nSteps to Recovery\nMay 1\n@\n7:00 pm\n–\n8:00 pm \nMeet in the lounge. \n  \n\n\n\nEaster Sunday Worship \n\nRed Cross Blood Drive
URL:https://fishchurch.org/event/steps-to-recovery/2026-10-15/
LOCATION:Lounge\, 1101 Bedford Street\, Stamford\, CT\, USA\, Stamford\, CT\, 06905\, United States
ATTACH;FMTTYPE=image/jpeg:https://fishchurch.org/wp-content/uploads/2025/04/Calendar-Event-Placeholder-Image.jpg
END:VEVENT
BEGIN:VEVENT
DTSTART;TZID=America/New_York:20261009T120000
DTEND;TZID=America/New_York:20261009T133000
DTSTAMP:20260425T124027
CREATED:20250429T202036Z
LAST-MODIFIED:20250429T202036Z
UID:10000101-1791547200-1791552600@fishchurch.org
SUMMARY:AlAnon Meeting
DESCRIPTION:
URL:https://fishchurch.org/event/alanon-meeting/2026-10-09/
LOCATION:Room 32\, 1101 Bedford Street\, Stamford\, CT\, USA\, Stamford\, CT\, 06905\, United States
ATTACH;FMTTYPE=image/jpeg:https://fishchurch.org/wp-content/uploads/2025/04/Calendar-Event-Placeholder-Image.jpg
END:VEVENT
BEGIN:VEVENT
DTSTART;TZID=America/New_York:20261008T190000
DTEND;TZID=America/New_York:20261008T200000
DTSTAMP:20260425T124027
CREATED:20250430T183632Z
LAST-MODIFIED:20250430T190246Z
UID:10000624-1791486000-1791489600@fishchurch.org
SUMMARY:Steps to Recovery
DESCRIPTION:« All Events \n\n\nAdd to calendar \n  \n\nGoogle Calendar\niCalendar\nOutlook 365\nOutlook Live\n\nSteps to Recovery\nMay 1\n@\n7:00 pm\n–\n8:00 pm \nMeet in the lounge. \n  \n\n\n\nEaster Sunday Worship \n\nRed Cross Blood Drive
URL:https://fishchurch.org/event/steps-to-recovery/2026-10-08/
LOCATION:Lounge\, 1101 Bedford Street\, Stamford\, CT\, USA\, Stamford\, CT\, 06905\, United States
ATTACH;FMTTYPE=image/jpeg:https://fishchurch.org/wp-content/uploads/2025/04/Calendar-Event-Placeholder-Image.jpg
END:VEVENT
BEGIN:VEVENT
DTSTART;TZID=America/New_York:20261002T120000
DTEND;TZID=America/New_York:20261002T133000
DTSTAMP:20260425T124027
CREATED:20250429T202036Z
LAST-MODIFIED:20250429T202036Z
UID:10000100-1790942400-1790947800@fishchurch.org
SUMMARY:AlAnon Meeting
DESCRIPTION:
URL:https://fishchurch.org/event/alanon-meeting/2026-10-02/
LOCATION:Room 32\, 1101 Bedford Street\, Stamford\, CT\, USA\, Stamford\, CT\, 06905\, United States
ATTACH;FMTTYPE=image/jpeg:https://fishchurch.org/wp-content/uploads/2025/04/Calendar-Event-Placeholder-Image.jpg
END:VEVENT
BEGIN:VEVENT
DTSTART;TZID=America/New_York:20261001T190000
DTEND;TZID=America/New_York:20261001T200000
DTSTAMP:20260425T124027
CREATED:20250430T183632Z
LAST-MODIFIED:20250430T190246Z
UID:10000623-1790881200-1790884800@fishchurch.org
SUMMARY:Steps to Recovery
DESCRIPTION:« All Events \n\n\nAdd to calendar \n  \n\nGoogle Calendar\niCalendar\nOutlook 365\nOutlook Live\n\nSteps to Recovery\nMay 1\n@\n7:00 pm\n–\n8:00 pm \nMeet in the lounge. \n  \n\n\n\nEaster Sunday Worship \n\nRed Cross Blood Drive
URL:https://fishchurch.org/event/steps-to-recovery/2026-10-01/
LOCATION:Lounge\, 1101 Bedford Street\, Stamford\, CT\, USA\, Stamford\, CT\, 06905\, United States
ATTACH;FMTTYPE=image/jpeg:https://fishchurch.org/wp-content/uploads/2025/04/Calendar-Event-Placeholder-Image.jpg
END:VEVENT
BEGIN:VEVENT
DTSTART;TZID=America/New_York:20260925T120000
DTEND;TZID=America/New_York:20260925T133000
DTSTAMP:20260425T124027
CREATED:20250429T202036Z
LAST-MODIFIED:20250429T202036Z
UID:10000099-1790337600-1790343000@fishchurch.org
SUMMARY:AlAnon Meeting
DESCRIPTION:
URL:https://fishchurch.org/event/alanon-meeting/2026-09-25/
LOCATION:Room 32\, 1101 Bedford Street\, Stamford\, CT\, USA\, Stamford\, CT\, 06905\, United States
ATTACH;FMTTYPE=image/jpeg:https://fishchurch.org/wp-content/uploads/2025/04/Calendar-Event-Placeholder-Image.jpg
END:VEVENT
BEGIN:VEVENT
DTSTART;TZID=America/New_York:20260924T190000
DTEND;TZID=America/New_York:20260924T200000
DTSTAMP:20260425T124027
CREATED:20250430T183632Z
LAST-MODIFIED:20250430T190246Z
UID:10000622-1790276400-1790280000@fishchurch.org
SUMMARY:Steps to Recovery
DESCRIPTION:« All Events \n\n\nAdd to calendar \n  \n\nGoogle Calendar\niCalendar\nOutlook 365\nOutlook Live\n\nSteps to Recovery\nMay 1\n@\n7:00 pm\n–\n8:00 pm \nMeet in the lounge. \n  \n\n\n\nEaster Sunday Worship \n\nRed Cross Blood Drive
URL:https://fishchurch.org/event/steps-to-recovery/2026-09-24/
LOCATION:Lounge\, 1101 Bedford Street\, Stamford\, CT\, USA\, Stamford\, CT\, 06905\, United States
ATTACH;FMTTYPE=image/jpeg:https://fishchurch.org/wp-content/uploads/2025/04/Calendar-Event-Placeholder-Image.jpg
END:VEVENT
BEGIN:VEVENT
DTSTART;TZID=America/New_York:20260918T120000
DTEND;TZID=America/New_York:20260918T133000
DTSTAMP:20260425T124027
CREATED:20250429T202036Z
LAST-MODIFIED:20250429T202036Z
UID:10000098-1789732800-1789738200@fishchurch.org
SUMMARY:AlAnon Meeting
DESCRIPTION:
URL:https://fishchurch.org/event/alanon-meeting/2026-09-18/
LOCATION:Room 32\, 1101 Bedford Street\, Stamford\, CT\, USA\, Stamford\, CT\, 06905\, United States
ATTACH;FMTTYPE=image/jpeg:https://fishchurch.org/wp-content/uploads/2025/04/Calendar-Event-Placeholder-Image.jpg
END:VEVENT
BEGIN:VEVENT
DTSTART;TZID=America/New_York:20260917T190000
DTEND;TZID=America/New_York:20260917T200000
DTSTAMP:20260425T124027
CREATED:20250430T183632Z
LAST-MODIFIED:20250430T190246Z
UID:10000621-1789671600-1789675200@fishchurch.org
SUMMARY:Steps to Recovery
DESCRIPTION:« All Events \n\n\nAdd to calendar \n  \n\nGoogle Calendar\niCalendar\nOutlook 365\nOutlook Live\n\nSteps to Recovery\nMay 1\n@\n7:00 pm\n–\n8:00 pm \nMeet in the lounge. \n  \n\n\n\nEaster Sunday Worship \n\nRed Cross Blood Drive
URL:https://fishchurch.org/event/steps-to-recovery/2026-09-17/
LOCATION:Lounge\, 1101 Bedford Street\, Stamford\, CT\, USA\, Stamford\, CT\, 06905\, United States
ATTACH;FMTTYPE=image/jpeg:https://fishchurch.org/wp-content/uploads/2025/04/Calendar-Event-Placeholder-Image.jpg
END:VEVENT
BEGIN:VEVENT
DTSTART;TZID=America/New_York:20260911T120000
DTEND;TZID=America/New_York:20260911T133000
DTSTAMP:20260425T124027
CREATED:20250429T202036Z
LAST-MODIFIED:20250429T202036Z
UID:10000097-1789128000-1789133400@fishchurch.org
SUMMARY:AlAnon Meeting
DESCRIPTION:
URL:https://fishchurch.org/event/alanon-meeting/2026-09-11/
LOCATION:Room 32\, 1101 Bedford Street\, Stamford\, CT\, USA\, Stamford\, CT\, 06905\, United States
ATTACH;FMTTYPE=image/jpeg:https://fishchurch.org/wp-content/uploads/2025/04/Calendar-Event-Placeholder-Image.jpg
END:VEVENT
BEGIN:VEVENT
DTSTART;TZID=America/New_York:20260910T190000
DTEND;TZID=America/New_York:20260910T200000
DTSTAMP:20260425T124027
CREATED:20250430T183632Z
LAST-MODIFIED:20250430T190246Z
UID:10000620-1789066800-1789070400@fishchurch.org
SUMMARY:Steps to Recovery
DESCRIPTION:« All Events \n\n\nAdd to calendar \n  \n\nGoogle Calendar\niCalendar\nOutlook 365\nOutlook Live\n\nSteps to Recovery\nMay 1\n@\n7:00 pm\n–\n8:00 pm \nMeet in the lounge. \n  \n\n\n\nEaster Sunday Worship \n\nRed Cross Blood Drive
URL:https://fishchurch.org/event/steps-to-recovery/2026-09-10/
LOCATION:Lounge\, 1101 Bedford Street\, Stamford\, CT\, USA\, Stamford\, CT\, 06905\, United States
ATTACH;FMTTYPE=image/jpeg:https://fishchurch.org/wp-content/uploads/2025/04/Calendar-Event-Placeholder-Image.jpg
END:VEVENT
BEGIN:VEVENT
DTSTART;TZID=America/New_York:20260904T120000
DTEND;TZID=America/New_York:20260904T133000
DTSTAMP:20260425T124027
CREATED:20250429T202036Z
LAST-MODIFIED:20250429T202036Z
UID:10000096-1788523200-1788528600@fishchurch.org
SUMMARY:AlAnon Meeting
DESCRIPTION:
URL:https://fishchurch.org/event/alanon-meeting/2026-09-04/
LOCATION:Room 32\, 1101 Bedford Street\, Stamford\, CT\, USA\, Stamford\, CT\, 06905\, United States
ATTACH;FMTTYPE=image/jpeg:https://fishchurch.org/wp-content/uploads/2025/04/Calendar-Event-Placeholder-Image.jpg
END:VEVENT
BEGIN:VEVENT
DTSTART;TZID=America/New_York:20260903T190000
DTEND;TZID=America/New_York:20260903T200000
DTSTAMP:20260425T124027
CREATED:20250430T183632Z
LAST-MODIFIED:20250430T190246Z
UID:10000619-1788462000-1788465600@fishchurch.org
SUMMARY:Steps to Recovery
DESCRIPTION:« All Events \n\n\nAdd to calendar \n  \n\nGoogle Calendar\niCalendar\nOutlook 365\nOutlook Live\n\nSteps to Recovery\nMay 1\n@\n7:00 pm\n–\n8:00 pm \nMeet in the lounge. \n  \n\n\n\nEaster Sunday Worship \n\nRed Cross Blood Drive
URL:https://fishchurch.org/event/steps-to-recovery/2026-09-03/
LOCATION:Lounge\, 1101 Bedford Street\, Stamford\, CT\, USA\, Stamford\, CT\, 06905\, United States
ATTACH;FMTTYPE=image/jpeg:https://fishchurch.org/wp-content/uploads/2025/04/Calendar-Event-Placeholder-Image.jpg
END:VEVENT
BEGIN:VEVENT
DTSTART;TZID=America/New_York:20260828T120000
DTEND;TZID=America/New_York:20260828T133000
DTSTAMP:20260425T124027
CREATED:20250429T202036Z
LAST-MODIFIED:20250429T202036Z
UID:10000095-1787918400-1787923800@fishchurch.org
SUMMARY:AlAnon Meeting
DESCRIPTION:
URL:https://fishchurch.org/event/alanon-meeting/2026-08-28/
LOCATION:Room 32\, 1101 Bedford Street\, Stamford\, CT\, USA\, Stamford\, CT\, 06905\, United States
ATTACH;FMTTYPE=image/jpeg:https://fishchurch.org/wp-content/uploads/2025/04/Calendar-Event-Placeholder-Image.jpg
END:VEVENT
BEGIN:VEVENT
DTSTART;TZID=America/New_York:20260827T190000
DTEND;TZID=America/New_York:20260827T200000
DTSTAMP:20260425T124027
CREATED:20250430T183632Z
LAST-MODIFIED:20250430T190246Z
UID:10000618-1787857200-1787860800@fishchurch.org
SUMMARY:Steps to Recovery
DESCRIPTION:« All Events \n\n\nAdd to calendar \n  \n\nGoogle Calendar\niCalendar\nOutlook 365\nOutlook Live\n\nSteps to Recovery\nMay 1\n@\n7:00 pm\n–\n8:00 pm \nMeet in the lounge. \n  \n\n\n\nEaster Sunday Worship \n\nRed Cross Blood Drive
URL:https://fishchurch.org/event/steps-to-recovery/2026-08-27/
LOCATION:Lounge\, 1101 Bedford Street\, Stamford\, CT\, USA\, Stamford\, CT\, 06905\, United States
ATTACH;FMTTYPE=image/jpeg:https://fishchurch.org/wp-content/uploads/2025/04/Calendar-Event-Placeholder-Image.jpg
END:VEVENT
BEGIN:VEVENT
DTSTART;TZID=America/New_York:20260821T120000
DTEND;TZID=America/New_York:20260821T133000
DTSTAMP:20260425T124028
CREATED:20250429T202036Z
LAST-MODIFIED:20250429T202036Z
UID:10000094-1787313600-1787319000@fishchurch.org
SUMMARY:AlAnon Meeting
DESCRIPTION:
URL:https://fishchurch.org/event/alanon-meeting/2026-08-21/
LOCATION:Room 32\, 1101 Bedford Street\, Stamford\, CT\, USA\, Stamford\, CT\, 06905\, United States
ATTACH;FMTTYPE=image/jpeg:https://fishchurch.org/wp-content/uploads/2025/04/Calendar-Event-Placeholder-Image.jpg
END:VEVENT
BEGIN:VEVENT
DTSTART;TZID=America/New_York:20260820T190000
DTEND;TZID=America/New_York:20260820T200000
DTSTAMP:20260425T124028
CREATED:20250430T183632Z
LAST-MODIFIED:20250430T190246Z
UID:10000617-1787252400-1787256000@fishchurch.org
SUMMARY:Steps to Recovery
DESCRIPTION:« All Events \n\n\nAdd to calendar \n  \n\nGoogle Calendar\niCalendar\nOutlook 365\nOutlook Live\n\nSteps to Recovery\nMay 1\n@\n7:00 pm\n–\n8:00 pm \nMeet in the lounge. \n  \n\n\n\nEaster Sunday Worship \n\nRed Cross Blood Drive
URL:https://fishchurch.org/event/steps-to-recovery/2026-08-20/
LOCATION:Lounge\, 1101 Bedford Street\, Stamford\, CT\, USA\, Stamford\, CT\, 06905\, United States
ATTACH;FMTTYPE=image/jpeg:https://fishchurch.org/wp-content/uploads/2025/04/Calendar-Event-Placeholder-Image.jpg
END:VEVENT
BEGIN:VEVENT
DTSTART;TZID=America/New_York:20260814T120000
DTEND;TZID=America/New_York:20260814T133000
DTSTAMP:20260425T124028
CREATED:20250429T202036Z
LAST-MODIFIED:20250429T202036Z
UID:10000093-1786708800-1786714200@fishchurch.org
SUMMARY:AlAnon Meeting
DESCRIPTION:
URL:https://fishchurch.org/event/alanon-meeting/2026-08-14/
LOCATION:Room 32\, 1101 Bedford Street\, Stamford\, CT\, USA\, Stamford\, CT\, 06905\, United States
ATTACH;FMTTYPE=image/jpeg:https://fishchurch.org/wp-content/uploads/2025/04/Calendar-Event-Placeholder-Image.jpg
END:VEVENT
BEGIN:VEVENT
DTSTART;TZID=America/New_York:20260813T190000
DTEND;TZID=America/New_York:20260813T200000
DTSTAMP:20260425T124028
CREATED:20250430T183632Z
LAST-MODIFIED:20250430T190246Z
UID:10000616-1786647600-1786651200@fishchurch.org
SUMMARY:Steps to Recovery
DESCRIPTION:« All Events \n\n\nAdd to calendar \n  \n\nGoogle Calendar\niCalendar\nOutlook 365\nOutlook Live\n\nSteps to Recovery\nMay 1\n@\n7:00 pm\n–\n8:00 pm \nMeet in the lounge. \n  \n\n\n\nEaster Sunday Worship \n\nRed Cross Blood Drive
URL:https://fishchurch.org/event/steps-to-recovery/2026-08-13/
LOCATION:Lounge\, 1101 Bedford Street\, Stamford\, CT\, USA\, Stamford\, CT\, 06905\, United States
ATTACH;FMTTYPE=image/jpeg:https://fishchurch.org/wp-content/uploads/2025/04/Calendar-Event-Placeholder-Image.jpg
END:VEVENT
BEGIN:VEVENT
DTSTART;TZID=America/New_York:20260807T120000
DTEND;TZID=America/New_York:20260807T133000
DTSTAMP:20260425T124028
CREATED:20250429T202036Z
LAST-MODIFIED:20250429T202036Z
UID:10000092-1786104000-1786109400@fishchurch.org
SUMMARY:AlAnon Meeting
DESCRIPTION:
URL:https://fishchurch.org/event/alanon-meeting/2026-08-07/
LOCATION:Room 32\, 1101 Bedford Street\, Stamford\, CT\, USA\, Stamford\, CT\, 06905\, United States
ATTACH;FMTTYPE=image/jpeg:https://fishchurch.org/wp-content/uploads/2025/04/Calendar-Event-Placeholder-Image.jpg
END:VEVENT
BEGIN:VEVENT
DTSTART;TZID=America/New_York:20260806T190000
DTEND;TZID=America/New_York:20260806T200000
DTSTAMP:20260425T124028
CREATED:20250430T183632Z
LAST-MODIFIED:20250430T190246Z
UID:10000615-1786042800-1786046400@fishchurch.org
SUMMARY:Steps to Recovery
DESCRIPTION:« All Events \n\n\nAdd to calendar \n  \n\nGoogle Calendar\niCalendar\nOutlook 365\nOutlook Live\n\nSteps to Recovery\nMay 1\n@\n7:00 pm\n–\n8:00 pm \nMeet in the lounge. \n  \n\n\n\nEaster Sunday Worship \n\nRed Cross Blood Drive
URL:https://fishchurch.org/event/steps-to-recovery/2026-08-06/
LOCATION:Lounge\, 1101 Bedford Street\, Stamford\, CT\, USA\, Stamford\, CT\, 06905\, United States
ATTACH;FMTTYPE=image/jpeg:https://fishchurch.org/wp-content/uploads/2025/04/Calendar-Event-Placeholder-Image.jpg
END:VEVENT
END:VCALENDAR