BEGIN:VCALENDAR
VERSION:2.0
PRODID:-//First Presbyterian Church - ECPv6.15.20//NONSGML v1.0//EN
CALSCALE:GREGORIAN
METHOD:PUBLISH
X-WR-CALNAME:First Presbyterian Church
X-ORIGINAL-URL:https://fishchurch.org
X-WR-CALDESC:Events for First Presbyterian Church
REFRESH-INTERVAL;VALUE=DURATION:PT1H
X-Robots-Tag:noindex
X-PUBLISHED-TTL:PT1H
BEGIN:VTIMEZONE
TZID:America/New_York
BEGIN:DAYLIGHT
TZOFFSETFROM:-0500
TZOFFSETTO:-0400
TZNAME:EDT
DTSTART:20240310T070000
END:DAYLIGHT
BEGIN:STANDARD
TZOFFSETFROM:-0400
TZOFFSETTO:-0500
TZNAME:EST
DTSTART:20241103T060000
END:STANDARD
BEGIN:DAYLIGHT
TZOFFSETFROM:-0500
TZOFFSETTO:-0400
TZNAME:EDT
DTSTART:20250309T070000
END:DAYLIGHT
BEGIN:STANDARD
TZOFFSETFROM:-0400
TZOFFSETTO:-0500
TZNAME:EST
DTSTART:20251102T060000
END:STANDARD
BEGIN:DAYLIGHT
TZOFFSETFROM:-0500
TZOFFSETTO:-0400
TZNAME:EDT
DTSTART:20260308T070000
END:DAYLIGHT
BEGIN:STANDARD
TZOFFSETFROM:-0400
TZOFFSETTO:-0500
TZNAME:EST
DTSTART:20261101T060000
END:STANDARD
END:VTIMEZONE
BEGIN:VEVENT
DTSTART;TZID=America/New_York:20250502T100000
DTEND;TZID=America/New_York:20250502T150000
DTSTAMP:20260425T114906
CREATED:20250429T193838Z
LAST-MODIFIED:20250429T194137Z
UID:10000021-1746180000-1746198000@fishchurch.org
SUMMARY:Red Cross Blood Drive
DESCRIPTION:Home » Events » Page 19 				\n				\n				\n				\n					\n	« All Events\n 				\n				\n					\n				\n				\n						\n					\n			\n							\n		\n					\n		\n		\n					\n		\n				\n				\n					\n	\n				\n				\n				\n				\n					\n	\n		\n\n	\n	Add to calendar	\n		\n	\n\n		\n			\n									\n	Google Calendar\n\n									\n	iCalendar\n\n									\n	Outlook 365\n\n									\n	Outlook Live\n\n							\n		\n\n		\n	\n\n				\n				\n				\n		\n				\n				\n					\n	Steps to Recovery				\n				\n				\n				\n					\n		\n			May 14\n\n	\n\n	  @  \n\n\n7:00 pm\n\n		\n\n\n\n	\n	  -  \n\n8:00 pm\n\n\n\n	\n				\n				\n				\n				\n					\n				\n				\n	\n			\n		Lounge			\n	\n	\n	\n\n1101 Bedford Street\, Stamford\, CT\, USA\n	\n		\n		Stamford\,\n\n	CT\n\n	06905\n\n	United States\n\n\n\n\n	+ Google Map \n\n\n	\n					\n			2033249522			\n	 \n\n\n	\n	 \n\n\n\n	\n\n\n\n		\n	\n				\n				\n				\n				\n									Meet in the lounge. 								\n				\n				\n				\n							\n								\n						\n															\n															\n																				\n					\n									\n						\n															\n															\n																				\n					\n						\n						\n				\n				\n					\n				\n		\n					\n				\n				\n					\n	\n		\n\n				Bible Study	\n\n\n		\n	\n		AlAnon Meeting
URL:https://fishchurch.org/event/red-cross-blood-drive/
LOCATION:Fellowship Hall\, 1101 Bedford Street\, Stamford\, CT\, 06905\, United States
CATEGORIES:Homepage
ATTACH;FMTTYPE=image/jpeg:https://fishchurch.org/wp-content/uploads/2025/04/Blood-Drive-FPC.jpg
END:VEVENT
BEGIN:VEVENT
DTSTART;TZID=America/New_York:20250501T190000
DTEND;TZID=America/New_York:20250501T200000
DTSTAMP:20260425T114906
CREATED:20250430T183632Z
LAST-MODIFIED:20250430T190246Z
UID:10000287-1746126000-1746129600@fishchurch.org
SUMMARY:Steps to Recovery
DESCRIPTION:Home » Events » Page 19 				\n				\n				\n				\n					\n	« All Events\n 				\n				\n					\n				\n				\n						\n					\n			\n							\n		\n					\n		\n		\n					\n		\n				\n				\n					\n	\n				\n				\n				\n				\n					\n	\n		\n\n	\n	Add to calendar	\n		\n	\n\n		\n			\n									\n	Google Calendar\n\n									\n	iCalendar\n\n									\n	Outlook 365\n\n									\n	Outlook Live\n\n							\n		\n\n		\n	\n\n				\n				\n				\n		\n				\n				\n					\n	Steps to Recovery				\n				\n				\n				\n					\n		\n			May 14\n\n	\n\n	  @  \n\n\n7:00 pm\n\n		\n\n\n\n	\n	  -  \n\n8:00 pm\n\n\n\n	\n				\n				\n				\n				\n					\n				\n				\n	\n			\n		Lounge			\n	\n	\n	\n\n1101 Bedford Street\, Stamford\, CT\, USA\n	\n		\n		Stamford\,\n\n	CT\n\n	06905\n\n	United States\n\n\n\n\n	+ Google Map \n\n\n	\n					\n			2033249522			\n	 \n\n\n	\n	 \n\n\n\n	\n\n\n\n		\n	\n				\n				\n				\n				\n									Meet in the lounge. 								\n				\n				\n				\n							\n								\n						\n															\n															\n																				\n					\n									\n						\n															\n															\n																				\n					\n						\n						\n				\n				\n					\n				\n		\n					\n				\n				\n					\n	\n		\n\n				Bible Study	\n\n\n		\n	\n		AlAnon Meeting
URL:https://fishchurch.org/event/steps-to-recovery/2025-05-01/
LOCATION:Lounge\, 1101 Bedford Street\, Stamford\, CT\, USA\, Stamford\, CT\, 06905\, United States
ATTACH;FMTTYPE=image/jpeg:https://fishchurch.org/wp-content/uploads/2025/04/Calendar-Event-Placeholder-Image.jpg
END:VEVENT
BEGIN:VEVENT
DTSTART;TZID=America/New_York:20250420T100000
DTEND;TZID=America/New_York:20250420T120000
DTSTAMP:20260425T114906
CREATED:20250326T194659Z
LAST-MODIFIED:20250419T015237Z
UID:10000003-1745143200-1745150400@fishchurch.org
SUMMARY:Easter Sunday Worship
DESCRIPTION:Home » Events » Page 19 				\n				\n				\n				\n					\n	« All Events\n 				\n				\n					\n				\n				\n						\n					\n			\n							\n		\n					\n		\n		\n					\n		\n				\n				\n					\n	\n				\n				\n				\n				\n					\n	\n		\n\n	\n	Add to calendar	\n		\n	\n\n		\n			\n									\n	Google Calendar\n\n									\n	iCalendar\n\n									\n	Outlook 365\n\n									\n	Outlook Live\n\n							\n		\n\n		\n	\n\n				\n				\n				\n		\n				\n				\n					\n	Steps to Recovery				\n				\n				\n				\n					\n		\n			May 14\n\n	\n\n	  @  \n\n\n7:00 pm\n\n		\n\n\n\n	\n	  -  \n\n8:00 pm\n\n\n\n	\n				\n				\n				\n				\n					\n				\n				\n	\n			\n		Lounge			\n	\n	\n	\n\n1101 Bedford Street\, Stamford\, CT\, USA\n	\n		\n		Stamford\,\n\n	CT\n\n	06905\n\n	United States\n\n\n\n\n	+ Google Map \n\n\n	\n					\n			2033249522			\n	 \n\n\n	\n	 \n\n\n\n	\n\n\n\n		\n	\n				\n				\n				\n				\n									Meet in the lounge. 								\n				\n				\n				\n							\n								\n						\n															\n															\n																				\n					\n									\n						\n															\n															\n																				\n					\n						\n						\n				\n				\n					\n				\n		\n					\n				\n				\n					\n	\n		\n\n				Bible Study	\n\n\n		\n	\n		AlAnon Meeting
URL:https://fishchurch.org/event/easter-sunday-worship/
LOCATION:First Presbyterian Church of Stamford\, 1101 Bedford Street\, Stamford\, CT\, 06905\, United States
ATTACH;FMTTYPE=image/png:https://fishchurch.org/wp-content/uploads/2025/03/Easter-Sunday-Worship_FPC.png
END:VEVENT
BEGIN:VEVENT
DTSTART;TZID=America/New_York:20250418T193000
DTEND;TZID=America/New_York:20250418T210000
DTSTAMP:20260425T114906
CREATED:20250326T194507Z
LAST-MODIFIED:20250417T194345Z
UID:10000002-1745004600-1745010000@fishchurch.org
SUMMARY:Good Friday Concert
DESCRIPTION:Home » Events » Page 19 				\n				\n				\n				\n					\n	« All Events\n 				\n				\n					\n				\n				\n						\n					\n			\n							\n		\n					\n		\n		\n					\n		\n				\n				\n					\n	\n				\n				\n				\n				\n					\n	\n		\n\n	\n	Add to calendar	\n		\n	\n\n		\n			\n									\n	Google Calendar\n\n									\n	iCalendar\n\n									\n	Outlook 365\n\n									\n	Outlook Live\n\n							\n		\n\n		\n	\n\n				\n				\n				\n		\n				\n				\n					\n	Steps to Recovery				\n				\n				\n				\n					\n		\n			May 14\n\n	\n\n	  @  \n\n\n7:00 pm\n\n		\n\n\n\n	\n	  -  \n\n8:00 pm\n\n\n\n	\n				\n				\n				\n				\n					\n				\n				\n	\n			\n		Lounge			\n	\n	\n	\n\n1101 Bedford Street\, Stamford\, CT\, USA\n	\n		\n		Stamford\,\n\n	CT\n\n	06905\n\n	United States\n\n\n\n\n	+ Google Map \n\n\n	\n					\n			2033249522			\n	 \n\n\n	\n	 \n\n\n\n	\n\n\n\n		\n	\n				\n				\n				\n				\n									Meet in the lounge. 								\n				\n				\n				\n							\n								\n						\n															\n															\n																				\n					\n									\n						\n															\n															\n																				\n					\n						\n						\n				\n				\n					\n				\n		\n					\n				\n				\n					\n	\n		\n\n				Bible Study	\n\n\n		\n	\n		AlAnon Meeting
URL:https://fishchurch.org/event/good-friday-concert/
LOCATION:Sanctuary\, 1101 Bedford Street\, Stamford\, CT\, 06905\, United States
ATTACH;FMTTYPE=image/png:https://fishchurch.org/wp-content/uploads/2025/03/Good-Friday-Concert_FPC.png
END:VEVENT
BEGIN:VEVENT
DTSTART;TZID=America/New_York:20250417T193000
DTEND;TZID=America/New_York:20250417T210000
DTSTAMP:20260425T114906
CREATED:20250408T135448Z
LAST-MODIFIED:20250408T135632Z
UID:10000005-1744918200-1744923600@fishchurch.org
SUMMARY:Maundy Thursday Service & Meal
DESCRIPTION:Home » Events » Page 19 				\n				\n				\n				\n					\n	« All Events\n 				\n				\n					\n				\n				\n						\n					\n			\n							\n		\n					\n		\n		\n					\n		\n				\n				\n					\n	\n				\n				\n				\n				\n					\n	\n		\n\n	\n	Add to calendar	\n		\n	\n\n		\n			\n									\n	Google Calendar\n\n									\n	iCalendar\n\n									\n	Outlook 365\n\n									\n	Outlook Live\n\n							\n		\n\n		\n	\n\n				\n				\n				\n		\n				\n				\n					\n	Steps to Recovery				\n				\n				\n				\n					\n		\n			May 14\n\n	\n\n	  @  \n\n\n7:00 pm\n\n		\n\n\n\n	\n	  -  \n\n8:00 pm\n\n\n\n	\n				\n				\n				\n				\n					\n				\n				\n	\n			\n		Lounge			\n	\n	\n	\n\n1101 Bedford Street\, Stamford\, CT\, USA\n	\n		\n		Stamford\,\n\n	CT\n\n	06905\n\n	United States\n\n\n\n\n	+ Google Map \n\n\n	\n					\n			2033249522			\n	 \n\n\n	\n	 \n\n\n\n	\n\n\n\n		\n	\n				\n				\n				\n				\n									Meet in the lounge. 								\n				\n				\n				\n							\n								\n						\n															\n															\n																				\n					\n									\n						\n															\n															\n																				\n					\n						\n						\n				\n				\n					\n				\n		\n					\n				\n				\n					\n	\n		\n\n				Bible Study	\n\n\n		\n	\n		AlAnon Meeting
URL:https://fishchurch.org/event/maundy-thursday-service-meal-2/
LOCATION:Fellowship Hall\, 1101 Bedford Street\, Stamford\, CT\, 06905\, United States
ATTACH;FMTTYPE=image/png:https://fishchurch.org/wp-content/uploads/2025/03/Maundy-Thursday_FPC.png
END:VEVENT
END:VCALENDAR