BEGIN:VCALENDAR
VERSION:2.0
PRODID:-//First Presbyterian Church - ECPv6.15.20//NONSGML v1.0//EN
CALSCALE:GREGORIAN
METHOD:PUBLISH
X-WR-CALNAME:First Presbyterian Church
X-ORIGINAL-URL:https://fishchurch.org
X-WR-CALDESC:Events for First Presbyterian Church
REFRESH-INTERVAL;VALUE=DURATION:PT1H
X-Robots-Tag:noindex
X-PUBLISHED-TTL:PT1H
BEGIN:VTIMEZONE
TZID:America/New_York
BEGIN:DAYLIGHT
TZOFFSETFROM:-0500
TZOFFSETTO:-0400
TZNAME:EDT
DTSTART:20240310T070000
END:DAYLIGHT
BEGIN:STANDARD
TZOFFSETFROM:-0400
TZOFFSETTO:-0500
TZNAME:EST
DTSTART:20241103T060000
END:STANDARD
BEGIN:DAYLIGHT
TZOFFSETFROM:-0500
TZOFFSETTO:-0400
TZNAME:EDT
DTSTART:20250309T070000
END:DAYLIGHT
BEGIN:STANDARD
TZOFFSETFROM:-0400
TZOFFSETTO:-0500
TZNAME:EST
DTSTART:20251102T060000
END:STANDARD
BEGIN:DAYLIGHT
TZOFFSETFROM:-0500
TZOFFSETTO:-0400
TZNAME:EDT
DTSTART:20260308T070000
END:DAYLIGHT
BEGIN:STANDARD
TZOFFSETFROM:-0400
TZOFFSETTO:-0500
TZNAME:EST
DTSTART:20261101T060000
END:STANDARD
END:VTIMEZONE
BEGIN:VEVENT
DTSTART;TZID=America/New_York:20251210T190000
DTEND;TZID=America/New_York:20251210T220000
DTSTAMP:20260425T104924
CREATED:20251125T200738Z
LAST-MODIFIED:20251125T201135Z
UID:10000950-1765393200-1765404000@fishchurch.org
SUMMARY:Young Adult Holiday Soirée
DESCRIPTION:« All Events\n \n	\n\n	\n	Add to calendar	\n		\n	\n \n\n\n	Google Calendar\n\n\n	iCalendar\n\n\n	Outlook 365\n\n\n	Outlook Live\n\n\n\n	Young Adult Holiday Soirée\n			December 10\n	  @\n7:00 pm\n	  –\n10:00 pm \nPotluck gathering in Stamford with fellow young adults\, ages 21-40\, to celebrate the holiday season! RSVP to Katie Kennedy at  katiekennedy345@gmail.com by Wednesday\, December 3. \n  \nPlease note\, this is an adults only event. \n								\n															 \n\n\n\n\n				Steps to Recovery	\n\n\n	\n		Steps to Recovery
URL:https://fishchurch.org/event/young-adult-holiday-soiree/
LOCATION:CT
CATEGORIES:Homepage
ATTACH;FMTTYPE=image/jpeg:https://fishchurch.org/wp-content/uploads/2025/11/Young-Adult-Holiday-Soiree.jpg
END:VEVENT
BEGIN:VEVENT
DTSTART;TZID=America/New_York:20251208T190000
DTEND;TZID=America/New_York:20251208T200000
DTSTAMP:20260425T104924
CREATED:20250516T193147Z
LAST-MODIFIED:20250516T193147Z
UID:10000848-1765220400-1765224000@fishchurch.org
SUMMARY:Steps to Recovery
DESCRIPTION:
URL:https://fishchurch.org/event/steps-to-recovery-4/2025-12-08/
LOCATION:Lounge\, 1101 Bedford Street\, Stamford\, CT\, USA\, Stamford\, CT\, 06905\, United States
ATTACH;FMTTYPE=image/jpeg:https://fishchurch.org/wp-content/uploads/2025/04/Calendar-Event-Placeholder-Image.jpg
END:VEVENT
BEGIN:VEVENT
DTSTART;TZID=America/New_York:20251207T113000
DTEND;TZID=America/New_York:20251207T123000
DTSTAMP:20260425T104924
CREATED:20251125T200358Z
LAST-MODIFIED:20251125T200509Z
UID:10000949-1765107000-1765110600@fishchurch.org
SUMMARY:Christmas Lunch
DESCRIPTION:« All Events \n\n\n\nAdd to calendar \n \n\nGoogle Calendar\niCalendar\nOutlook 365\nOutlook Live\n\nChristmas Lunch\nDecember 7\n@\n11:30 am\n–\n12:30 pm \nJoin us following worship for a festive holiday lunch. \n\nFirst Presbyterian Church of Stamford \n1101 Bedford Street \nStamford\,\nCT\n06905\nUnited States\n+ Google Map \n  \n\n \n\n\n\nName Tag Sunday \n\nSteps to Recovery
URL:https://fishchurch.org/event/christmas-lunch/
LOCATION:First Presbyterian Church of Stamford\, 1101 Bedford Street\, Stamford\, CT\, 06905\, United States
CATEGORIES:Homepage
ATTACH;FMTTYPE=image/jpeg:https://fishchurch.org/wp-content/uploads/2025/11/Holiday-Lunch.jpg
END:VEVENT
BEGIN:VEVENT
DTSTART;TZID=America/New_York:20251207T110000
DTEND;TZID=America/New_York:20251207T120000
DTSTAMP:20260425T104924
CREATED:20251125T202628Z
LAST-MODIFIED:20251125T202628Z
UID:10000952-1765105200-1765108800@fishchurch.org
SUMMARY:Boy Scout Wreath Sale
DESCRIPTION:« All Events \n\n\n\nAdd to calendar \n \n\nGoogle Calendar\niCalendar\nOutlook 365\nOutlook Live\n\nBoy Scout Wreath Sale\nDecember 7\n@\n11:00 am\n–\n2:00 pm \nBoy Scout Troop 9 will be in the lounge lobby Sunday\, December 7\, selling wreaths for $28 each. \nThe Vermont Wreaths are 24 inches in size\, and decorated with a large bow\, pine cones\, and holly berries. \n\nLounge \n1101 Bedford Street\, Stamford\, CT\, USA \nStamford\,\nCT\n06905\nUnited States\n+ Google Map \n\n2033249522  \n\n \n\n\n\nName Tag Sunday \n\nChristmas Lunch
URL:https://fishchurch.org/event/boy-scout-wreath-sale/
LOCATION:Lounge\, 1101 Bedford Street\, Stamford\, CT\, USA\, Stamford\, CT\, 06905\, United States
CATEGORIES:Homepage
ATTACH;FMTTYPE=image/jpeg:https://fishchurch.org/wp-content/uploads/2025/11/Boy-Scount-Wreath.jpg
END:VEVENT
BEGIN:VEVENT
DTSTART;TZID=America/New_York:20251207T100000
DTEND;TZID=America/New_York:20251207T110000
DTSTAMP:20260425T104924
CREATED:20251202T201233Z
LAST-MODIFIED:20251202T202737Z
UID:10000957-1765101600-1765105200@fishchurch.org
SUMMARY:Sunday Worship "When We’re Running Out of Hope\, God is at Work"
DESCRIPTION:« All Events\n \n	\n\n	\n	Add to calendar	\n		\n	\n \n\n\n	Google Calendar\n\n\n	iCalendar\n\n\n	Outlook 365\n\n\n	Outlook Live\n\n\n\n	Sunday Worship “When We’re Running Out of Hope\, God is at Work”\n			December 7\n	  @\n10:00 am\n	  –\n11:00 am \nSecond Sunday of Advent & Communion Sunday \nThis week’s worship service\, “When We’re Running Out of Hope\, God is at Work”\, highlighting Matthew 11:1-11 & Isaiah 43:19-21\, will be delivered by Rev. Pablo Diaz. \n  \nSunday School / Nursery available for children birth through fifth grade. \n  \nClick here to watch live. \n  \nFor more information on Sunday worship services at First Presbyterian Church click here. \n\n			\n		First Presbyterian Church of Stamford			\n	\n\n1101 Bedford Street\n		\n		Stamford\,\n	CT\n	06905\n	United States\n\n\n	+ Google Map \n\n					\n						\n	 \n\n\n\n								\n															 \n\n\n\n\n				Steps to Recovery	\n\n\n	\n		Boy Scout Wreath Sale
URL:https://fishchurch.org/event/sunday-worship-12072025/
LOCATION:First Presbyterian Church of Stamford\, 1101 Bedford Street\, Stamford\, CT\, 06905\, United States
CATEGORIES:Homepage
ATTACH;FMTTYPE=image/jpeg:https://fishchurch.org/wp-content/uploads/2025/10/Pablo-Diaz-Preaching-05473.jpg
END:VEVENT
BEGIN:VEVENT
DTSTART;TZID=America/New_York:20251207T100000
DTEND;TZID=America/New_York:20251207T110000
DTSTAMP:20260425T104924
CREATED:20251015T163906Z
LAST-MODIFIED:20251015T163950Z
UID:10000926-1765101600-1765105200@fishchurch.org
SUMMARY:Name Tag Sunday
DESCRIPTION:« All Events \n\n\n\nAdd to calendar \n \n\nGoogle Calendar\niCalendar\nOutlook 365\nOutlook Live\n\nName Tag Sunday\nNovember 2\n@\n10:00 am\n–\n11:00 am \nGrab a name tag on the first Sunday of the month introduce yourself to someone new. \n\nFirst Presbyterian Church of Stamford \n1101 Bedford Street \nStamford\,\nCT\n06905\nUnited States\n+ Google Map \n  \n\n \n\n\n\nSteps to Recovery \n\nSteps to Recovery
URL:https://fishchurch.org/event/name-tag-sunday/
LOCATION:First Presbyterian Church of Stamford\, 1101 Bedford Street\, Stamford\, CT\, 06905\, United States
CATEGORIES:Homepage
ATTACH;FMTTYPE=image/jpeg:https://fishchurch.org/wp-content/uploads/2025/10/Nametag-Sundays.jpg
END:VEVENT
BEGIN:VEVENT
DTSTART;TZID=America/New_York:20251206T190000
DTEND;TZID=America/New_York:20251206T200000
DTSTAMP:20260425T104924
CREATED:20250516T193326Z
LAST-MODIFIED:20250516T193526Z
UID:10000914-1765047600-1765051200@fishchurch.org
SUMMARY:Steps to Recovery
DESCRIPTION:
URL:https://fishchurch.org/event/steps-to-recovery-5/2025-12-06/
LOCATION:CT
ATTACH;FMTTYPE=image/jpeg:https://fishchurch.org/wp-content/uploads/2025/04/Calendar-Event-Placeholder-Image.jpg
END:VEVENT
BEGIN:VEVENT
DTSTART;TZID=America/New_York:20251205T120000
DTEND;TZID=America/New_York:20251205T133000
DTSTAMP:20260425T104924
CREATED:20250429T202036Z
LAST-MODIFIED:20250429T202036Z
UID:10000057-1764936000-1764941400@fishchurch.org
SUMMARY:AlAnon Meeting
DESCRIPTION:
URL:https://fishchurch.org/event/alanon-meeting/2025-12-05/
LOCATION:Room 32\, 1101 Bedford Street\, Stamford\, CT\, USA\, Stamford\, CT\, 06905\, United States
ATTACH;FMTTYPE=image/jpeg:https://fishchurch.org/wp-content/uploads/2025/04/Calendar-Event-Placeholder-Image.jpg
END:VEVENT
BEGIN:VEVENT
DTSTART;TZID=America/New_York:20251204T190000
DTEND;TZID=America/New_York:20251204T200000
DTSTAMP:20260425T104924
CREATED:20250430T183632Z
LAST-MODIFIED:20250430T190246Z
UID:10000580-1764874800-1764878400@fishchurch.org
SUMMARY:Steps to Recovery
DESCRIPTION:« All Events \n\n\nAdd to calendar \n  \n\nGoogle Calendar\niCalendar\nOutlook 365\nOutlook Live\n\nSteps to Recovery\nMay 1\n@\n7:00 pm\n–\n8:00 pm \nMeet in the lounge. \n  \n\n\n\nEaster Sunday Worship \n\nRed Cross Blood Drive
URL:https://fishchurch.org/event/steps-to-recovery/2025-12-04/
LOCATION:Lounge\, 1101 Bedford Street\, Stamford\, CT\, USA\, Stamford\, CT\, 06905\, United States
ATTACH;FMTTYPE=image/jpeg:https://fishchurch.org/wp-content/uploads/2025/04/Calendar-Event-Placeholder-Image.jpg
END:VEVENT
BEGIN:VEVENT
DTSTART;TZID=America/New_York:20251201T190000
DTEND;TZID=America/New_York:20251201T200000
DTSTAMP:20260425T104924
CREATED:20250516T193147Z
LAST-MODIFIED:20250516T193147Z
UID:10000847-1764615600-1764619200@fishchurch.org
SUMMARY:Steps to Recovery
DESCRIPTION:
URL:https://fishchurch.org/event/steps-to-recovery-4/2025-12-01/
LOCATION:Lounge\, 1101 Bedford Street\, Stamford\, CT\, USA\, Stamford\, CT\, 06905\, United States
ATTACH;FMTTYPE=image/jpeg:https://fishchurch.org/wp-content/uploads/2025/04/Calendar-Event-Placeholder-Image.jpg
END:VEVENT
BEGIN:VEVENT
DTSTART;TZID=America/New_York:20251130T100000
DTEND;TZID=America/New_York:20251130T110000
DTSTAMP:20260425T104924
CREATED:20251114T025127Z
LAST-MODIFIED:20251114T025355Z
UID:10000946-1764496800-1764500400@fishchurch.org
SUMMARY:Sunday Worship "What Do You Fear?"
DESCRIPTION:« All Events\n \n	\n\n	\n	Add to calendar	\n		\n	\n \n\n\n	Google Calendar\n\n\n	iCalendar\n\n\n	Outlook 365\n\n\n	Outlook Live\n\n\n\n	Sunday Worship “What Do You Fear?”\n			November 30\n	  @\n10:00 am\n	  –\n11:00 am \nFirst Sunday of Advent \n  \nThis week’s worship service\, “What Do You Fear?”\, highlighting Lamentations 3:55-57 & Luke 1:5-13\, will be delivered by Rev. Pablo Diaz. \n  \nClick here to watch live. \n  \nFor more information on Sunday worship services at First Presbyterian Church click here. \n\n			\n		First Presbyterian Church of Stamford			\n	\n\n1101 Bedford Street\n		\n		Stamford\,\n	CT\n	06905\n	United States\n\n\n	+ Google Map \n\n					\n						\n	 \n\n\n\n								\n															 \n\n\n\n\n				Steps to Recovery	\n\n\n	\n		Steps to Recovery
URL:https://fishchurch.org/event/sunday-worship-11302025/
LOCATION:First Presbyterian Church of Stamford\, 1101 Bedford Street\, Stamford\, CT\, 06905\, United States
CATEGORIES:Homepage
ATTACH;FMTTYPE=image/jpeg:https://fishchurch.org/wp-content/uploads/2025/10/Pablo-Diaz-Preaching-05473.jpg
END:VEVENT
BEGIN:VEVENT
DTSTART;TZID=America/New_York:20251130T100000
DTEND;TZID=America/New_York:20251130T110000
DTSTAMP:20260425T104924
CREATED:20251015T165000Z
LAST-MODIFIED:20251114T025550Z
UID:10000936-1764496800-1764500400@fishchurch.org
SUMMARY:November Food Drive
DESCRIPTION:« All Events \n\n\n\nAdd to calendar \n  \n\nGoogle Calendar\niCalendar\nOutlook 365\nOutlook Live\n\nNovember Food Drive\nNovember 2\n@\n10:00 am\n–\n11:00 am \nBring in mac & cheese and fruit cups to help support The Food Bank of Lower Fairfield County. \n\nFirst Presbyterian Church of Stamford \n1101 Bedford StreetStamford\,\nCT\n06905\nUnited States\n+ Google Map \n  \n\n\n\nSteps to Recovery \n\nSteps to Recovery
URL:https://fishchurch.org/event/november-food-drive-2-copy/
LOCATION:First Presbyterian Church of Stamford\, 1101 Bedford Street\, Stamford\, CT\, 06905\, United States
ATTACH;FMTTYPE=image/jpeg:https://fishchurch.org/wp-content/uploads/2025/10/November-Food-Drive.jpg
END:VEVENT
BEGIN:VEVENT
DTSTART;TZID=America/New_York:20251129T190000
DTEND;TZID=America/New_York:20251129T200000
DTSTAMP:20260425T104924
CREATED:20250516T193326Z
LAST-MODIFIED:20250516T193526Z
UID:10000913-1764442800-1764446400@fishchurch.org
SUMMARY:Steps to Recovery
DESCRIPTION:
URL:https://fishchurch.org/event/steps-to-recovery-5/2025-11-29/
LOCATION:CT
ATTACH;FMTTYPE=image/jpeg:https://fishchurch.org/wp-content/uploads/2025/04/Calendar-Event-Placeholder-Image.jpg
END:VEVENT
BEGIN:VEVENT
DTSTART;TZID=America/New_York:20251128T120000
DTEND;TZID=America/New_York:20251128T133000
DTSTAMP:20260425T104924
CREATED:20250429T202036Z
LAST-MODIFIED:20250429T202036Z
UID:10000056-1764331200-1764336600@fishchurch.org
SUMMARY:AlAnon Meeting
DESCRIPTION:
URL:https://fishchurch.org/event/alanon-meeting/2025-11-28/
LOCATION:Room 32\, 1101 Bedford Street\, Stamford\, CT\, USA\, Stamford\, CT\, 06905\, United States
ATTACH;FMTTYPE=image/jpeg:https://fishchurch.org/wp-content/uploads/2025/04/Calendar-Event-Placeholder-Image.jpg
END:VEVENT
BEGIN:VEVENT
DTSTART;TZID=America/New_York:20251127T190000
DTEND;TZID=America/New_York:20251127T200000
DTSTAMP:20260425T104924
CREATED:20250430T183632Z
LAST-MODIFIED:20250430T190246Z
UID:10000579-1764270000-1764273600@fishchurch.org
SUMMARY:Steps to Recovery
DESCRIPTION:« All Events \n\n\nAdd to calendar \n  \n\nGoogle Calendar\niCalendar\nOutlook 365\nOutlook Live\n\nSteps to Recovery\nMay 1\n@\n7:00 pm\n–\n8:00 pm \nMeet in the lounge. \n  \n\n\n\nEaster Sunday Worship \n\nRed Cross Blood Drive
URL:https://fishchurch.org/event/steps-to-recovery/2025-11-27/
LOCATION:Lounge\, 1101 Bedford Street\, Stamford\, CT\, USA\, Stamford\, CT\, 06905\, United States
ATTACH;FMTTYPE=image/jpeg:https://fishchurch.org/wp-content/uploads/2025/04/Calendar-Event-Placeholder-Image.jpg
END:VEVENT
BEGIN:VEVENT
DTSTART;TZID=America/New_York:20251124T190000
DTEND;TZID=America/New_York:20251124T200000
DTSTAMP:20260425T104924
CREATED:20250516T193147Z
LAST-MODIFIED:20250516T193147Z
UID:10000846-1764010800-1764014400@fishchurch.org
SUMMARY:Steps to Recovery
DESCRIPTION:
URL:https://fishchurch.org/event/steps-to-recovery-4/2025-11-24/
LOCATION:Lounge\, 1101 Bedford Street\, Stamford\, CT\, USA\, Stamford\, CT\, 06905\, United States
ATTACH;FMTTYPE=image/jpeg:https://fishchurch.org/wp-content/uploads/2025/04/Calendar-Event-Placeholder-Image.jpg
END:VEVENT
BEGIN:VEVENT
DTSTART;TZID=America/New_York:20251123T100000
DTEND;TZID=America/New_York:20251123T110000
DTSTAMP:20260425T104924
CREATED:20251114T024904Z
LAST-MODIFIED:20251114T025053Z
UID:10000945-1763892000-1763895600@fishchurch.org
SUMMARY:Sunday Worship "Restore"
DESCRIPTION:« All Events\n \n	\n\n	\n	Add to calendar	\n		\n	\n \n\n\n	Google Calendar\n\n\n	iCalendar\n\n\n	Outlook 365\n\n\n	Outlook Live\n\n\n\n	Sunday Worship “Restore”\n			November 23\n	  @\n10:00 am\n	  –\n11:00 am \nThis week’s worship service\, “Restore”\, highlighting Genesis 33:1-17 & John 21:1-19\, will be delivered by Rev. Pablo Diaz. \n  \nClick here to watch live. \n  \nFor more information on Sunday worship services at First Presbyterian Church click here. \n\n			\n		First Presbyterian Church of Stamford			\n	\n\n1101 Bedford Street\n		\n		Stamford\,\n	CT\n	06905\n	United States\n\n\n	+ Google Map \n\n					\n						\n	 \n\n\n\n								\n															 \n\n\n\n\n				Steps to Recovery	\n\n\n	\n		Steps to Recovery
URL:https://fishchurch.org/event/sunday-worship-11232025/
LOCATION:First Presbyterian Church of Stamford\, 1101 Bedford Street\, Stamford\, CT\, 06905\, United States
CATEGORIES:Homepage
ATTACH;FMTTYPE=image/jpeg:https://fishchurch.org/wp-content/uploads/2025/10/Pablo-Diaz-Preaching-05473.jpg
END:VEVENT
BEGIN:VEVENT
DTSTART;TZID=America/New_York:20251123T100000
DTEND;TZID=America/New_York:20251123T110000
DTSTAMP:20260425T104924
CREATED:20251015T164943Z
LAST-MODIFIED:20251114T025555Z
UID:10000935-1763892000-1763895600@fishchurch.org
SUMMARY:November Food Drive
DESCRIPTION:« All Events \n\n\n\nAdd to calendar \n  \n\nGoogle Calendar\niCalendar\nOutlook 365\nOutlook Live\n\nNovember Food Drive\nNovember 2\n@\n10:00 am\n–\n11:00 am \nBring in mac & cheese and fruit cups to help support The Food Bank of Lower Fairfield County. \n\nFirst Presbyterian Church of Stamford \n1101 Bedford StreetStamford\,\nCT\n06905\nUnited States\n+ Google Map \n  \n\n\n\nSteps to Recovery \n\nSteps to Recovery
URL:https://fishchurch.org/event/november-food-drive-2/
LOCATION:First Presbyterian Church of Stamford\, 1101 Bedford Street\, Stamford\, CT\, 06905\, United States
ATTACH;FMTTYPE=image/jpeg:https://fishchurch.org/wp-content/uploads/2025/10/November-Food-Drive.jpg
END:VEVENT
BEGIN:VEVENT
DTSTART;TZID=America/New_York:20251122T190000
DTEND;TZID=America/New_York:20251122T200000
DTSTAMP:20260425T104924
CREATED:20250516T193326Z
LAST-MODIFIED:20250516T193526Z
UID:10000912-1763838000-1763841600@fishchurch.org
SUMMARY:Steps to Recovery
DESCRIPTION:
URL:https://fishchurch.org/event/steps-to-recovery-5/2025-11-22/
LOCATION:CT
ATTACH;FMTTYPE=image/jpeg:https://fishchurch.org/wp-content/uploads/2025/04/Calendar-Event-Placeholder-Image.jpg
END:VEVENT
BEGIN:VEVENT
DTSTART;TZID=America/New_York:20251121T120000
DTEND;TZID=America/New_York:20251121T133000
DTSTAMP:20260425T104924
CREATED:20250429T202036Z
LAST-MODIFIED:20250429T202036Z
UID:10000055-1763726400-1763731800@fishchurch.org
SUMMARY:AlAnon Meeting
DESCRIPTION:
URL:https://fishchurch.org/event/alanon-meeting/2025-11-21/
LOCATION:Room 32\, 1101 Bedford Street\, Stamford\, CT\, USA\, Stamford\, CT\, 06905\, United States
ATTACH;FMTTYPE=image/jpeg:https://fishchurch.org/wp-content/uploads/2025/04/Calendar-Event-Placeholder-Image.jpg
END:VEVENT
BEGIN:VEVENT
DTSTART;TZID=America/New_York:20251120T190000
DTEND;TZID=America/New_York:20251120T200000
DTSTAMP:20260425T104924
CREATED:20250430T183632Z
LAST-MODIFIED:20250430T190246Z
UID:10000578-1763665200-1763668800@fishchurch.org
SUMMARY:Steps to Recovery
DESCRIPTION:« All Events \n\n\nAdd to calendar \n  \n\nGoogle Calendar\niCalendar\nOutlook 365\nOutlook Live\n\nSteps to Recovery\nMay 1\n@\n7:00 pm\n–\n8:00 pm \nMeet in the lounge. \n  \n\n\n\nEaster Sunday Worship \n\nRed Cross Blood Drive
URL:https://fishchurch.org/event/steps-to-recovery/2025-11-20/
LOCATION:Lounge\, 1101 Bedford Street\, Stamford\, CT\, USA\, Stamford\, CT\, 06905\, United States
ATTACH;FMTTYPE=image/jpeg:https://fishchurch.org/wp-content/uploads/2025/04/Calendar-Event-Placeholder-Image.jpg
END:VEVENT
BEGIN:VEVENT
DTSTART;TZID=America/New_York:20251117T190000
DTEND;TZID=America/New_York:20251117T200000
DTSTAMP:20260425T104924
CREATED:20250516T193147Z
LAST-MODIFIED:20250516T193147Z
UID:10000845-1763406000-1763409600@fishchurch.org
SUMMARY:Steps to Recovery
DESCRIPTION:
URL:https://fishchurch.org/event/steps-to-recovery-4/2025-11-17/
LOCATION:Lounge\, 1101 Bedford Street\, Stamford\, CT\, USA\, Stamford\, CT\, 06905\, United States
ATTACH;FMTTYPE=image/jpeg:https://fishchurch.org/wp-content/uploads/2025/04/Calendar-Event-Placeholder-Image.jpg
END:VEVENT
BEGIN:VEVENT
DTSTART;TZID=America/New_York:20251116T100000
DTEND;TZID=America/New_York:20251116T110000
DTSTAMP:20260425T104924
CREATED:20251114T022420Z
LAST-MODIFIED:20251114T024830Z
UID:10000943-1763287200-1763290800@fishchurch.org
SUMMARY:Sunday Worship With Kenneth Sampson
DESCRIPTION:« All Events\n \n	\n\n	\n	Add to calendar	\n		\n	\n \n\n\n	Google Calendar\n\n\n	iCalendar\n\n\n	Outlook 365\n\n\n	Outlook Live\n\n\n\n	Sunday Worship With Kenneth Sampson\n			November 16\n	  @\n10:00 am\n	  –\n11:00 am \nThis week’s worship service welcomes guest preacher Retired United States Army Chaplain Colonel Kenneth Sampson. \n  \nClick here to watch live. \n  \nFor more information on Sunday worship services at First Presbyterian Church click here. \n\n			\n		First Presbyterian Church of Stamford			\n	\n\n1101 Bedford Street\n		\n		Stamford\,\n	CT\n	06905\n	United States\n\n\n	+ Google Map \n\n					\n						\n	 \n\n\n\n								\n															 \n\n\n\n\n				Steps to Recovery	\n\n\n	\n		Steps to Recovery
URL:https://fishchurch.org/event/sunday-worship-11162025/
LOCATION:First Presbyterian Church of Stamford\, 1101 Bedford Street\, Stamford\, CT\, 06905\, United States
CATEGORIES:Homepage
ATTACH;FMTTYPE=image/jpeg:https://fishchurch.org/wp-content/uploads/2025/11/Sampson-Guest-Preacher.jpg
END:VEVENT
BEGIN:VEVENT
DTSTART;TZID=America/New_York:20251116T100000
DTEND;TZID=America/New_York:20251116T110000
DTSTAMP:20260425T104924
CREATED:20251015T164904Z
LAST-MODIFIED:20251114T025602Z
UID:10000934-1763287200-1763290800@fishchurch.org
SUMMARY:November Food Drive
DESCRIPTION:« All Events \n\n\n\nAdd to calendar \n  \n\nGoogle Calendar\niCalendar\nOutlook 365\nOutlook Live\n\nNovember Food Drive\nNovember 2\n@\n10:00 am\n–\n11:00 am \nBring in mac & cheese and fruit cups to help support The Food Bank of Lower Fairfield County. \n\nFirst Presbyterian Church of Stamford \n1101 Bedford StreetStamford\,\nCT\n06905\nUnited States \n\n+ Google Map \n  \n\n\n\nSteps to Recovery \n\nSteps to Recovery
URL:https://fishchurch.org/event/november-food-drive-copy/
LOCATION:First Presbyterian Church of Stamford\, 1101 Bedford Street\, Stamford\, CT\, 06905\, United States
ATTACH;FMTTYPE=image/jpeg:https://fishchurch.org/wp-content/uploads/2025/10/November-Food-Drive.jpg
END:VEVENT
BEGIN:VEVENT
DTSTART;TZID=America/New_York:20251115T190000
DTEND;TZID=America/New_York:20251115T200000
DTSTAMP:20260425T104924
CREATED:20250516T193326Z
LAST-MODIFIED:20250516T193526Z
UID:10000911-1763233200-1763236800@fishchurch.org
SUMMARY:Steps to Recovery
DESCRIPTION:
URL:https://fishchurch.org/event/steps-to-recovery-5/2025-11-15/
LOCATION:CT
ATTACH;FMTTYPE=image/jpeg:https://fishchurch.org/wp-content/uploads/2025/04/Calendar-Event-Placeholder-Image.jpg
END:VEVENT
BEGIN:VEVENT
DTSTART;TZID=America/New_York:20251114T120000
DTEND;TZID=America/New_York:20251114T133000
DTSTAMP:20260425T104924
CREATED:20250429T202036Z
LAST-MODIFIED:20250429T202036Z
UID:10000054-1763121600-1763127000@fishchurch.org
SUMMARY:AlAnon Meeting
DESCRIPTION:
URL:https://fishchurch.org/event/alanon-meeting/2025-11-14/
LOCATION:Room 32\, 1101 Bedford Street\, Stamford\, CT\, USA\, Stamford\, CT\, 06905\, United States
ATTACH;FMTTYPE=image/jpeg:https://fishchurch.org/wp-content/uploads/2025/04/Calendar-Event-Placeholder-Image.jpg
END:VEVENT
BEGIN:VEVENT
DTSTART;TZID=America/New_York:20251113T190000
DTEND;TZID=America/New_York:20251113T200000
DTSTAMP:20260425T104924
CREATED:20250430T183632Z
LAST-MODIFIED:20250430T190246Z
UID:10000577-1763060400-1763064000@fishchurch.org
SUMMARY:Steps to Recovery
DESCRIPTION:« All Events \n\n\nAdd to calendar \n  \n\nGoogle Calendar\niCalendar\nOutlook 365\nOutlook Live\n\nSteps to Recovery\nMay 1\n@\n7:00 pm\n–\n8:00 pm \nMeet in the lounge. \n  \n\n\n\nEaster Sunday Worship \n\nRed Cross Blood Drive
URL:https://fishchurch.org/event/steps-to-recovery/2025-11-13/
LOCATION:Lounge\, 1101 Bedford Street\, Stamford\, CT\, USA\, Stamford\, CT\, 06905\, United States
ATTACH;FMTTYPE=image/jpeg:https://fishchurch.org/wp-content/uploads/2025/04/Calendar-Event-Placeholder-Image.jpg
END:VEVENT
BEGIN:VEVENT
DTSTART;TZID=America/New_York:20251110T190000
DTEND;TZID=America/New_York:20251110T200000
DTSTAMP:20260425T104924
CREATED:20250516T193147Z
LAST-MODIFIED:20250516T193147Z
UID:10000844-1762801200-1762804800@fishchurch.org
SUMMARY:Steps to Recovery
DESCRIPTION:
URL:https://fishchurch.org/event/steps-to-recovery-4/2025-11-10/
LOCATION:Lounge\, 1101 Bedford Street\, Stamford\, CT\, USA\, Stamford\, CT\, 06905\, United States
ATTACH;FMTTYPE=image/jpeg:https://fishchurch.org/wp-content/uploads/2025/04/Calendar-Event-Placeholder-Image.jpg
END:VEVENT
BEGIN:VEVENT
DTSTART;TZID=America/New_York:20251109T100000
DTEND;TZID=America/New_York:20251109T110000
DTSTAMP:20260425T104924
CREATED:20251114T022708Z
LAST-MODIFIED:20251114T024633Z
UID:10000944-1762682400-1762686000@fishchurch.org
SUMMARY:Sunday Worship "Release"
DESCRIPTION:« All Events \nThis event has passed. \n\n\n\nAdd to calendar  \n  \n\nGoogle Calendar\niCalendar\nOutlook 365\nOutlook Live\n\nSunday Worship “Release”\nNovember 9\n@\n10:00 am\n–\n11:00 am \nThis week’s worship service\, “Release”\, highlighting Deuteronomy 15:1-11 & Matthew 19:16-22\, will be delivered by Rev. Pablo Diaz. \nClick here to watch live. \nFor more information on Sunday worship services at First Presbyterian Church click here. \n\nFirst Presbyterian Church of Stamford \n1101 Bedford StreetStamford\,\nCT\n06905\nUnited States \n\n+ Google Map \n  \n\n\n\nSteps to Recovery \n\nSteps to Recovery
URL:https://fishchurch.org/event/sunday-worship-11092025/
LOCATION:First Presbyterian Church of Stamford\, 1101 Bedford Street\, Stamford\, CT\, 06905\, United States
CATEGORIES:Homepage
ATTACH;FMTTYPE=image/jpeg:https://fishchurch.org/wp-content/uploads/2025/10/Pablo-Diaz-Preaching-05473.jpg
END:VEVENT
BEGIN:VEVENT
DTSTART;TZID=America/New_York:20251109T100000
DTEND;TZID=America/New_York:20251109T110000
DTSTAMP:20260425T104924
CREATED:20251015T164823Z
LAST-MODIFIED:20251114T025607Z
UID:10000933-1762682400-1762686000@fishchurch.org
SUMMARY:November Food Drive
DESCRIPTION:« All Events \n\n\n\nAdd to calendar \n  \n\nGoogle Calendar\niCalendar\nOutlook 365\nOutlook Live\n\nNovember Food Drive\nNovember 2\n@\n10:00 am\n–\n11:00 am \nBring in mac & cheese and fruit cups to help support The Food Bank of Lower Fairfield County. \n\nFirst Presbyterian Church of Stamford \n1101 Bedford StreetStamford\,\nCT\n06905\nUnited States \n\n+ Google Map \n  \n\n \n\n\n\nSteps to Recovery \n\nSteps to Recovery
URL:https://fishchurch.org/event/november-food-drive/
LOCATION:First Presbyterian Church of Stamford\, 1101 Bedford Street\, Stamford\, CT\, 06905\, United States
ATTACH;FMTTYPE=image/jpeg:https://fishchurch.org/wp-content/uploads/2025/10/November-Food-Drive.jpg
END:VEVENT
END:VCALENDAR