BEGIN:VCALENDAR
VERSION:2.0
PRODID:-//First Presbyterian Church - ECPv6.15.20//NONSGML v1.0//EN
CALSCALE:GREGORIAN
METHOD:PUBLISH
X-WR-CALNAME:First Presbyterian Church
X-ORIGINAL-URL:https://fishchurch.org
X-WR-CALDESC:Events for First Presbyterian Church
REFRESH-INTERVAL;VALUE=DURATION:PT1H
X-Robots-Tag:noindex
X-PUBLISHED-TTL:PT1H
BEGIN:VTIMEZONE
TZID:America/New_York
BEGIN:DAYLIGHT
TZOFFSETFROM:-0500
TZOFFSETTO:-0400
TZNAME:EDT
DTSTART:20270314T070000
END:DAYLIGHT
BEGIN:STANDARD
TZOFFSETFROM:-0400
TZOFFSETTO:-0500
TZNAME:EST
DTSTART:20271107T060000
END:STANDARD
BEGIN:DAYLIGHT
TZOFFSETFROM:-0500
TZOFFSETTO:-0400
TZNAME:EDT
DTSTART:20280312T070000
END:DAYLIGHT
BEGIN:STANDARD
TZOFFSETFROM:-0400
TZOFFSETTO:-0500
TZNAME:EST
DTSTART:20281105T060000
END:STANDARD
BEGIN:DAYLIGHT
TZOFFSETFROM:-0500
TZOFFSETTO:-0400
TZNAME:EDT
DTSTART:20290311T070000
END:DAYLIGHT
BEGIN:STANDARD
TZOFFSETFROM:-0400
TZOFFSETTO:-0500
TZNAME:EST
DTSTART:20291104T060000
END:STANDARD
END:VTIMEZONE
BEGIN:VEVENT
DTSTART;TZID=America/New_York:20280914T190000
DTEND;TZID=America/New_York:20280914T200000
DTSTAMP:20260425T230819
CREATED:20250430T183632Z
LAST-MODIFIED:20250430T190246Z
UID:10000725-1852570800-1852574400@fishchurch.org
SUMMARY:Steps to Recovery
DESCRIPTION:« All Events \n\n\nAdd to calendar \n  \n\nGoogle Calendar\niCalendar\nOutlook 365\nOutlook Live\n\nSteps to Recovery\nMay 1\n@\n7:00 pm\n–\n8:00 pm \nMeet in the lounge. \n  \n\n\n\nEaster Sunday Worship \n\nRed Cross Blood Drive
URL:https://fishchurch.org/event/steps-to-recovery/2028-09-14/
LOCATION:Lounge\, 1101 Bedford Street\, Stamford\, CT\, USA\, Stamford\, CT\, 06905\, United States
ATTACH;FMTTYPE=image/jpeg:https://fishchurch.org/wp-content/uploads/2025/04/Calendar-Event-Placeholder-Image.jpg
END:VEVENT
BEGIN:VEVENT
DTSTART;TZID=America/New_York:20280915T120000
DTEND;TZID=America/New_York:20280915T133000
DTSTAMP:20260425T230819
CREATED:20250429T202036Z
LAST-MODIFIED:20250429T202036Z
UID:10000202-1852632000-1852637400@fishchurch.org
SUMMARY:AlAnon Meeting
DESCRIPTION:
URL:https://fishchurch.org/event/alanon-meeting/2028-09-15/
LOCATION:Room 32\, 1101 Bedford Street\, Stamford\, CT\, USA\, Stamford\, CT\, 06905\, United States
ATTACH;FMTTYPE=image/jpeg:https://fishchurch.org/wp-content/uploads/2025/04/Calendar-Event-Placeholder-Image.jpg
END:VEVENT
BEGIN:VEVENT
DTSTART;TZID=America/New_York:20280921T190000
DTEND;TZID=America/New_York:20280921T200000
DTSTAMP:20260425T230819
CREATED:20250430T183632Z
LAST-MODIFIED:20250430T190246Z
UID:10000726-1853175600-1853179200@fishchurch.org
SUMMARY:Steps to Recovery
DESCRIPTION:« All Events \n\n\nAdd to calendar \n  \n\nGoogle Calendar\niCalendar\nOutlook 365\nOutlook Live\n\nSteps to Recovery\nMay 1\n@\n7:00 pm\n–\n8:00 pm \nMeet in the lounge. \n  \n\n\n\nEaster Sunday Worship \n\nRed Cross Blood Drive
URL:https://fishchurch.org/event/steps-to-recovery/2028-09-21/
LOCATION:Lounge\, 1101 Bedford Street\, Stamford\, CT\, USA\, Stamford\, CT\, 06905\, United States
ATTACH;FMTTYPE=image/jpeg:https://fishchurch.org/wp-content/uploads/2025/04/Calendar-Event-Placeholder-Image.jpg
END:VEVENT
BEGIN:VEVENT
DTSTART;TZID=America/New_York:20280922T120000
DTEND;TZID=America/New_York:20280922T133000
DTSTAMP:20260425T230819
CREATED:20250429T202036Z
LAST-MODIFIED:20250429T202036Z
UID:10000203-1853236800-1853242200@fishchurch.org
SUMMARY:AlAnon Meeting
DESCRIPTION:
URL:https://fishchurch.org/event/alanon-meeting/2028-09-22/
LOCATION:Room 32\, 1101 Bedford Street\, Stamford\, CT\, USA\, Stamford\, CT\, 06905\, United States
ATTACH;FMTTYPE=image/jpeg:https://fishchurch.org/wp-content/uploads/2025/04/Calendar-Event-Placeholder-Image.jpg
END:VEVENT
BEGIN:VEVENT
DTSTART;TZID=America/New_York:20280928T190000
DTEND;TZID=America/New_York:20280928T200000
DTSTAMP:20260425T230819
CREATED:20250430T183632Z
LAST-MODIFIED:20250430T190246Z
UID:10000727-1853780400-1853784000@fishchurch.org
SUMMARY:Steps to Recovery
DESCRIPTION:« All Events \n\n\nAdd to calendar \n  \n\nGoogle Calendar\niCalendar\nOutlook 365\nOutlook Live\n\nSteps to Recovery\nMay 1\n@\n7:00 pm\n–\n8:00 pm \nMeet in the lounge. \n  \n\n\n\nEaster Sunday Worship \n\nRed Cross Blood Drive
URL:https://fishchurch.org/event/steps-to-recovery/2028-09-28/
LOCATION:Lounge\, 1101 Bedford Street\, Stamford\, CT\, USA\, Stamford\, CT\, 06905\, United States
ATTACH;FMTTYPE=image/jpeg:https://fishchurch.org/wp-content/uploads/2025/04/Calendar-Event-Placeholder-Image.jpg
END:VEVENT
BEGIN:VEVENT
DTSTART;TZID=America/New_York:20280929T120000
DTEND;TZID=America/New_York:20280929T133000
DTSTAMP:20260425T230819
CREATED:20250429T202036Z
LAST-MODIFIED:20250429T202036Z
UID:10000204-1853841600-1853847000@fishchurch.org
SUMMARY:AlAnon Meeting
DESCRIPTION:
URL:https://fishchurch.org/event/alanon-meeting/2028-09-29/
LOCATION:Room 32\, 1101 Bedford Street\, Stamford\, CT\, USA\, Stamford\, CT\, 06905\, United States
ATTACH;FMTTYPE=image/jpeg:https://fishchurch.org/wp-content/uploads/2025/04/Calendar-Event-Placeholder-Image.jpg
END:VEVENT
BEGIN:VEVENT
DTSTART;TZID=America/New_York:20281005T190000
DTEND;TZID=America/New_York:20281005T200000
DTSTAMP:20260425T230819
CREATED:20250430T183632Z
LAST-MODIFIED:20250430T190246Z
UID:10000728-1854385200-1854388800@fishchurch.org
SUMMARY:Steps to Recovery
DESCRIPTION:« All Events \n\n\nAdd to calendar \n  \n\nGoogle Calendar\niCalendar\nOutlook 365\nOutlook Live\n\nSteps to Recovery\nMay 1\n@\n7:00 pm\n–\n8:00 pm \nMeet in the lounge. \n  \n\n\n\nEaster Sunday Worship \n\nRed Cross Blood Drive
URL:https://fishchurch.org/event/steps-to-recovery/2028-10-05/
LOCATION:Lounge\, 1101 Bedford Street\, Stamford\, CT\, USA\, Stamford\, CT\, 06905\, United States
ATTACH;FMTTYPE=image/jpeg:https://fishchurch.org/wp-content/uploads/2025/04/Calendar-Event-Placeholder-Image.jpg
END:VEVENT
BEGIN:VEVENT
DTSTART;TZID=America/New_York:20281006T120000
DTEND;TZID=America/New_York:20281006T133000
DTSTAMP:20260425T230819
CREATED:20250429T202036Z
LAST-MODIFIED:20250429T202036Z
UID:10000205-1854446400-1854451800@fishchurch.org
SUMMARY:AlAnon Meeting
DESCRIPTION:
URL:https://fishchurch.org/event/alanon-meeting/2028-10-06/
LOCATION:Room 32\, 1101 Bedford Street\, Stamford\, CT\, USA\, Stamford\, CT\, 06905\, United States
ATTACH;FMTTYPE=image/jpeg:https://fishchurch.org/wp-content/uploads/2025/04/Calendar-Event-Placeholder-Image.jpg
END:VEVENT
BEGIN:VEVENT
DTSTART;TZID=America/New_York:20281012T190000
DTEND;TZID=America/New_York:20281012T200000
DTSTAMP:20260425T230819
CREATED:20250430T183632Z
LAST-MODIFIED:20250430T190246Z
UID:10000729-1854990000-1854993600@fishchurch.org
SUMMARY:Steps to Recovery
DESCRIPTION:« All Events \n\n\nAdd to calendar \n  \n\nGoogle Calendar\niCalendar\nOutlook 365\nOutlook Live\n\nSteps to Recovery\nMay 1\n@\n7:00 pm\n–\n8:00 pm \nMeet in the lounge. \n  \n\n\n\nEaster Sunday Worship \n\nRed Cross Blood Drive
URL:https://fishchurch.org/event/steps-to-recovery/2028-10-12/
LOCATION:Lounge\, 1101 Bedford Street\, Stamford\, CT\, USA\, Stamford\, CT\, 06905\, United States
ATTACH;FMTTYPE=image/jpeg:https://fishchurch.org/wp-content/uploads/2025/04/Calendar-Event-Placeholder-Image.jpg
END:VEVENT
BEGIN:VEVENT
DTSTART;TZID=America/New_York:20281013T120000
DTEND;TZID=America/New_York:20281013T133000
DTSTAMP:20260425T230819
CREATED:20250429T202036Z
LAST-MODIFIED:20250429T202036Z
UID:10000206-1855051200-1855056600@fishchurch.org
SUMMARY:AlAnon Meeting
DESCRIPTION:
URL:https://fishchurch.org/event/alanon-meeting/2028-10-13/
LOCATION:Room 32\, 1101 Bedford Street\, Stamford\, CT\, USA\, Stamford\, CT\, 06905\, United States
ATTACH;FMTTYPE=image/jpeg:https://fishchurch.org/wp-content/uploads/2025/04/Calendar-Event-Placeholder-Image.jpg
END:VEVENT
BEGIN:VEVENT
DTSTART;TZID=America/New_York:20281019T190000
DTEND;TZID=America/New_York:20281019T200000
DTSTAMP:20260425T230819
CREATED:20250430T183632Z
LAST-MODIFIED:20250430T190246Z
UID:10000730-1855594800-1855598400@fishchurch.org
SUMMARY:Steps to Recovery
DESCRIPTION:« All Events \n\n\nAdd to calendar \n  \n\nGoogle Calendar\niCalendar\nOutlook 365\nOutlook Live\n\nSteps to Recovery\nMay 1\n@\n7:00 pm\n–\n8:00 pm \nMeet in the lounge. \n  \n\n\n\nEaster Sunday Worship \n\nRed Cross Blood Drive
URL:https://fishchurch.org/event/steps-to-recovery/2028-10-19/
LOCATION:Lounge\, 1101 Bedford Street\, Stamford\, CT\, USA\, Stamford\, CT\, 06905\, United States
ATTACH;FMTTYPE=image/jpeg:https://fishchurch.org/wp-content/uploads/2025/04/Calendar-Event-Placeholder-Image.jpg
END:VEVENT
BEGIN:VEVENT
DTSTART;TZID=America/New_York:20281020T120000
DTEND;TZID=America/New_York:20281020T133000
DTSTAMP:20260425T230819
CREATED:20250429T202036Z
LAST-MODIFIED:20250429T202036Z
UID:10000207-1855656000-1855661400@fishchurch.org
SUMMARY:AlAnon Meeting
DESCRIPTION:
URL:https://fishchurch.org/event/alanon-meeting/2028-10-20/
LOCATION:Room 32\, 1101 Bedford Street\, Stamford\, CT\, USA\, Stamford\, CT\, 06905\, United States
ATTACH;FMTTYPE=image/jpeg:https://fishchurch.org/wp-content/uploads/2025/04/Calendar-Event-Placeholder-Image.jpg
END:VEVENT
BEGIN:VEVENT
DTSTART;TZID=America/New_York:20281026T190000
DTEND;TZID=America/New_York:20281026T200000
DTSTAMP:20260425T230819
CREATED:20250430T183632Z
LAST-MODIFIED:20250430T190246Z
UID:10000731-1856199600-1856203200@fishchurch.org
SUMMARY:Steps to Recovery
DESCRIPTION:« All Events \n\n\nAdd to calendar \n  \n\nGoogle Calendar\niCalendar\nOutlook 365\nOutlook Live\n\nSteps to Recovery\nMay 1\n@\n7:00 pm\n–\n8:00 pm \nMeet in the lounge. \n  \n\n\n\nEaster Sunday Worship \n\nRed Cross Blood Drive
URL:https://fishchurch.org/event/steps-to-recovery/2028-10-26/
LOCATION:Lounge\, 1101 Bedford Street\, Stamford\, CT\, USA\, Stamford\, CT\, 06905\, United States
ATTACH;FMTTYPE=image/jpeg:https://fishchurch.org/wp-content/uploads/2025/04/Calendar-Event-Placeholder-Image.jpg
END:VEVENT
BEGIN:VEVENT
DTSTART;TZID=America/New_York:20281027T120000
DTEND;TZID=America/New_York:20281027T133000
DTSTAMP:20260425T230819
CREATED:20250429T202036Z
LAST-MODIFIED:20250429T202036Z
UID:10000208-1856260800-1856266200@fishchurch.org
SUMMARY:AlAnon Meeting
DESCRIPTION:
URL:https://fishchurch.org/event/alanon-meeting/2028-10-27/
LOCATION:Room 32\, 1101 Bedford Street\, Stamford\, CT\, USA\, Stamford\, CT\, 06905\, United States
ATTACH;FMTTYPE=image/jpeg:https://fishchurch.org/wp-content/uploads/2025/04/Calendar-Event-Placeholder-Image.jpg
END:VEVENT
BEGIN:VEVENT
DTSTART;TZID=America/New_York:20281102T190000
DTEND;TZID=America/New_York:20281102T200000
DTSTAMP:20260425T230819
CREATED:20250430T183632Z
LAST-MODIFIED:20250430T190246Z
UID:10000732-1856804400-1856808000@fishchurch.org
SUMMARY:Steps to Recovery
DESCRIPTION:« All Events \n\n\nAdd to calendar \n  \n\nGoogle Calendar\niCalendar\nOutlook 365\nOutlook Live\n\nSteps to Recovery\nMay 1\n@\n7:00 pm\n–\n8:00 pm \nMeet in the lounge. \n  \n\n\n\nEaster Sunday Worship \n\nRed Cross Blood Drive
URL:https://fishchurch.org/event/steps-to-recovery/2028-11-02/
LOCATION:Lounge\, 1101 Bedford Street\, Stamford\, CT\, USA\, Stamford\, CT\, 06905\, United States
ATTACH;FMTTYPE=image/jpeg:https://fishchurch.org/wp-content/uploads/2025/04/Calendar-Event-Placeholder-Image.jpg
END:VEVENT
BEGIN:VEVENT
DTSTART;TZID=America/New_York:20281103T120000
DTEND;TZID=America/New_York:20281103T133000
DTSTAMP:20260425T230819
CREATED:20250429T202036Z
LAST-MODIFIED:20250429T202036Z
UID:10000209-1856865600-1856871000@fishchurch.org
SUMMARY:AlAnon Meeting
DESCRIPTION:
URL:https://fishchurch.org/event/alanon-meeting/2028-11-03/
LOCATION:Room 32\, 1101 Bedford Street\, Stamford\, CT\, USA\, Stamford\, CT\, 06905\, United States
ATTACH;FMTTYPE=image/jpeg:https://fishchurch.org/wp-content/uploads/2025/04/Calendar-Event-Placeholder-Image.jpg
END:VEVENT
BEGIN:VEVENT
DTSTART;TZID=America/New_York:20281109T190000
DTEND;TZID=America/New_York:20281109T200000
DTSTAMP:20260425T230819
CREATED:20250430T183632Z
LAST-MODIFIED:20250430T190246Z
UID:10000733-1857409200-1857412800@fishchurch.org
SUMMARY:Steps to Recovery
DESCRIPTION:« All Events \n\n\nAdd to calendar \n  \n\nGoogle Calendar\niCalendar\nOutlook 365\nOutlook Live\n\nSteps to Recovery\nMay 1\n@\n7:00 pm\n–\n8:00 pm \nMeet in the lounge. \n  \n\n\n\nEaster Sunday Worship \n\nRed Cross Blood Drive
URL:https://fishchurch.org/event/steps-to-recovery/2028-11-09/
LOCATION:Lounge\, 1101 Bedford Street\, Stamford\, CT\, USA\, Stamford\, CT\, 06905\, United States
ATTACH;FMTTYPE=image/jpeg:https://fishchurch.org/wp-content/uploads/2025/04/Calendar-Event-Placeholder-Image.jpg
END:VEVENT
BEGIN:VEVENT
DTSTART;TZID=America/New_York:20281110T120000
DTEND;TZID=America/New_York:20281110T133000
DTSTAMP:20260425T230819
CREATED:20250429T202036Z
LAST-MODIFIED:20250429T202036Z
UID:10000210-1857470400-1857475800@fishchurch.org
SUMMARY:AlAnon Meeting
DESCRIPTION:
URL:https://fishchurch.org/event/alanon-meeting/2028-11-10/
LOCATION:Room 32\, 1101 Bedford Street\, Stamford\, CT\, USA\, Stamford\, CT\, 06905\, United States
ATTACH;FMTTYPE=image/jpeg:https://fishchurch.org/wp-content/uploads/2025/04/Calendar-Event-Placeholder-Image.jpg
END:VEVENT
BEGIN:VEVENT
DTSTART;TZID=America/New_York:20281116T190000
DTEND;TZID=America/New_York:20281116T200000
DTSTAMP:20260425T230819
CREATED:20250430T183632Z
LAST-MODIFIED:20250430T190246Z
UID:10000734-1858014000-1858017600@fishchurch.org
SUMMARY:Steps to Recovery
DESCRIPTION:« All Events \n\n\nAdd to calendar \n  \n\nGoogle Calendar\niCalendar\nOutlook 365\nOutlook Live\n\nSteps to Recovery\nMay 1\n@\n7:00 pm\n–\n8:00 pm \nMeet in the lounge. \n  \n\n\n\nEaster Sunday Worship \n\nRed Cross Blood Drive
URL:https://fishchurch.org/event/steps-to-recovery/2028-11-16/
LOCATION:Lounge\, 1101 Bedford Street\, Stamford\, CT\, USA\, Stamford\, CT\, 06905\, United States
ATTACH;FMTTYPE=image/jpeg:https://fishchurch.org/wp-content/uploads/2025/04/Calendar-Event-Placeholder-Image.jpg
END:VEVENT
BEGIN:VEVENT
DTSTART;TZID=America/New_York:20281117T120000
DTEND;TZID=America/New_York:20281117T133000
DTSTAMP:20260425T230819
CREATED:20250429T202036Z
LAST-MODIFIED:20250429T202036Z
UID:10000211-1858075200-1858080600@fishchurch.org
SUMMARY:AlAnon Meeting
DESCRIPTION:
URL:https://fishchurch.org/event/alanon-meeting/2028-11-17/
LOCATION:Room 32\, 1101 Bedford Street\, Stamford\, CT\, USA\, Stamford\, CT\, 06905\, United States
ATTACH;FMTTYPE=image/jpeg:https://fishchurch.org/wp-content/uploads/2025/04/Calendar-Event-Placeholder-Image.jpg
END:VEVENT
BEGIN:VEVENT
DTSTART;TZID=America/New_York:20281123T190000
DTEND;TZID=America/New_York:20281123T200000
DTSTAMP:20260425T230819
CREATED:20250430T183632Z
LAST-MODIFIED:20250430T190246Z
UID:10000735-1858618800-1858622400@fishchurch.org
SUMMARY:Steps to Recovery
DESCRIPTION:« All Events \n\n\nAdd to calendar \n  \n\nGoogle Calendar\niCalendar\nOutlook 365\nOutlook Live\n\nSteps to Recovery\nMay 1\n@\n7:00 pm\n–\n8:00 pm \nMeet in the lounge. \n  \n\n\n\nEaster Sunday Worship \n\nRed Cross Blood Drive
URL:https://fishchurch.org/event/steps-to-recovery/2028-11-23/
LOCATION:Lounge\, 1101 Bedford Street\, Stamford\, CT\, USA\, Stamford\, CT\, 06905\, United States
ATTACH;FMTTYPE=image/jpeg:https://fishchurch.org/wp-content/uploads/2025/04/Calendar-Event-Placeholder-Image.jpg
END:VEVENT
BEGIN:VEVENT
DTSTART;TZID=America/New_York:20281124T120000
DTEND;TZID=America/New_York:20281124T133000
DTSTAMP:20260425T230819
CREATED:20250429T202036Z
LAST-MODIFIED:20250429T202036Z
UID:10000212-1858680000-1858685400@fishchurch.org
SUMMARY:AlAnon Meeting
DESCRIPTION:
URL:https://fishchurch.org/event/alanon-meeting/2028-11-24/
LOCATION:Room 32\, 1101 Bedford Street\, Stamford\, CT\, USA\, Stamford\, CT\, 06905\, United States
ATTACH;FMTTYPE=image/jpeg:https://fishchurch.org/wp-content/uploads/2025/04/Calendar-Event-Placeholder-Image.jpg
END:VEVENT
BEGIN:VEVENT
DTSTART;TZID=America/New_York:20281130T190000
DTEND;TZID=America/New_York:20281130T200000
DTSTAMP:20260425T230819
CREATED:20250430T183632Z
LAST-MODIFIED:20250430T190246Z
UID:10000736-1859223600-1859227200@fishchurch.org
SUMMARY:Steps to Recovery
DESCRIPTION:« All Events \n\n\nAdd to calendar \n  \n\nGoogle Calendar\niCalendar\nOutlook 365\nOutlook Live\n\nSteps to Recovery\nMay 1\n@\n7:00 pm\n–\n8:00 pm \nMeet in the lounge. \n  \n\n\n\nEaster Sunday Worship \n\nRed Cross Blood Drive
URL:https://fishchurch.org/event/steps-to-recovery/2028-11-30/
LOCATION:Lounge\, 1101 Bedford Street\, Stamford\, CT\, USA\, Stamford\, CT\, 06905\, United States
ATTACH;FMTTYPE=image/jpeg:https://fishchurch.org/wp-content/uploads/2025/04/Calendar-Event-Placeholder-Image.jpg
END:VEVENT
BEGIN:VEVENT
DTSTART;TZID=America/New_York:20281201T120000
DTEND;TZID=America/New_York:20281201T133000
DTSTAMP:20260425T230819
CREATED:20250429T202036Z
LAST-MODIFIED:20250429T202036Z
UID:10000213-1859284800-1859290200@fishchurch.org
SUMMARY:AlAnon Meeting
DESCRIPTION:
URL:https://fishchurch.org/event/alanon-meeting/2028-12-01/
LOCATION:Room 32\, 1101 Bedford Street\, Stamford\, CT\, USA\, Stamford\, CT\, 06905\, United States
ATTACH;FMTTYPE=image/jpeg:https://fishchurch.org/wp-content/uploads/2025/04/Calendar-Event-Placeholder-Image.jpg
END:VEVENT
BEGIN:VEVENT
DTSTART;TZID=America/New_York:20281207T190000
DTEND;TZID=America/New_York:20281207T200000
DTSTAMP:20260425T230819
CREATED:20250430T183632Z
LAST-MODIFIED:20250430T190246Z
UID:10000737-1859828400-1859832000@fishchurch.org
SUMMARY:Steps to Recovery
DESCRIPTION:« All Events \n\n\nAdd to calendar \n  \n\nGoogle Calendar\niCalendar\nOutlook 365\nOutlook Live\n\nSteps to Recovery\nMay 1\n@\n7:00 pm\n–\n8:00 pm \nMeet in the lounge. \n  \n\n\n\nEaster Sunday Worship \n\nRed Cross Blood Drive
URL:https://fishchurch.org/event/steps-to-recovery/2028-12-07/
LOCATION:Lounge\, 1101 Bedford Street\, Stamford\, CT\, USA\, Stamford\, CT\, 06905\, United States
ATTACH;FMTTYPE=image/jpeg:https://fishchurch.org/wp-content/uploads/2025/04/Calendar-Event-Placeholder-Image.jpg
END:VEVENT
BEGIN:VEVENT
DTSTART;TZID=America/New_York:20281208T120000
DTEND;TZID=America/New_York:20281208T133000
DTSTAMP:20260425T230819
CREATED:20250429T202036Z
LAST-MODIFIED:20250429T202036Z
UID:10000214-1859889600-1859895000@fishchurch.org
SUMMARY:AlAnon Meeting
DESCRIPTION:
URL:https://fishchurch.org/event/alanon-meeting/2028-12-08/
LOCATION:Room 32\, 1101 Bedford Street\, Stamford\, CT\, USA\, Stamford\, CT\, 06905\, United States
ATTACH;FMTTYPE=image/jpeg:https://fishchurch.org/wp-content/uploads/2025/04/Calendar-Event-Placeholder-Image.jpg
END:VEVENT
BEGIN:VEVENT
DTSTART;TZID=America/New_York:20281214T190000
DTEND;TZID=America/New_York:20281214T200000
DTSTAMP:20260425T230819
CREATED:20250430T183632Z
LAST-MODIFIED:20250430T190246Z
UID:10000738-1860433200-1860436800@fishchurch.org
SUMMARY:Steps to Recovery
DESCRIPTION:« All Events \n\n\nAdd to calendar \n  \n\nGoogle Calendar\niCalendar\nOutlook 365\nOutlook Live\n\nSteps to Recovery\nMay 1\n@\n7:00 pm\n–\n8:00 pm \nMeet in the lounge. \n  \n\n\n\nEaster Sunday Worship \n\nRed Cross Blood Drive
URL:https://fishchurch.org/event/steps-to-recovery/2028-12-14/
LOCATION:Lounge\, 1101 Bedford Street\, Stamford\, CT\, USA\, Stamford\, CT\, 06905\, United States
ATTACH;FMTTYPE=image/jpeg:https://fishchurch.org/wp-content/uploads/2025/04/Calendar-Event-Placeholder-Image.jpg
END:VEVENT
BEGIN:VEVENT
DTSTART;TZID=America/New_York:20281215T120000
DTEND;TZID=America/New_York:20281215T133000
DTSTAMP:20260425T230819
CREATED:20250429T202036Z
LAST-MODIFIED:20250429T202036Z
UID:10000215-1860494400-1860499800@fishchurch.org
SUMMARY:AlAnon Meeting
DESCRIPTION:
URL:https://fishchurch.org/event/alanon-meeting/2028-12-15/
LOCATION:Room 32\, 1101 Bedford Street\, Stamford\, CT\, USA\, Stamford\, CT\, 06905\, United States
ATTACH;FMTTYPE=image/jpeg:https://fishchurch.org/wp-content/uploads/2025/04/Calendar-Event-Placeholder-Image.jpg
END:VEVENT
BEGIN:VEVENT
DTSTART;TZID=America/New_York:20281221T190000
DTEND;TZID=America/New_York:20281221T200000
DTSTAMP:20260425T230819
CREATED:20250430T183632Z
LAST-MODIFIED:20250430T190246Z
UID:10000739-1861038000-1861041600@fishchurch.org
SUMMARY:Steps to Recovery
DESCRIPTION:« All Events \n\n\nAdd to calendar \n  \n\nGoogle Calendar\niCalendar\nOutlook 365\nOutlook Live\n\nSteps to Recovery\nMay 1\n@\n7:00 pm\n–\n8:00 pm \nMeet in the lounge. \n  \n\n\n\nEaster Sunday Worship \n\nRed Cross Blood Drive
URL:https://fishchurch.org/event/steps-to-recovery/2028-12-21/
LOCATION:Lounge\, 1101 Bedford Street\, Stamford\, CT\, USA\, Stamford\, CT\, 06905\, United States
ATTACH;FMTTYPE=image/jpeg:https://fishchurch.org/wp-content/uploads/2025/04/Calendar-Event-Placeholder-Image.jpg
END:VEVENT
BEGIN:VEVENT
DTSTART;TZID=America/New_York:20281222T120000
DTEND;TZID=America/New_York:20281222T133000
DTSTAMP:20260425T230819
CREATED:20250429T202036Z
LAST-MODIFIED:20250429T202036Z
UID:10000216-1861099200-1861104600@fishchurch.org
SUMMARY:AlAnon Meeting
DESCRIPTION:
URL:https://fishchurch.org/event/alanon-meeting/2028-12-22/
LOCATION:Room 32\, 1101 Bedford Street\, Stamford\, CT\, USA\, Stamford\, CT\, 06905\, United States
ATTACH;FMTTYPE=image/jpeg:https://fishchurch.org/wp-content/uploads/2025/04/Calendar-Event-Placeholder-Image.jpg
END:VEVENT
END:VCALENDAR