BEGIN:VCALENDAR
VERSION:2.0
PRODID:-//First Presbyterian Church - ECPv6.15.20//NONSGML v1.0//EN
CALSCALE:GREGORIAN
METHOD:PUBLISH
X-WR-CALNAME:First Presbyterian Church
X-ORIGINAL-URL:https://fishchurch.org
X-WR-CALDESC:Events for First Presbyterian Church
REFRESH-INTERVAL;VALUE=DURATION:PT1H
X-Robots-Tag:noindex
X-PUBLISHED-TTL:PT1H
BEGIN:VTIMEZONE
TZID:America/New_York
BEGIN:DAYLIGHT
TZOFFSETFROM:-0500
TZOFFSETTO:-0400
TZNAME:EDT
DTSTART:20240310T070000
END:DAYLIGHT
BEGIN:STANDARD
TZOFFSETFROM:-0400
TZOFFSETTO:-0500
TZNAME:EST
DTSTART:20241103T060000
END:STANDARD
BEGIN:DAYLIGHT
TZOFFSETFROM:-0500
TZOFFSETTO:-0400
TZNAME:EDT
DTSTART:20250309T070000
END:DAYLIGHT
BEGIN:STANDARD
TZOFFSETFROM:-0400
TZOFFSETTO:-0500
TZNAME:EST
DTSTART:20251102T060000
END:STANDARD
BEGIN:DAYLIGHT
TZOFFSETFROM:-0500
TZOFFSETTO:-0400
TZNAME:EDT
DTSTART:20260308T070000
END:DAYLIGHT
BEGIN:STANDARD
TZOFFSETFROM:-0400
TZOFFSETTO:-0500
TZNAME:EST
DTSTART:20261101T060000
END:STANDARD
BEGIN:DAYLIGHT
TZOFFSETFROM:-0500
TZOFFSETTO:-0400
TZNAME:EDT
DTSTART:20270314T070000
END:DAYLIGHT
BEGIN:STANDARD
TZOFFSETFROM:-0400
TZOFFSETTO:-0500
TZNAME:EST
DTSTART:20271107T060000
END:STANDARD
END:VTIMEZONE
BEGIN:VEVENT
DTSTART;TZID=America/New_York:20260212T190000
DTEND;TZID=America/New_York:20260212T200000
DTSTAMP:20260425T093203
CREATED:20250430T183632Z
LAST-MODIFIED:20250430T190246Z
UID:10000590-1770922800-1770926400@fishchurch.org
SUMMARY:Steps to Recovery
DESCRIPTION:« All Events \n\n\nAdd to calendar \n  \n\nGoogle Calendar\niCalendar\nOutlook 365\nOutlook Live\n\nSteps to Recovery\nMay 1\n@\n7:00 pm\n–\n8:00 pm \nMeet in the lounge. \n  \n\n\n\nEaster Sunday Worship \n\nRed Cross Blood Drive
URL:https://fishchurch.org/event/steps-to-recovery/2026-02-12/
LOCATION:Lounge\, 1101 Bedford Street\, Stamford\, CT\, USA\, Stamford\, CT\, 06905\, United States
ATTACH;FMTTYPE=image/jpeg:https://fishchurch.org/wp-content/uploads/2025/04/Calendar-Event-Placeholder-Image.jpg
END:VEVENT
BEGIN:VEVENT
DTSTART;TZID=America/New_York:20260206T120000
DTEND;TZID=America/New_York:20260206T133000
DTSTAMP:20260425T093203
CREATED:20250429T202036Z
LAST-MODIFIED:20250429T202036Z
UID:10000066-1770379200-1770384600@fishchurch.org
SUMMARY:AlAnon Meeting
DESCRIPTION:
URL:https://fishchurch.org/event/alanon-meeting/2026-02-06/
LOCATION:Room 32\, 1101 Bedford Street\, Stamford\, CT\, USA\, Stamford\, CT\, 06905\, United States
ATTACH;FMTTYPE=image/jpeg:https://fishchurch.org/wp-content/uploads/2025/04/Calendar-Event-Placeholder-Image.jpg
END:VEVENT
BEGIN:VEVENT
DTSTART;TZID=America/New_York:20260205T190000
DTEND;TZID=America/New_York:20260205T200000
DTSTAMP:20260425T093203
CREATED:20250430T183632Z
LAST-MODIFIED:20250430T190246Z
UID:10000589-1770318000-1770321600@fishchurch.org
SUMMARY:Steps to Recovery
DESCRIPTION:« All Events \n\n\nAdd to calendar \n  \n\nGoogle Calendar\niCalendar\nOutlook 365\nOutlook Live\n\nSteps to Recovery\nMay 1\n@\n7:00 pm\n–\n8:00 pm \nMeet in the lounge. \n  \n\n\n\nEaster Sunday Worship \n\nRed Cross Blood Drive
URL:https://fishchurch.org/event/steps-to-recovery/2026-02-05/
LOCATION:Lounge\, 1101 Bedford Street\, Stamford\, CT\, USA\, Stamford\, CT\, 06905\, United States
ATTACH;FMTTYPE=image/jpeg:https://fishchurch.org/wp-content/uploads/2025/04/Calendar-Event-Placeholder-Image.jpg
END:VEVENT
BEGIN:VEVENT
DTSTART;TZID=America/New_York:20260201T100000
DTEND;TZID=America/New_York:20260201T110000
DTSTAMP:20260425T093203
CREATED:20251015T164112Z
LAST-MODIFIED:20251015T164135Z
UID:10000929-1769940000-1769943600@fishchurch.org
SUMMARY:Name Tag Sunday
DESCRIPTION:« All Events \n\n\n\nAdd to calendar  \n  \n\nGoogle Calendar\niCalendar\nOutlook 365\nOutlook Live\n\nName Tag Sunday\nNovember 2\n@\n10:00 am\n–\n11:00 am \nGrab a name tag on the first Sunday of the month introduce yourself to someone new. \n\nFirst Presbyterian Church of Stamford \n1101 Bedford StreetStamford\,\nCT\n06905\nUnited States\n+ Google Map \n  \n\n\n\nSteps to Recovery \n\nSteps to Recovery
URL:https://fishchurch.org/event/name-tag-sunday-copy-copy-copy/
LOCATION:First Presbyterian Church of Stamford\, 1101 Bedford Street\, Stamford\, CT\, 06905\, United States
CATEGORIES:Homepage
ATTACH;FMTTYPE=image/jpeg:https://fishchurch.org/wp-content/uploads/2025/10/Nametag-Sundays.jpg
END:VEVENT
BEGIN:VEVENT
DTSTART;TZID=America/New_York:20260130T120000
DTEND;TZID=America/New_York:20260130T133000
DTSTAMP:20260425T093203
CREATED:20250429T202036Z
LAST-MODIFIED:20250429T202036Z
UID:10000065-1769774400-1769779800@fishchurch.org
SUMMARY:AlAnon Meeting
DESCRIPTION:
URL:https://fishchurch.org/event/alanon-meeting/2026-01-30/
LOCATION:Room 32\, 1101 Bedford Street\, Stamford\, CT\, USA\, Stamford\, CT\, 06905\, United States
ATTACH;FMTTYPE=image/jpeg:https://fishchurch.org/wp-content/uploads/2025/04/Calendar-Event-Placeholder-Image.jpg
END:VEVENT
BEGIN:VEVENT
DTSTART;TZID=America/New_York:20260129T190000
DTEND;TZID=America/New_York:20260129T200000
DTSTAMP:20260425T093203
CREATED:20250430T183632Z
LAST-MODIFIED:20250430T190246Z
UID:10000588-1769713200-1769716800@fishchurch.org
SUMMARY:Steps to Recovery
DESCRIPTION:« All Events \n\n\nAdd to calendar \n  \n\nGoogle Calendar\niCalendar\nOutlook 365\nOutlook Live\n\nSteps to Recovery\nMay 1\n@\n7:00 pm\n–\n8:00 pm \nMeet in the lounge. \n  \n\n\n\nEaster Sunday Worship \n\nRed Cross Blood Drive
URL:https://fishchurch.org/event/steps-to-recovery/2026-01-29/
LOCATION:Lounge\, 1101 Bedford Street\, Stamford\, CT\, USA\, Stamford\, CT\, 06905\, United States
ATTACH;FMTTYPE=image/jpeg:https://fishchurch.org/wp-content/uploads/2025/04/Calendar-Event-Placeholder-Image.jpg
END:VEVENT
BEGIN:VEVENT
DTSTART;TZID=America/New_York:20260125T100000
DTEND;TZID=America/New_York:20260125T110000
DTSTAMP:20260425T093203
CREATED:20260105T175513Z
LAST-MODIFIED:20260105T175641Z
UID:10000964-1769335200-1769338800@fishchurch.org
SUMMARY:Sunday Worship "Outward Incarnational Focus"
DESCRIPTION:« All Events \n\n\n\nAdd to calendar \n \n\nGoogle Calendar\niCalendar\nOutlook 365\nOutlook Live\n\nSunday Worship “Outward Incarnational Focus”\nJanuary 18\n@\n10:00 am\n–\n11:00 am \nThis week’s worship service\, “Outward Incarnational Focus”\, highlighting Matthew 25:31-46\, will be delivered by Rev. Dr. Pablo Diaz. \nSunday School / Nursery available for children birth through fifth grade. \nClick here to watch live. \nFor more information on Sunday worship services at First Presbyterian Church\, click here. \n\nFirst Presbyterian Church of Stamford \n1101 Bedford Street \nStamford\,\nCT\n06905\nUnited States\n+ Google Map \n  \n\n \n\n\n\nAlAnon Meeting \n\nSteps to Recovery
URL:https://fishchurch.org/event/sunday-worship-01252026/
LOCATION:First Presbyterian Church of Stamford\, 1101 Bedford Street\, Stamford\, CT\, 06905\, United States
CATEGORIES:Homepage
ATTACH;FMTTYPE=image/jpeg:https://fishchurch.org/wp-content/uploads/2025/10/Pablo-Diaz-Preaching-05473.jpg
END:VEVENT
BEGIN:VEVENT
DTSTART;TZID=America/New_York:20260123T120000
DTEND;TZID=America/New_York:20260123T133000
DTSTAMP:20260425T093203
CREATED:20250429T202036Z
LAST-MODIFIED:20250429T202036Z
UID:10000064-1769169600-1769175000@fishchurch.org
SUMMARY:AlAnon Meeting
DESCRIPTION:
URL:https://fishchurch.org/event/alanon-meeting/2026-01-23/
LOCATION:Room 32\, 1101 Bedford Street\, Stamford\, CT\, USA\, Stamford\, CT\, 06905\, United States
ATTACH;FMTTYPE=image/jpeg:https://fishchurch.org/wp-content/uploads/2025/04/Calendar-Event-Placeholder-Image.jpg
END:VEVENT
BEGIN:VEVENT
DTSTART;TZID=America/New_York:20260122T190000
DTEND;TZID=America/New_York:20260122T200000
DTSTAMP:20260425T093203
CREATED:20250430T183632Z
LAST-MODIFIED:20250430T190246Z
UID:10000587-1769108400-1769112000@fishchurch.org
SUMMARY:Steps to Recovery
DESCRIPTION:« All Events \n\n\nAdd to calendar \n  \n\nGoogle Calendar\niCalendar\nOutlook 365\nOutlook Live\n\nSteps to Recovery\nMay 1\n@\n7:00 pm\n–\n8:00 pm \nMeet in the lounge. \n  \n\n\n\nEaster Sunday Worship \n\nRed Cross Blood Drive
URL:https://fishchurch.org/event/steps-to-recovery/2026-01-22/
LOCATION:Lounge\, 1101 Bedford Street\, Stamford\, CT\, USA\, Stamford\, CT\, 06905\, United States
ATTACH;FMTTYPE=image/jpeg:https://fishchurch.org/wp-content/uploads/2025/04/Calendar-Event-Placeholder-Image.jpg
END:VEVENT
BEGIN:VEVENT
DTSTART;TZID=America/New_York:20260118T100000
DTEND;TZID=America/New_York:20260118T110000
DTSTAMP:20260425T093203
CREATED:20260105T175312Z
LAST-MODIFIED:20260105T175434Z
UID:10000963-1768730400-1768734000@fishchurch.org
SUMMARY:Sunday Worship "Intentional Authentic Evangelism"
DESCRIPTION:« All Events\n \n	\n\n	\n	Add to calendar	\n		\n	\n \n\n\n	Google Calendar\n\n\n	iCalendar\n\n\n	Outlook 365\n\n\n	Outlook Live\n\n\n\n	Sunday Worship “Intentional Authentic Evangelism”\n			January 18\n	  @\n10:00 am\n	  –\n11:00 am \nThis week’s worship service\, “Intentional Authentic Evangelism”\, highlighting Psalm 96:1-4 & John 4:1-15\, 39-42\, will be delivered by Rev. Shelley C. Donaldson. \n  \nSunday School / Nursery available for children birth through fifth grade. \n  \nClick here to watch live. \n  \nFor more information on Sunday worship services at First Presbyterian Church\, click here. \n\n			\n		First Presbyterian Church of Stamford			\n	\n\n1101 Bedford Street\n		\n		Stamford\,\n	CT\n	06905\n	United States\n\n\n	+ Google Map \n\n					\n						\n	 \n\n\n\n								\n															 \n\n\n\n\n				AlAnon Meeting	\n\n\n	\n		Steps to Recovery
URL:https://fishchurch.org/event/sunday-worship-01182025/
LOCATION:First Presbyterian Church of Stamford\, 1101 Bedford Street\, Stamford\, CT\, 06905\, United States
CATEGORIES:Homepage
ATTACH;FMTTYPE=image/jpeg:https://fishchurch.org/wp-content/uploads/2025/12/Shelley_Preaching_03312024-05596.jpg
END:VEVENT
BEGIN:VEVENT
DTSTART;TZID=America/New_York:20260118T093000
DTEND;TZID=America/New_York:20260118T100000
DTSTAMP:20260425T093203
CREATED:20260105T182412Z
LAST-MODIFIED:20260105T182419Z
UID:10000970-1768728600-1768730400@fishchurch.org
SUMMARY:January Food Drive
DESCRIPTION:« All Events \nThis event has passed. \n\n\n\nAdd to calendar  \n  \n\nGoogle Calendar\niCalendar\nOutlook 365\nOutlook Live\n\nJanuary Food Drive\nJanuary 4\n@\n9:30 am\n–\n10:00 am \nBring in cereal and shelf stable milk to help support The Food Bank of Lower Fairfield County. Donations can be dropped off in the narthex or purchased on Amazon here. \n\nFirst Presbyterian Church of Stamford \n1101 Bedford StreetStamford\,\nCT\n06905\nUnited States\n+ Google Map \n  \n\n\n\nAlAnon Meeting \n\nName Tag Sunday
URL:https://fishchurch.org/event/january-food-drive-copy-copy-copy/
LOCATION:First Presbyterian Church of Stamford\, 1101 Bedford Street\, Stamford\, CT\, 06905\, United States
ATTACH;FMTTYPE=image/jpeg:https://fishchurch.org/wp-content/uploads/2026/01/FPC-January-Food-Drive.jpg
END:VEVENT
BEGIN:VEVENT
DTSTART;TZID=America/New_York:20260118T093000
DTEND;TZID=America/New_York:20260118T100000
DTSTAMP:20260425T093203
CREATED:20260105T182340Z
LAST-MODIFIED:20260105T182355Z
UID:10000969-1768728600-1768730400@fishchurch.org
SUMMARY:January Food Drive
DESCRIPTION:« All Events \nThis event has passed. \n\n\n\nAdd to calendar  \n  \n\nGoogle Calendar\niCalendar\nOutlook 365\nOutlook Live\n\nJanuary Food Drive\nJanuary 4\n@\n9:30 am\n–\n10:00 am \nBring in cereal and shelf stable milk to help support The Food Bank of Lower Fairfield County. Donations can be dropped off in the narthex or purchased on Amazon here. \n\nFirst Presbyterian Church of Stamford \n1101 Bedford StreetStamford\,\nCT\n06905\nUnited States \n\n+ Google Map \n  \n\n\n\nAlAnon Meeting \n\nName Tag Sunday
URL:https://fishchurch.org/event/january-food-drive-copy-copy/
LOCATION:First Presbyterian Church of Stamford\, 1101 Bedford Street\, Stamford\, CT\, 06905\, United States
ATTACH;FMTTYPE=image/jpeg:https://fishchurch.org/wp-content/uploads/2026/01/FPC-January-Food-Drive.jpg
END:VEVENT
BEGIN:VEVENT
DTSTART;TZID=America/New_York:20260116T120000
DTEND;TZID=America/New_York:20260116T133000
DTSTAMP:20260425T093204
CREATED:20250429T202036Z
LAST-MODIFIED:20250429T202036Z
UID:10000063-1768564800-1768570200@fishchurch.org
SUMMARY:AlAnon Meeting
DESCRIPTION:
URL:https://fishchurch.org/event/alanon-meeting/2026-01-16/
LOCATION:Room 32\, 1101 Bedford Street\, Stamford\, CT\, USA\, Stamford\, CT\, 06905\, United States
ATTACH;FMTTYPE=image/jpeg:https://fishchurch.org/wp-content/uploads/2025/04/Calendar-Event-Placeholder-Image.jpg
END:VEVENT
BEGIN:VEVENT
DTSTART;TZID=America/New_York:20260115T190000
DTEND;TZID=America/New_York:20260115T200000
DTSTAMP:20260425T093204
CREATED:20250430T183632Z
LAST-MODIFIED:20250430T190246Z
UID:10000586-1768503600-1768507200@fishchurch.org
SUMMARY:Steps to Recovery
DESCRIPTION:« All Events \n\n\nAdd to calendar \n  \n\nGoogle Calendar\niCalendar\nOutlook 365\nOutlook Live\n\nSteps to Recovery\nMay 1\n@\n7:00 pm\n–\n8:00 pm \nMeet in the lounge. \n  \n\n\n\nEaster Sunday Worship \n\nRed Cross Blood Drive
URL:https://fishchurch.org/event/steps-to-recovery/2026-01-15/
LOCATION:Lounge\, 1101 Bedford Street\, Stamford\, CT\, USA\, Stamford\, CT\, 06905\, United States
ATTACH;FMTTYPE=image/jpeg:https://fishchurch.org/wp-content/uploads/2025/04/Calendar-Event-Placeholder-Image.jpg
END:VEVENT
BEGIN:VEVENT
DTSTART;TZID=America/New_York:20260114T190000
DTEND;TZID=America/New_York:20260114T203000
DTSTAMP:20260425T093204
CREATED:20260105T181627Z
LAST-MODIFIED:20260105T181627Z
UID:10000966-1768417200-1768422600@fishchurch.org
SUMMARY:Ballroom Dance Class
DESCRIPTION:« All Events \n\n\nAdd to calendar \n \n\nGoogle Calendar\niCalendar\nOutlook 365\nOutlook Live\n\nBallroom Dance Class\nJanuary 14\n@\n7:00 pm\n–\n8:30 pm \nAll ages and experience levels welcome! Taught by Robin and Ed Poska of Ballroom Magic. Join us to learn something new and have some fun! \n\nFellowship Hall \n1101 Bedford Street \nStamford\,\nCT\n06905\nUnited States\n+ Google Map \n  \n\n \n\n\n\nCongregational Meeting to Elect Elders & Deacons \n\nSteps to Recovery
URL:https://fishchurch.org/event/ballroom-dance-class/
LOCATION:Fellowship Hall\, 1101 Bedford Street\, Stamford\, CT\, 06905\, United States
CATEGORIES:Homepage
ATTACH;FMTTYPE=image/jpeg:https://fishchurch.org/wp-content/uploads/2026/01/FPC-Ballroom-Dance.jpg
END:VEVENT
BEGIN:VEVENT
DTSTART;TZID=America/New_York:20260111T110000
DTEND;TZID=America/New_York:20260111T113000
DTSTAMP:20260425T093204
CREATED:20260105T175806Z
LAST-MODIFIED:20260105T175926Z
UID:10000965-1768129200-1768131000@fishchurch.org
SUMMARY:Congregational Meeting to Elect Elders & Deacons
DESCRIPTION:« All Events\n \n	\n\n	\n	Add to calendar	\n		\n	\n \n\n\n	Google Calendar\n\n\n	iCalendar\n\n\n	Outlook 365\n\n\n	Outlook Live\n\n\n\n	Congregational Meeting to Elect Elders & Deacons\n			January 11\n	  @\n11:00 am\n	  –\n11:30 am \nThe congregation is invited to a special meeting following worship to elect First Presbyterian Church elders and deacons. \n\n			\n		First Presbyterian Church of Stamford			\n	\n\n1101 Bedford Street\n		\n		Stamford\,\n	CT\n	06905\n	United States\n\n\n	+ Google Map \n\n					\n						\n	 \n\n\n\n								\n															 \n\n\n\n\n				Sunday Worship "Lifelong Discipleship Formation"	\n\n\n	\n		Steps to Recovery
URL:https://fishchurch.org/event/congregational-meeting-to-elect-elders-deacons/
LOCATION:First Presbyterian Church of Stamford\, 1101 Bedford Street\, Stamford\, CT\, 06905\, United States
ATTACH;FMTTYPE=image/jpeg:https://fishchurch.org/wp-content/uploads/2025/04/Calendar-Event-Placeholder-Image.jpg
END:VEVENT
BEGIN:VEVENT
DTSTART;TZID=America/New_York:20260111T100000
DTEND;TZID=America/New_York:20260111T110000
DTSTAMP:20260425T093204
CREATED:20260105T174900Z
LAST-MODIFIED:20260105T175212Z
UID:10000962-1768125600-1768129200@fishchurch.org
SUMMARY:Sunday Worship "Lifelong Discipleship Formation"
DESCRIPTION:« All Events\n \n	\n\n	\n	Add to calendar	\n		\n	\n \n\n\n	Google Calendar\n\n\n	iCalendar\n\n\n	Outlook 365\n\n\n	Outlook Live\n\n\n\n	Sunday Worship “Lifelong Discipleship Formation”\n			January 11\n	  @\n10:00 am\n	  –\n11:00 am \nThis week’s worship service\, “Lifelong Discipleship Formation”\, highlighting Deuteronomy 11:13-21 & Acts 2:2-4\, will be delivered by Rev. Dr. Pablo Diaz. \n  \nA congregational meeting to elect Elders and Deacons will be held after worship. \n  \nSunday School / Nursery available for children birth through fifth grade. \n  \nClick here to watch live. \n  \nFor more information on Sunday worship services at First Presbyterian Church click here. \n\n			\n		First Presbyterian Church of Stamford			\n	\n\n1101 Bedford Street\n		\n		Stamford\,\n	CT\n	06905\n	United States\n\n\n	+ Google Map \n\n					\n						\n	 \n\n\n\n								\n															 \n\n\n\n\n				The Gathering	\n\n\n	\n		Steps to Recovery
URL:https://fishchurch.org/event/sunday-worship-01112026/
LOCATION:First Presbyterian Church of Stamford\, 1101 Bedford Street\, Stamford\, CT\, 06905\, United States
CATEGORIES:Homepage
ATTACH;FMTTYPE=image/jpeg:https://fishchurch.org/wp-content/uploads/2025/10/Pablo-Diaz-Preaching-05473.jpg
END:VEVENT
BEGIN:VEVENT
DTSTART;TZID=America/New_York:20260111T093000
DTEND;TZID=America/New_York:20260111T100000
DTSTAMP:20260425T093204
CREATED:20260105T182304Z
LAST-MODIFIED:20260105T182319Z
UID:10000968-1768123800-1768125600@fishchurch.org
SUMMARY:January Food Drive
DESCRIPTION:« All Events \nThis event has passed. \n\n\n\nAdd to calendar  \n  \n\nGoogle Calendar\niCalendar\nOutlook 365\nOutlook Live\n\nJanuary Food Drive\nJanuary 4\n@\n9:30 am\n–\n10:00 am \nBring in cereal and shelf stable milk to help support The Food Bank of Lower Fairfield County. Donations can be dropped off in the narthex or purchased on Amazon here. \n\nFirst Presbyterian Church of Stamford \n1101 Bedford Street \nStamford\,\nCT\n06905\nUnited States\n+ Google Map \n  \n\n\n\nAlAnon Meeting \n\nName Tag Sunday
URL:https://fishchurch.org/event/january-food-drive-copy/
LOCATION:First Presbyterian Church of Stamford\, 1101 Bedford Street\, Stamford\, CT\, 06905\, United States
ATTACH;FMTTYPE=image/jpeg:https://fishchurch.org/wp-content/uploads/2026/01/FPC-January-Food-Drive.jpg
END:VEVENT
BEGIN:VEVENT
DTSTART;TZID=America/New_York:20260110T100000
DTEND;TZID=America/New_York:20260110T120000
DTSTAMP:20260425T093204
CREATED:20251113T033828Z
LAST-MODIFIED:20260105T180414Z
UID:10000941-1768039200-1768046400@fishchurch.org
SUMMARY:The Gathering
DESCRIPTION:« All Events\n \n	\n\n	\n	Add to calendar	\n		\n	\n \n\n\n	Google Calendar\n\n\n	iCalendar\n\n\n	Outlook 365\n\n\n	Outlook Live\n\n\n\n	The Gathering\n			January 10\n	  @\n10:00 am\n	  –\n12:00 pm \nThe Gathering Knitting and Crocheting Club welcomes fiber artists of all skill levels to enjoy community\, share\, and learn together. \n\n			\n		Lounge			\n	\n\n1101 Bedford Street\, Stamford\, CT\, USA\n		\n		Stamford\,\n	CT\n	06905\n	United States\n\n\n	+ Google Map \n\n					\n			2033249522			\n	 \n\n\n\n								\n															 \n\n\n\n\n				AlAnon Meeting	\n\n\n	\n		Sunday Worship "Lifelong Discipleship Formation"
URL:https://fishchurch.org/event/the-gathering-2/
LOCATION:Lounge\, 1101 Bedford Street\, Stamford\, CT\, USA\, Stamford\, CT\, 06905\, United States
CATEGORIES:Homepage
ATTACH;FMTTYPE=image/jpeg:https://fishchurch.org/wp-content/uploads/2025/11/The-Gathering-Icon.jpg
END:VEVENT
BEGIN:VEVENT
DTSTART;TZID=America/New_York:20260109T120000
DTEND;TZID=America/New_York:20260109T133000
DTSTAMP:20260425T093204
CREATED:20250429T202036Z
LAST-MODIFIED:20250429T202036Z
UID:10000062-1767960000-1767965400@fishchurch.org
SUMMARY:AlAnon Meeting
DESCRIPTION:
URL:https://fishchurch.org/event/alanon-meeting/2026-01-09/
LOCATION:Room 32\, 1101 Bedford Street\, Stamford\, CT\, USA\, Stamford\, CT\, 06905\, United States
ATTACH;FMTTYPE=image/jpeg:https://fishchurch.org/wp-content/uploads/2025/04/Calendar-Event-Placeholder-Image.jpg
END:VEVENT
BEGIN:VEVENT
DTSTART;TZID=America/New_York:20260108T190000
DTEND;TZID=America/New_York:20260108T200000
DTSTAMP:20260425T093204
CREATED:20250430T183632Z
LAST-MODIFIED:20250430T190246Z
UID:10000585-1767898800-1767902400@fishchurch.org
SUMMARY:Steps to Recovery
DESCRIPTION:« All Events \n\n\nAdd to calendar \n  \n\nGoogle Calendar\niCalendar\nOutlook 365\nOutlook Live\n\nSteps to Recovery\nMay 1\n@\n7:00 pm\n–\n8:00 pm \nMeet in the lounge. \n  \n\n\n\nEaster Sunday Worship \n\nRed Cross Blood Drive
URL:https://fishchurch.org/event/steps-to-recovery/2026-01-08/
LOCATION:Lounge\, 1101 Bedford Street\, Stamford\, CT\, USA\, Stamford\, CT\, 06905\, United States
ATTACH;FMTTYPE=image/jpeg:https://fishchurch.org/wp-content/uploads/2025/04/Calendar-Event-Placeholder-Image.jpg
END:VEVENT
BEGIN:VEVENT
DTSTART;TZID=America/New_York:20260104T100000
DTEND;TZID=America/New_York:20260104T110000
DTSTAMP:20260425T093204
CREATED:20260105T174638Z
LAST-MODIFIED:20260105T174909Z
UID:10000961-1767520800-1767524400@fishchurch.org
SUMMARY:Sunday Worship "Fear Doesn't Stop Us"
DESCRIPTION:« All Events\n \nThis event has passed. \n	\n\n	\n	Add to calendar	\n		\n	\n \n\n\n	Google Calendar\n\n\n	iCalendar\n\n\n	Outlook 365\n\n\n	Outlook Live\n\n\n\n	Sunday Worship “Fear Doesn’t Stop Us”\n			January 4\n	  @\n10:00 am\n	  –\n11:00 am \nEpiphany & Communion Sunday \n  \nThis week’s worship service\, “Fear Doesn’t Stop Us”\, highlighting Matthew 2:1-12\, 16-18\, will be delivered by Rev. Dr. Pablo Diaz. \n  \nSunday School / Nursery available for children birth through fifth grade. \nClick here to watch live. \n  \nFor more information on Sunday worship services at First Presbyterian Church click here. \n\n			\n		First Presbyterian Church of Stamford			\n	\n\n1101 Bedford Street\n		\n		Stamford\,\n	CT\n	06905\n	United States\n\n\n	+ Google Map \n\n					\n						\n	 \n\n\n\n								\n															 \n\n\n\n\n				AlAnon Meeting	\n\n\n	\n		Steps to Recovery
URL:https://fishchurch.org/event/sunday-worship-01042026/
LOCATION:First Presbyterian Church of Stamford\, 1101 Bedford Street\, Stamford\, CT\, 06905\, United States
CATEGORIES:Homepage
ATTACH;FMTTYPE=image/jpeg:https://fishchurch.org/wp-content/uploads/2025/10/Pablo-Diaz-Preaching-05473.jpg
END:VEVENT
BEGIN:VEVENT
DTSTART;TZID=America/New_York:20260104T100000
DTEND;TZID=America/New_York:20260104T110000
DTSTAMP:20260425T093204
CREATED:20251015T164049Z
LAST-MODIFIED:20251015T164147Z
UID:10000928-1767520800-1767524400@fishchurch.org
SUMMARY:Name Tag Sunday
DESCRIPTION:« All Events \n\n\n\nAdd to calendar  \n  \n\nGoogle Calendar\niCalendar\nOutlook 365\nOutlook Live\n\nName Tag Sunday\nNovember 2\n@\n10:00 am\n–\n11:00 am \nGrab a name tag on the first Sunday of the month introduce yourself to someone new. \n\nFirst Presbyterian Church of Stamford \n1101 Bedford StreetStamford\,\nCT\n06905\nUnited States\n+ Google Map \n  \n\n\n\nSteps to Recovery \n\nSteps to Recovery
URL:https://fishchurch.org/event/name-tag-sunday-copy-copy/
LOCATION:First Presbyterian Church of Stamford\, 1101 Bedford Street\, Stamford\, CT\, 06905\, United States
CATEGORIES:Homepage
ATTACH;FMTTYPE=image/jpeg:https://fishchurch.org/wp-content/uploads/2025/10/Nametag-Sundays.jpg
END:VEVENT
BEGIN:VEVENT
DTSTART;TZID=America/New_York:20260104T093000
DTEND;TZID=America/New_York:20260104T100000
DTSTAMP:20260425T093204
CREATED:20260105T181736Z
LAST-MODIFIED:20260105T182222Z
UID:10000967-1767519000-1767520800@fishchurch.org
SUMMARY:January Food Drive
DESCRIPTION:« All Events\n \nThis event has passed. \n	\n\n	\n	Add to calendar	\n		\n	\n \n\n\n	Google Calendar\n\n\n	iCalendar\n\n\n	Outlook 365\n\n\n	Outlook Live\n\n\n\n	January Food Drive\n			January 4\n	  @\n9:30 am\n	  –\n10:00 am \nBring in cereal and shelf stable milk to help support The Food Bank of Lower Fairfield County. Donations can be dropped off in the narthex or purchased on Amazon here. \n\n			\n		First Presbyterian Church of Stamford			\n	\n\n1101 Bedford Street\n		\n		Stamford\,\n	CT\n	06905\n	United States\n\n\n	+ Google Map \n\n					\n						\n	 \n\n\n\n								\n															 \n\n\n\n\n				AlAnon Meeting	\n\n\n	\n		Name Tag Sunday
URL:https://fishchurch.org/event/january-food-drive/
LOCATION:First Presbyterian Church of Stamford\, 1101 Bedford Street\, Stamford\, CT\, 06905\, United States
ATTACH;FMTTYPE=image/jpeg:https://fishchurch.org/wp-content/uploads/2026/01/FPC-January-Food-Drive.jpg
END:VEVENT
BEGIN:VEVENT
DTSTART;TZID=America/New_York:20260102T120000
DTEND;TZID=America/New_York:20260102T133000
DTSTAMP:20260425T093204
CREATED:20250429T202036Z
LAST-MODIFIED:20250429T202036Z
UID:10000061-1767355200-1767360600@fishchurch.org
SUMMARY:AlAnon Meeting
DESCRIPTION:
URL:https://fishchurch.org/event/alanon-meeting/2026-01-02/
LOCATION:Room 32\, 1101 Bedford Street\, Stamford\, CT\, USA\, Stamford\, CT\, 06905\, United States
ATTACH;FMTTYPE=image/jpeg:https://fishchurch.org/wp-content/uploads/2025/04/Calendar-Event-Placeholder-Image.jpg
END:VEVENT
BEGIN:VEVENT
DTSTART;TZID=America/New_York:20260101T190000
DTEND;TZID=America/New_York:20260101T200000
DTSTAMP:20260425T093204
CREATED:20250430T183632Z
LAST-MODIFIED:20250430T190246Z
UID:10000584-1767294000-1767297600@fishchurch.org
SUMMARY:Steps to Recovery
DESCRIPTION:« All Events \n\n\nAdd to calendar \n  \n\nGoogle Calendar\niCalendar\nOutlook 365\nOutlook Live\n\nSteps to Recovery\nMay 1\n@\n7:00 pm\n–\n8:00 pm \nMeet in the lounge. \n  \n\n\n\nEaster Sunday Worship \n\nRed Cross Blood Drive
URL:https://fishchurch.org/event/steps-to-recovery/2026-01-01/
LOCATION:Lounge\, 1101 Bedford Street\, Stamford\, CT\, USA\, Stamford\, CT\, 06905\, United States
ATTACH;FMTTYPE=image/jpeg:https://fishchurch.org/wp-content/uploads/2025/04/Calendar-Event-Placeholder-Image.jpg
END:VEVENT
BEGIN:VEVENT
DTSTART;TZID=America/New_York:20251229T190000
DTEND;TZID=America/New_York:20251229T200000
DTSTAMP:20260425T093204
CREATED:20250516T193147Z
LAST-MODIFIED:20250516T193147Z
UID:10000851-1767034800-1767038400@fishchurch.org
SUMMARY:Steps to Recovery
DESCRIPTION:
URL:https://fishchurch.org/event/steps-to-recovery-4/2025-12-29/
LOCATION:Lounge\, 1101 Bedford Street\, Stamford\, CT\, USA\, Stamford\, CT\, 06905\, United States
ATTACH;FMTTYPE=image/jpeg:https://fishchurch.org/wp-content/uploads/2025/04/Calendar-Event-Placeholder-Image.jpg
END:VEVENT
BEGIN:VEVENT
DTSTART;TZID=America/New_York:20251228T100000
DTEND;TZID=America/New_York:20251228T110000
DTSTAMP:20260425T093204
CREATED:20251202T202947Z
LAST-MODIFIED:20251202T203212Z
UID:10000960-1766916000-1766919600@fishchurch.org
SUMMARY:Sunday Worship - Scripture Readings & Hymns
DESCRIPTION:« All Events\n \n	\n\n	\n	Add to calendar	\n		\n	\n \n\n\n	Google Calendar\n\n\n	iCalendar\n\n\n	Outlook 365\n\n\n	Outlook Live\n\n\n\n	Sunday Worship – Scripture Readings & Hymns\n			December 28\n	  @\n10:00 am\n	  –\n11:00 am \nThis week’s worship service will feature scripture readings and hymns. \n  \nThere will be no Sunday School or Nursery services available. \n  \nClick here to watch live. \n  \nFor more information on Sunday worship services at First Presbyterian Church click here. \n\n			\n		First Presbyterian Church of Stamford			\n	\n\n1101 Bedford Street\n		\n		Stamford\,\n	CT\n	06905\n	United States\n\n\n	+ Google Map \n\n					\n						\n	 \n\n\n\n								\n															 \n\n\n\n\n				Steps to Recovery	\n\n\n	\n		Steps to Recovery
URL:https://fishchurch.org/event/sunday-worship-12282025/
LOCATION:First Presbyterian Church of Stamford\, 1101 Bedford Street\, Stamford\, CT\, 06905\, United States
CATEGORIES:Homepage
ATTACH;FMTTYPE=image/jpeg:https://fishchurch.org/wp-content/uploads/2025/04/Calendar-Event-Placeholder-Image.jpg
END:VEVENT
BEGIN:VEVENT
DTSTART;TZID=America/New_York:20251227T190000
DTEND;TZID=America/New_York:20251227T200000
DTSTAMP:20260425T093204
CREATED:20250516T193326Z
LAST-MODIFIED:20250516T193526Z
UID:10000917-1766862000-1766865600@fishchurch.org
SUMMARY:Steps to Recovery
DESCRIPTION:
URL:https://fishchurch.org/event/steps-to-recovery-5/2025-12-27/
ATTACH;FMTTYPE=image/jpeg:https://fishchurch.org/wp-content/uploads/2025/04/Calendar-Event-Placeholder-Image.jpg
END:VEVENT
BEGIN:VEVENT
DTSTART;TZID=America/New_York:20251226T120000
DTEND;TZID=America/New_York:20251226T133000
DTSTAMP:20260425T093204
CREATED:20250429T202036Z
LAST-MODIFIED:20250429T202036Z
UID:10000060-1766750400-1766755800@fishchurch.org
SUMMARY:AlAnon Meeting
DESCRIPTION:
URL:https://fishchurch.org/event/alanon-meeting/2025-12-26/
LOCATION:Room 32\, 1101 Bedford Street\, Stamford\, CT\, USA\, Stamford\, CT\, 06905\, United States
ATTACH;FMTTYPE=image/jpeg:https://fishchurch.org/wp-content/uploads/2025/04/Calendar-Event-Placeholder-Image.jpg
END:VEVENT
END:VCALENDAR