BEGIN:VCALENDAR
VERSION:2.0
PRODID:-//First Presbyterian Church - ECPv6.15.20//NONSGML v1.0//EN
CALSCALE:GREGORIAN
METHOD:PUBLISH
X-WR-CALNAME:First Presbyterian Church
X-ORIGINAL-URL:https://fishchurch.org
X-WR-CALDESC:Events for First Presbyterian Church
REFRESH-INTERVAL;VALUE=DURATION:PT1H
X-Robots-Tag:noindex
X-PUBLISHED-TTL:PT1H
BEGIN:VTIMEZONE
TZID:America/New_York
BEGIN:DAYLIGHT
TZOFFSETFROM:-0500
TZOFFSETTO:-0400
TZNAME:EDT
DTSTART:20250309T070000
END:DAYLIGHT
BEGIN:STANDARD
TZOFFSETFROM:-0400
TZOFFSETTO:-0500
TZNAME:EST
DTSTART:20251102T060000
END:STANDARD
BEGIN:DAYLIGHT
TZOFFSETFROM:-0500
TZOFFSETTO:-0400
TZNAME:EDT
DTSTART:20260308T070000
END:DAYLIGHT
BEGIN:STANDARD
TZOFFSETFROM:-0400
TZOFFSETTO:-0500
TZNAME:EST
DTSTART:20261101T060000
END:STANDARD
BEGIN:DAYLIGHT
TZOFFSETFROM:-0500
TZOFFSETTO:-0400
TZNAME:EDT
DTSTART:20270314T070000
END:DAYLIGHT
BEGIN:STANDARD
TZOFFSETFROM:-0400
TZOFFSETTO:-0500
TZNAME:EST
DTSTART:20271107T060000
END:STANDARD
END:VTIMEZONE
BEGIN:VEVENT
DTSTART;TZID=America/New_York:20260419T100000
DTEND;TZID=America/New_York:20260419T110000
DTSTAMP:20260424T071917
CREATED:20260413T140337Z
LAST-MODIFIED:20260413T140554Z
UID:10001004-1776592800-1776596400@fishchurch.org
SUMMARY:Sunday Worship "An Unlikely Friendship"
DESCRIPTION:Home » Events 				\n				\n				\n				\n					\n	« All Events\n 				\n				\n					\n				\n				\n						\n					\n			\n						\n				\n					This event has passed. \n				\n				\n					\n		\n					\n		\n		\n					\n		\n				\n				\n					\n	\n				\n				\n				\n				\n					\n	\n		\n\n	\n	Add to calendar	\n		\n	\n\n		\n			\n									\n	Google Calendar\n\n									\n	iCalendar\n\n									\n	Outlook 365\n\n									\n	Outlook Live\n\n							\n		\n\n		\n	\n\n				\n				\n				\n		\n				\n				\n					\n	Dignity Grows Interfaith Event				\n				\n				\n				\n					\n		\n			April 23\n\n	\n\n	  @  \n\n\n7:30 pm\n\n		\n\n\n\n	\n	  -  \n\n8:30 pm\n\n\n\n	\n				\n				\n				\n				\n									Join this great opportunity for hands-on mission work and connection with our interfaith siblings from First United Methodist\, St. Francis Episcopal\, St. John’s Lutheran\, Temple Beth El\, and Temple Sinai. We’ll make hundreds of sandwiches for New Covenant Center’s soup kitchen and pack 700 Dignity Grows personal hygiene kits.   The Stamford chapter of Dignity Grows is a program of UJF of Stamford\, New Canaan\, and Darien\, and was a 2025 Fish Church Grant recipient. We also encourage donations that will go toward personal care supplies!   Register below to participate.Register Donate 								\n				\n				\n				\n					\n				\n				\n	\n			\n		Temple Sinai			\n	\n	\n	\n\n458 Lakeside Drive\n	\n		\n		Stamford\,\n\n	CT\n\n	.6903\n\n\n\n\n\n	+ Google Map \n\n\n	\n					\n						\n	 \n\n\n	\n	 \n\n\n\n	\n\n\n\n		\n	\n				\n				\n				\n				\n							\n								\n						\n															\n															\n																				\n					\n									\n						\n															\n															\n																				\n					\n						\n						\n				\n				\n					\n				\n		\n					\n				\n				\n					\n	\n		\n\n				Steps to Recovery	\n\n\n		\n	\n		AlAnon Meeting
URL:https://fishchurch.org/event/sunday-worship-an-unlikely-friendship/
LOCATION:First Presbyterian Church of Stamford\, 1101 Bedford Street\, Stamford\, CT\, 06905\, United States
CATEGORIES:Homepage
ATTACH;FMTTYPE=image/jpeg:https://fishchurch.org/wp-content/uploads/2025/04/Calendar-Event-Placeholder-Image.jpg
END:VEVENT
BEGIN:VEVENT
DTSTART;TZID=America/New_York:20260419T110000
DTEND;TZID=America/New_York:20260419T120000
DTSTAMP:20260424T071917
CREATED:20260413T143209Z
LAST-MODIFIED:20260413T143401Z
UID:10001008-1776596400-1776600000@fishchurch.org
SUMMARY:Transitional Assessment Team Listening Session
DESCRIPTION:Home » Events 				\n				\n				\n				\n					\n	« All Events\n 				\n				\n					\n				\n				\n						\n					\n			\n						\n				\n					This event has passed. \n				\n				\n					\n		\n					\n		\n		\n					\n		\n				\n				\n					\n	\n				\n				\n				\n				\n					\n	\n		\n\n	\n	Add to calendar	\n		\n	\n\n		\n			\n									\n	Google Calendar\n\n									\n	iCalendar\n\n									\n	Outlook 365\n\n									\n	Outlook Live\n\n							\n		\n\n		\n	\n\n				\n				\n				\n		\n				\n				\n					\n	Dignity Grows Interfaith Event				\n				\n				\n				\n					\n		\n			April 23\n\n	\n\n	  @  \n\n\n7:30 pm\n\n		\n\n\n\n	\n	  -  \n\n8:30 pm\n\n\n\n	\n				\n				\n				\n				\n									Join this great opportunity for hands-on mission work and connection with our interfaith siblings from First United Methodist\, St. Francis Episcopal\, St. John’s Lutheran\, Temple Beth El\, and Temple Sinai. We’ll make hundreds of sandwiches for New Covenant Center’s soup kitchen and pack 700 Dignity Grows personal hygiene kits.   The Stamford chapter of Dignity Grows is a program of UJF of Stamford\, New Canaan\, and Darien\, and was a 2025 Fish Church Grant recipient. We also encourage donations that will go toward personal care supplies!   Register below to participate.Register Donate 								\n				\n				\n				\n					\n				\n				\n	\n			\n		Temple Sinai			\n	\n	\n	\n\n458 Lakeside Drive\n	\n		\n		Stamford\,\n\n	CT\n\n	.6903\n\n\n\n\n\n	+ Google Map \n\n\n	\n					\n						\n	 \n\n\n	\n	 \n\n\n\n	\n\n\n\n		\n	\n				\n				\n				\n				\n							\n								\n						\n															\n															\n																				\n					\n									\n						\n															\n															\n																				\n					\n						\n						\n				\n				\n					\n				\n		\n					\n				\n				\n					\n	\n		\n\n				Steps to Recovery	\n\n\n		\n	\n		AlAnon Meeting
URL:https://fishchurch.org/event/transitional-assessment-team-listening-session/
LOCATION:First Presbyterian Church of Stamford\, 1101 Bedford Street\, Stamford\, CT\, 06905\, United States
CATEGORIES:Homepage
ATTACH;FMTTYPE=image/jpeg:https://fishchurch.org/wp-content/uploads/2025/04/Calendar-Event-Placeholder-Image.jpg
END:VEVENT
END:VCALENDAR