BEGIN:VCALENDAR
VERSION:2.0
PRODID:-//First Presbyterian Church - ECPv6.15.20//NONSGML v1.0//EN
CALSCALE:GREGORIAN
METHOD:PUBLISH
X-WR-CALNAME:First Presbyterian Church
X-ORIGINAL-URL:https://fishchurch.org
X-WR-CALDESC:Events for First Presbyterian Church
REFRESH-INTERVAL;VALUE=DURATION:PT1H
X-Robots-Tag:noindex
X-PUBLISHED-TTL:PT1H
BEGIN:VTIMEZONE
TZID:America/New_York
BEGIN:DAYLIGHT
TZOFFSETFROM:-0500
TZOFFSETTO:-0400
TZNAME:EDT
DTSTART:20250309T070000
END:DAYLIGHT
BEGIN:STANDARD
TZOFFSETFROM:-0400
TZOFFSETTO:-0500
TZNAME:EST
DTSTART:20251102T060000
END:STANDARD
BEGIN:DAYLIGHT
TZOFFSETFROM:-0500
TZOFFSETTO:-0400
TZNAME:EDT
DTSTART:20260308T070000
END:DAYLIGHT
BEGIN:STANDARD
TZOFFSETFROM:-0400
TZOFFSETTO:-0500
TZNAME:EST
DTSTART:20261101T060000
END:STANDARD
BEGIN:DAYLIGHT
TZOFFSETFROM:-0500
TZOFFSETTO:-0400
TZNAME:EDT
DTSTART:20270314T070000
END:DAYLIGHT
BEGIN:STANDARD
TZOFFSETFROM:-0400
TZOFFSETTO:-0500
TZNAME:EST
DTSTART:20271107T060000
END:STANDARD
END:VTIMEZONE
BEGIN:VEVENT
DTSTART;TZID=America/New_York:20260308T160000
DTEND;TZID=America/New_York:20260308T173000
DTSTAMP:20260420T042207
CREATED:20260305T035908Z
LAST-MODIFIED:20260305T040429Z
UID:2126-1772985600-1772991000@fishchurch.org
SUMMARY:Screening of "A Piece of the Puzzle: Seven Inspiring Stories from Selma to Today"
DESCRIPTION:Home » Events » Screening of “A Piece of the Puzzle: Seven Inspiring Stories from Selma to Today” 				\n				\n				\n				\n					\n	« All Events\n 				\n				\n					\n				\n				\n						\n					\n			\n						\n				\n					This event has passed. \n				\n				\n					\n		\n					\n		\n		\n					\n		\n				\n				\n					\n	\n				\n				\n				\n				\n					\n	\n		\n\n	\n	Add to calendar	\n		\n	\n\n		\n			\n									\n	Google Calendar\n\n									\n	iCalendar\n\n									\n	Outlook 365\n\n									\n	Outlook Live\n\n							\n		\n\n		\n	\n\n				\n				\n				\n		\n				\n				\n					\n	Screening of “A Piece of the Puzzle: Seven Inspiring Stories from Selma to Today”				\n				\n				\n				\n					\n		\n			March 8\n\n	\n\n	  @  \n\n\n4:00 pm\n\n		\n\n\n\n	\n	  -  \n\n5:30 pm\n\n\n\n	\n				\n				\n				\n				\n									Click here to RSVP by March 6   Join us for a special screening of the documentary “A Piece of the Puzzle: Seven Inspiring Stories from Selma to Today”. The film was funded by a Fish Church Grant and created by church members Sheryl Battles\, Asa Hazen\, and Ellyn Stewart.   What happens when ordinary people decide to contribute their unique “piece” to the jigsaw puzzle of change? Meet seven inspiring Americans who made courageous choices to champion civil rights\, both for themselves and for others\, at pivotal moments in our shared history. See how their stories of faith and courage serve as a powerful reminder of the difference one person can make\, and that change happens with everyday actions. 								\n				\n				\n				\n					\n				\n				\n	\n			\n		Lounge			\n	\n	\n	\n\n1101 Bedford Street\, Stamford\, CT\, USA\n	\n		\n		Stamford\,\n\n	CT\n\n	06905\n\n	United States\n\n\n\n\n	+ Google Map \n\n\n	\n					\n			2033249522			\n	 \n\n\n	\n	 \n\n\n\n	\n\n\n\n		\n	\n				\n				\n				\n				\n							\n								\n						\n															\n															\n																				\n					\n									\n						\n															\n															\n																				\n					\n						\n						\n				\n				\n					\n				\n		\n					\n				\n				\n					\n	\n		\n\n				Congregational Assessment Survey Results	\n\n\n		\n	\n		Bystander Intervention Training to Support Immigrant Communities
URL:https://fishchurch.org/event/screening-of-a-piece-of-the-puzzle-seven-inspiring-stories-from-selma-to-today/
LOCATION:Lounge\, 1101 Bedford Street\, Stamford\, CT\, USA\, Stamford\, CT\, 06905\, United States
CATEGORIES:Homepage
ATTACH;FMTTYPE=image/jpeg:https://fishchurch.org/wp-content/uploads/2026/03/A-Piece-of-the-Puzzle-Square.jpg
END:VEVENT
END:VCALENDAR