BEGIN:VCALENDAR
VERSION:2.0
PRODID:-//First Presbyterian Church - ECPv6.15.20//NONSGML v1.0//EN
CALSCALE:GREGORIAN
METHOD:PUBLISH
X-WR-CALNAME:First Presbyterian Church
X-ORIGINAL-URL:https://fishchurch.org
X-WR-CALDESC:Events for First Presbyterian Church
REFRESH-INTERVAL;VALUE=DURATION:PT1H
X-Robots-Tag:noindex
X-PUBLISHED-TTL:PT1H
BEGIN:VTIMEZONE
TZID:America/New_York
BEGIN:DAYLIGHT
TZOFFSETFROM:-0500
TZOFFSETTO:-0400
TZNAME:EDT
DTSTART:20250309T070000
END:DAYLIGHT
BEGIN:STANDARD
TZOFFSETFROM:-0400
TZOFFSETTO:-0500
TZNAME:EST
DTSTART:20251102T060000
END:STANDARD
BEGIN:DAYLIGHT
TZOFFSETFROM:-0500
TZOFFSETTO:-0400
TZNAME:EDT
DTSTART:20260308T070000
END:DAYLIGHT
BEGIN:STANDARD
TZOFFSETFROM:-0400
TZOFFSETTO:-0500
TZNAME:EST
DTSTART:20261101T060000
END:STANDARD
BEGIN:DAYLIGHT
TZOFFSETFROM:-0500
TZOFFSETTO:-0400
TZNAME:EDT
DTSTART:20270314T070000
END:DAYLIGHT
BEGIN:STANDARD
TZOFFSETFROM:-0400
TZOFFSETTO:-0500
TZNAME:EST
DTSTART:20271107T060000
END:STANDARD
END:VTIMEZONE
BEGIN:VEVENT
DTSTART;TZID=America/New_York:20260104T100000
DTEND;TZID=America/New_York:20260104T110000
DTSTAMP:20260424T155739
CREATED:20251015T164049Z
LAST-MODIFIED:20251015T164147Z
UID:1738-1767520800-1767524400@fishchurch.org
SUMMARY:Name Tag Sunday
DESCRIPTION:Home » Events » Name Tag Sunday 				\n				\n				\n				\n					\n	« All Events\n 				\n				\n					\n				\n				\n						\n					\n			\n						\n				\n					This event has passed. \n				\n				\n					\n		\n					\n		\n		\n					\n		\n				\n				\n					\n	\n				\n				\n				\n				\n					\n	\n		\n\n	\n	Add to calendar	\n		\n	\n\n		\n			\n									\n	Google Calendar\n\n									\n	iCalendar\n\n									\n	Outlook 365\n\n									\n	Outlook Live\n\n							\n		\n\n		\n	\n\n				\n				\n				\n		\n				\n				\n					\n	Name Tag Sunday				\n				\n				\n				\n					\n		\n			January 4\n\n	\n\n	  @  \n\n\n10:00 am\n\n		\n\n\n\n	\n	  -  \n\n11:00 am\n\n\n\n	\n				\n				\n				\n				\n									Grab a name tag on the first Sunday of the month introduce yourself to someone new. 								\n				\n				\n				\n					\n				\n				\n	\n			\n		First Presbyterian Church of Stamford			\n	\n	\n	\n\n1101 Bedford Street\n	\n		\n		Stamford\,\n\n	CT\n\n	06905\n\n	United States\n\n\n\n\n	+ Google Map \n\n\n	\n					\n						\n	 \n\n\n	\n	 \n\n\n\n	\n\n\n\n		\n	\n				\n				\n				\n				\n							\n								\n						\n															\n															\n																				\n					\n									\n						\n															\n															\n																				\n					\n						\n						\n				\n				\n					\n				\n		\n					\n				\n				\n					\n	\n		\n\n				January Food Drive	\n\n\n		\n	\n		Steps to Recovery
URL:https://fishchurch.org/event/name-tag-sunday-copy-copy/
LOCATION:First Presbyterian Church of Stamford\, 1101 Bedford Street\, Stamford\, CT\, 06905\, United States
CATEGORIES:Homepage
ATTACH;FMTTYPE=image/jpeg:https://fishchurch.org/wp-content/uploads/2025/10/Nametag-Sundays.jpg
END:VEVENT
END:VCALENDAR