BEGIN:VCALENDAR
VERSION:2.0
PRODID:-//First Presbyterian Church - ECPv6.15.20//NONSGML v1.0//EN
CALSCALE:GREGORIAN
METHOD:PUBLISH
X-WR-CALNAME:First Presbyterian Church
X-ORIGINAL-URL:https://fishchurch.org
X-WR-CALDESC:Events for First Presbyterian Church
REFRESH-INTERVAL;VALUE=DURATION:PT1H
X-Robots-Tag:noindex
X-PUBLISHED-TTL:PT1H
BEGIN:VTIMEZONE
TZID:America/New_York
BEGIN:DAYLIGHT
TZOFFSETFROM:-0500
TZOFFSETTO:-0400
TZNAME:EDT
DTSTART:20250309T070000
END:DAYLIGHT
BEGIN:STANDARD
TZOFFSETFROM:-0400
TZOFFSETTO:-0500
TZNAME:EST
DTSTART:20251102T060000
END:STANDARD
BEGIN:DAYLIGHT
TZOFFSETFROM:-0500
TZOFFSETTO:-0400
TZNAME:EDT
DTSTART:20260308T070000
END:DAYLIGHT
BEGIN:STANDARD
TZOFFSETFROM:-0400
TZOFFSETTO:-0500
TZNAME:EST
DTSTART:20261101T060000
END:STANDARD
BEGIN:DAYLIGHT
TZOFFSETFROM:-0500
TZOFFSETTO:-0400
TZNAME:EDT
DTSTART:20270314T070000
END:DAYLIGHT
BEGIN:STANDARD
TZOFFSETFROM:-0400
TZOFFSETTO:-0500
TZNAME:EST
DTSTART:20271107T060000
END:STANDARD
END:VTIMEZONE
BEGIN:VEVENT
DTSTART;TZID=America/New_York:20260405T100000
DTEND;TZID=America/New_York:20260405T110000
DTSTAMP:20260424T072756
CREATED:20260305T034115Z
LAST-MODIFIED:20260305T035749Z
UID:2119-1775383200-1775386800@fishchurch.org
SUMMARY:Easter Sunday Worship "Alive in the Word"
DESCRIPTION:Home » Events » Easter Sunday Worship “Alive in the Word” 				\n				\n				\n				\n					\n	« All Events\n 				\n				\n					\n				\n				\n						\n					\n			\n						\n				\n					This event has passed. \n				\n				\n					\n		\n					\n		\n		\n					\n		\n				\n				\n					\n	\n				\n				\n				\n				\n					\n	\n		\n\n	\n	Add to calendar	\n		\n	\n\n		\n			\n									\n	Google Calendar\n\n									\n	iCalendar\n\n									\n	Outlook 365\n\n									\n	Outlook Live\n\n							\n		\n\n		\n	\n\n				\n				\n				\n		\n				\n				\n					\n	Easter Sunday Worship “Alive in the Word”				\n				\n				\n				\n					\n		\n			April 5\n\n	\n\n	  @  \n\n\n10:00 am\n\n		\n\n\n\n	\n	  -  \n\n11:00 am\n\n\n\n	\n				\n				\n				\n				\n									Easter Sunday Lenten Sermon Series: Tell Me Something Good   This week’s worship service\, “The Good News is…Alive in the Word” will highlight Matthew 28:1-10.   Sunday School / Nursery available for children birth through fifth grade.   Click here to watch live.   For more information on Sunday worship services at First Presbyterian Church\, click here. 								\n				\n				\n				\n					\n				\n				\n	\n			\n		First Presbyterian Church of Stamford			\n	\n	\n	\n\n1101 Bedford Street\n	\n		\n		Stamford\,\n\n	CT\n\n	06905\n\n	United States\n\n\n\n\n	+ Google Map \n\n\n	\n					\n						\n	 \n\n\n	\n	 \n\n\n\n	\n\n\n\n		\n	\n				\n				\n				\n				\n							\n								\n						\n															\n															\n																				\n					\n									\n						\n															\n															\n																				\n					\n						\n						\n				\n				\n					\n				\n		\n					\n				\n				\n					\n	\n		\n\n				Good Friday Concert	\n\n\n		\n	\n		Easter Egg Hunt
URL:https://fishchurch.org/event/easter-sunday-worship-alive-in-the-word/
LOCATION:First Presbyterian Church of Stamford\, 1101 Bedford Street\, Stamford\, CT\, 06905\, United States
CATEGORIES:Homepage
ATTACH;FMTTYPE=image/jpeg:https://fishchurch.org/wp-content/uploads/2026/03/First-Presbyterian-Chruch-Easter-03312024-05585_Square.jpg
END:VEVENT
END:VCALENDAR