BEGIN:VCALENDAR
VERSION:2.0
PRODID:-//First Presbyterian Church - ECPv6.15.20//NONSGML v1.0//EN
CALSCALE:GREGORIAN
METHOD:PUBLISH
X-WR-CALNAME:First Presbyterian Church
X-ORIGINAL-URL:https://fishchurch.org
X-WR-CALDESC:Events for First Presbyterian Church
REFRESH-INTERVAL;VALUE=DURATION:PT1H
X-Robots-Tag:noindex
X-PUBLISHED-TTL:PT1H
BEGIN:VTIMEZONE
TZID:America/New_York
BEGIN:DAYLIGHT
TZOFFSETFROM:-0500
TZOFFSETTO:-0400
TZNAME:EDT
DTSTART:20250309T070000
END:DAYLIGHT
BEGIN:STANDARD
TZOFFSETFROM:-0400
TZOFFSETTO:-0500
TZNAME:EST
DTSTART:20251102T060000
END:STANDARD
BEGIN:DAYLIGHT
TZOFFSETFROM:-0500
TZOFFSETTO:-0400
TZNAME:EDT
DTSTART:20260308T070000
END:DAYLIGHT
BEGIN:STANDARD
TZOFFSETFROM:-0400
TZOFFSETTO:-0500
TZNAME:EST
DTSTART:20261101T060000
END:STANDARD
BEGIN:DAYLIGHT
TZOFFSETFROM:-0500
TZOFFSETTO:-0400
TZNAME:EDT
DTSTART:20270314T070000
END:DAYLIGHT
BEGIN:STANDARD
TZOFFSETFROM:-0400
TZOFFSETTO:-0500
TZNAME:EST
DTSTART:20271107T060000
END:STANDARD
END:VTIMEZONE
BEGIN:VEVENT
DTSTART;TZID=America/New_York:20260322T111500
DTEND;TZID=America/New_York:20260322T121500
DTSTAMP:20260424T082931
CREATED:20260305T041903Z
LAST-MODIFIED:20260305T042058Z
UID:2139-1774178100-1774181700@fishchurch.org
SUMMARY:Clay Workshop
DESCRIPTION:Home » Events » Clay Workshop 				\n				\n				\n				\n					\n	« All Events\n 				\n				\n					\n				\n				\n						\n					\n			\n						\n				\n					This event has passed. \n				\n				\n					\n		\n					\n		\n		\n					\n		\n				\n				\n					\n	\n				\n				\n				\n				\n					\n	\n		\n\n	\n	Add to calendar	\n		\n	\n\n		\n			\n									\n	Google Calendar\n\n									\n	iCalendar\n\n									\n	Outlook 365\n\n									\n	Outlook Live\n\n							\n		\n\n		\n	\n\n				\n				\n				\n		\n				\n				\n					\n	Clay Workshop				\n				\n				\n				\n					\n		\n			March 22\n\n	\n\n	  @  \n\n\n11:15 am\n\n		\n\n\n\n	\n	  -  \n\n12:15 pm\n\n\n\n	\n				\n				\n				\n				\n									Join us for a community clay experience centered on creative expression and connection. This hands-on time with clay is an open invitation to slow down\, create freely\, and explore how art can shape and strengthen our sense of community. No experience is needed. 								\n				\n				\n				\n					\n				\n				\n	\n			\n		First Presbyterian Church of Stamford			\n	\n	\n	\n\n1101 Bedford Street\n	\n		\n		Stamford\,\n\n	CT\n\n	06905\n\n	United States\n\n\n\n\n	+ Google Map \n\n\n	\n					\n						\n	 \n\n\n	\n	 \n\n\n\n	\n\n\n\n		\n	\n				\n				\n				\n				\n							\n								\n						\n															\n															\n																				\n					\n									\n						\n															\n															\n																				\n					\n						\n						\n				\n				\n					\n				\n		\n					\n				\n				\n					\n	\n		\n\n				Sunday Worship "Rooted in Justice\, Mercy\, and Faithfulness"	\n\n\n		\n	\n		Creative Learning Science Fair
URL:https://fishchurch.org/event/clay-workshop/
LOCATION:First Presbyterian Church of Stamford\, 1101 Bedford Street\, Stamford\, CT\, 06905\, United States
CATEGORIES:Homepage
ATTACH;FMTTYPE=image/jpeg:https://fishchurch.org/wp-content/uploads/2026/03/Clay-Workshop-IMG_1530.jpg
END:VEVENT
END:VCALENDAR