BEGIN:VCALENDAR
VERSION:2.0
PRODID:-//First Presbyterian Church - ECPv6.15.20//NONSGML v1.0//EN
CALSCALE:GREGORIAN
METHOD:PUBLISH
X-WR-CALNAME:First Presbyterian Church
X-ORIGINAL-URL:https://fishchurch.org
X-WR-CALDESC:Events for First Presbyterian Church
REFRESH-INTERVAL;VALUE=DURATION:PT1H
X-Robots-Tag:noindex
X-PUBLISHED-TTL:PT1H
BEGIN:VTIMEZONE
TZID:America/New_York
BEGIN:DAYLIGHT
TZOFFSETFROM:-0500
TZOFFSETTO:-0400
TZNAME:EDT
DTSTART:20240310T070000
END:DAYLIGHT
BEGIN:STANDARD
TZOFFSETFROM:-0400
TZOFFSETTO:-0500
TZNAME:EST
DTSTART:20241103T060000
END:STANDARD
BEGIN:DAYLIGHT
TZOFFSETFROM:-0500
TZOFFSETTO:-0400
TZNAME:EDT
DTSTART:20250309T070000
END:DAYLIGHT
BEGIN:STANDARD
TZOFFSETFROM:-0400
TZOFFSETTO:-0500
TZNAME:EST
DTSTART:20251102T060000
END:STANDARD
BEGIN:DAYLIGHT
TZOFFSETFROM:-0500
TZOFFSETTO:-0400
TZNAME:EDT
DTSTART:20260308T070000
END:DAYLIGHT
BEGIN:STANDARD
TZOFFSETFROM:-0400
TZOFFSETTO:-0500
TZNAME:EST
DTSTART:20261101T060000
END:STANDARD
END:VTIMEZONE
BEGIN:VEVENT
DTSTART;TZID=America/New_York:20251224T203000
DTEND;TZID=America/New_York:20251224T210000
DTSTAMP:20260424T172541
CREATED:20251125T204058Z
LAST-MODIFIED:20251224T142506Z
UID:1919-1766608200-1766610000@fishchurch.org
SUMMARY:Christmas Eve Prelude Concert
DESCRIPTION:Home » Events » Christmas Eve Prelude Concert 				\n				\n				\n				\n					\n	« All Events\n 				\n				\n					\n				\n				\n						\n					\n			\n						\n				\n					This event has passed. \n				\n				\n					\n		\n					\n		\n		\n					\n		\n				\n				\n					\n	\n				\n				\n				\n				\n					\n	\n		\n\n	\n	Add to calendar	\n		\n	\n\n		\n			\n									\n	Google Calendar\n\n									\n	iCalendar\n\n									\n	Outlook 365\n\n									\n	Outlook Live\n\n							\n		\n\n		\n	\n\n				\n				\n				\n		\n				\n				\n					\n	Christmas Eve Prelude Concert				\n				\n				\n				\n					\n		\n			December 24\n\n	\n\n	  @  \n\n\n8:30 pm\n\n		\n\n\n\n	\n	  -  \n\n9:00 pm\n\n\n\n	\n				\n				\n				\n				\n									Enjoy festive music prior to our Candlelight Worship Service at 9:00 p.m.   Can’t make it in person? Watch live here. 								\n				\n				\n				\n					\n				\n				\n	\n			\n		First Presbyterian Church of Stamford			\n	\n	\n	\n\n1101 Bedford Street\n	\n		\n		Stamford\,\n\n	CT\n\n	06905\n\n	United States\n\n\n\n\n	+ Google Map \n\n\n	\n					\n						\n	 \n\n\n	\n	 \n\n\n\n	\n\n\n\n		\n	\n				\n				\n				\n				\n							\n								\n						\n															\n															\n																				\n					\n									\n						\n															\n															\n																				\n					\n						\n						\n				\n				\n					\n				\n		\n					\n				\n				\n					\n	\n		\n\n				Christmas Eve Pageant	\n\n\n		\n	\n		Candlelight Worship Service
URL:https://fishchurch.org/event/christmas-eve-prelude-concert/
LOCATION:First Presbyterian Church of Stamford\, 1101 Bedford Street\, Stamford\, CT\, 06905\, United States
CATEGORIES:Christmas Holiday,Homepage
ATTACH;FMTTYPE=image/jpeg:https://fishchurch.org/wp-content/uploads/2025/11/Christmas-Concert.jpg
END:VEVENT
END:VCALENDAR