BEGIN:VCALENDAR
VERSION:2.0
PRODID:-//First Presbyterian Church - ECPv6.15.20//NONSGML v1.0//EN
CALSCALE:GREGORIAN
METHOD:PUBLISH
X-WR-CALNAME:First Presbyterian Church
X-ORIGINAL-URL:https://fishchurch.org
X-WR-CALDESC:Events for First Presbyterian Church
REFRESH-INTERVAL;VALUE=DURATION:PT1H
X-Robots-Tag:noindex
X-PUBLISHED-TTL:PT1H
BEGIN:VTIMEZONE
TZID:America/New_York
BEGIN:DAYLIGHT
TZOFFSETFROM:-0500
TZOFFSETTO:-0400
TZNAME:EDT
DTSTART:20250309T070000
END:DAYLIGHT
BEGIN:STANDARD
TZOFFSETFROM:-0400
TZOFFSETTO:-0500
TZNAME:EST
DTSTART:20251102T060000
END:STANDARD
BEGIN:DAYLIGHT
TZOFFSETFROM:-0500
TZOFFSETTO:-0400
TZNAME:EDT
DTSTART:20260308T070000
END:DAYLIGHT
BEGIN:STANDARD
TZOFFSETFROM:-0400
TZOFFSETTO:-0500
TZNAME:EST
DTSTART:20261101T060000
END:STANDARD
BEGIN:DAYLIGHT
TZOFFSETFROM:-0500
TZOFFSETTO:-0400
TZNAME:EDT
DTSTART:20270314T070000
END:DAYLIGHT
BEGIN:STANDARD
TZOFFSETFROM:-0400
TZOFFSETTO:-0500
TZNAME:EST
DTSTART:20271107T060000
END:STANDARD
END:VTIMEZONE
BEGIN:VEVENT
DTSTART;TZID=America/New_York:20260310T193000
DTEND;TZID=America/New_York:20260310T210000
DTSTAMP:20260420T024418
CREATED:20260305T030658Z
LAST-MODIFIED:20260305T031440Z
UID:2076-1773171000-1773176400@fishchurch.org
SUMMARY:Bystander Intervention Training to Support Immigrant Communities
DESCRIPTION:Home » Events » Bystander Intervention Training to Support Immigrant Communities 				\n				\n				\n				\n					\n	« All Events\n 				\n				\n					\n				\n				\n						\n					\n			\n						\n				\n					This event has passed. \n				\n				\n					\n		\n					\n		\n		\n					\n		\n				\n				\n					\n	\n				\n				\n				\n				\n					\n	\n		\n\n	\n	Add to calendar	\n		\n	\n\n		\n			\n									\n	Google Calendar\n\n									\n	iCalendar\n\n									\n	Outlook 365\n\n									\n	Outlook Live\n\n							\n		\n\n		\n	\n\n				\n				\n				\n		\n				\n				\n					\n	Bystander Intervention Training to Support Immigrant Communities				\n				\n				\n				\n					\n		\n			March 10\n\n	\n\n	  @  \n\n\n7:30 pm\n\n		\n\n\n\n	\n	  -  \n\n9:00 pm\n\n\n\n	\n				\n				\n				\n				\n									Click here to RSVP (Required)   Join us at First Presbyterian Church to become an active bystander and help build a more just world. Together\, we can create a culture of safety\, solidarity\, and dignity for immigrant communities.   Right To Be’s Bystander Intervention to Support Immigrant Communities Training equips participants with the knowledge to safely and effectively intervene when they witness anti-immigrant hate\, harassment\, or discrimination. Attendees will leave the training with tools\, resources\, and next steps to continue supporting immigrant rights including:   Recognizing the spectrum of anti-immigrant hate and harassment and its impact on communities.Learning and practicing the 5Ds of bystander intervention in different situations.Understanding how to legally and safely respond to ICE encounters without putting themselves or others at risk.Gaining confidence to stand up against discrimination in their workplaces\, schools\, and public spaces.  This training is encouraged for allies\, but everyone is welcome. If you are undocumented or at risk of being targeted by ICE\, we recommend also attending a Know Your Rights training and engaging in safety planning.   Attendees** must register to attend this event using the link above.   A suggested donation of $10\, payable at the event with a card\, check or cash is encouraged and will go to directly offset the cost of the training.   The event is in-person only. Streaming or recording of the training is prohibited.   **Individuals under 18 are welcome to participate.  Anyone under the age of 16 needs an adult present with them and both must register separately. 								\n				\n				\n				\n					\n				\n				\n	\n			\n		First Presbyterian Church of Stamford			\n	\n	\n	\n\n1101 Bedford Street\n	\n		\n		Stamford\,\n\n	CT\n\n	06905\n\n	United States\n\n\n\n\n	+ Google Map \n\n\n	\n					\n						\n	 \n\n\n	\n	 \n\n\n\n	\n\n\n\n		\n	\n				\n				\n				\n				\n							\n								\n						\n															\n															\n																				\n					\n									\n						\n															\n															\n																				\n					\n						\n						\n				\n				\n					\n				\n		\n					\n				\n				\n					\n	\n		\n\n				Screening of "A Piece of the Puzzle: Seven Inspiring Stories from Selma to Today"	\n\n\n		\n	\n		Steps to Recovery
URL:https://fishchurch.org/event/bystander-intervention-training-to-support-immigrant-communities/
LOCATION:First Presbyterian Church of Stamford\, 1101 Bedford Street\, Stamford\, CT\, 06905\, United States
CATEGORIES:Homepage
ATTACH;FMTTYPE=image/jpeg:https://fishchurch.org/wp-content/uploads/2026/03/Bystander-Intervention-Training-to-Support-Immigrant-Communities_Thumbnail.jpg
END:VEVENT
END:VCALENDAR